BEGIN:VCALENDAR
VERSION:2.0
PRODID:-//Options Solutions Educational Consultants - ECPv6.0.12//NONSGML v1.0//EN
CALSCALE:GREGORIAN
METHOD:PUBLISH
X-WR-CALNAME:Options Solutions Educational Consultants
X-ORIGINAL-URL:https://www.optionssolutionsed.com
X-WR-CALDESC:Events for Options Solutions Educational Consultants
REFRESH-INTERVAL;VALUE=DURATION:PT1H
X-Robots-Tag:noindex
X-PUBLISHED-TTL:PT1H
BEGIN:VTIMEZONE
TZID:America/Vancouver
BEGIN:DAYLIGHT
TZOFFSETFROM:-0800
TZOFFSETTO:-0700
TZNAME:PDT
DTSTART:20210314T100000
END:DAYLIGHT
BEGIN:STANDARD
TZOFFSETFROM:-0700
TZOFFSETTO:-0800
TZNAME:PST
DTSTART:20211107T090000
END:STANDARD
END:VTIMEZONE
BEGIN:VEVENT
DTSTART;TZID=America/Vancouver:20211218T090000
DTEND;TZID=America/Vancouver:20211218T120000
DTSTAMP:20260419T220419
CREATED:20210910T215502Z
LAST-MODIFIED:20211110T175700Z
UID:9253-1639818000-1639828800@www.optionssolutionsed.com
SUMMARY:Writing for Applications
DESCRIPTION:These sessions aim to help students complete the supplemental writing portions of their post-secondary and scholarship applications. \nWriting Workshop allows students to work on the written portions of their US\, UK\, and Canadian applications (and scholarship applications\,\ntoo!) in an oversighted and productive environment. Students are able to receive assistance in all parts of the writing process: brainstorming\, drafting\, editing and finalizing their work. We accommodate students working on a variety of projects all in the same session\, and our writing coaches work personally with students on their unique pieces. \n\nStudents should have handy their list of universities and programs they are applying to for this session.\nIf you are in person\, please bring a laptop. All students need a Google account to access Google Drive and Google Classroom.\nDue to COVID protocol\, please plan to wear a mask and bring your own water bottle\, snacks and writing utensils.\nWe strongly encourage all students to attend an Intro to Canadian Supplement Writing Workshop before attending a Supplement Writing Workshop.
URL:https://www.optionssolutionsed.com/calendar/writing-for-applications-3/2021-12-18/
LOCATION:South Granville Office\, 3195 Granville Street\, Suite 203\, Vancouver\, BC\, V6H 3K2\, Canada
ORGANIZER;CN="Options%20Solutions%20-%20South%20Granville":MAILTO:van@optionssolutionsed.com
END:VEVENT
BEGIN:VEVENT
DTSTART;TZID=America/Vancouver:20211122T170000
DTEND;TZID=America/Vancouver:20211122T200000
DTSTAMP:20260419T220419
CREATED:20210910T215502Z
LAST-MODIFIED:20210910T215502Z
UID:9544-1637600400-1637611200@www.optionssolutionsed.com
SUMMARY:Writing for Applications
DESCRIPTION:These sessions aim to help students complete the supplemental writing portions of their post-secondary and scholarship applications. \nWriting Workshop allows students to work on the written portions of their US\, UK\, and Canadian applications (and scholarship applications\,\ntoo!) in an oversighted and productive environment. Students are able to receive assistance in all parts of the writing process: brainstorming\, drafting\, editing and finalizing their work. We accommodate students working on a variety of projects all in the same session\, and our writing coaches work personally with students on their unique pieces. \n\nStudents should have handy their list of universities and programs they are applying to for this session.\nIf you are in person\, please bring a laptop. All students need a Google account to access Google Drive and Google Classroom.\nDue to COVID protocol\, please plan to wear a mask and bring your own water bottle\, snacks and writing utensils.\nWe strongly encourage all students to attend an Intro to Canadian Supplement Writing Workshop before attending a Supplement Writing Workshop.
URL:https://www.optionssolutionsed.com/calendar/writing-for-applications-3/2021-11-22/
LOCATION:South Granville Office\, 3195 Granville Street\, Suite 203\, Vancouver\, BC\, V6H 3K2\, Canada
ORGANIZER;CN="Options%20Solutions%20-%20South%20Granville":MAILTO:van@optionssolutionsed.com
END:VEVENT
BEGIN:VEVENT
DTSTART;TZID=America/Vancouver:20211120T090000
DTEND;TZID=America/Vancouver:20211120T120000
DTSTAMP:20260419T220419
CREATED:20210910T215502Z
LAST-MODIFIED:20211110T175700Z
UID:9252-1637398800-1637409600@www.optionssolutionsed.com
SUMMARY:Writing for Applications
DESCRIPTION:These sessions aim to help students complete the supplemental writing portions of their post-secondary and scholarship applications. \nWriting Workshop allows students to work on the written portions of their US\, UK\, and Canadian applications (and scholarship applications\,\ntoo!) in an oversighted and productive environment. Students are able to receive assistance in all parts of the writing process: brainstorming\, drafting\, editing and finalizing their work. We accommodate students working on a variety of projects all in the same session\, and our writing coaches work personally with students on their unique pieces. \n\nStudents should have handy their list of universities and programs they are applying to for this session.\nIf you are in person\, please bring a laptop. All students need a Google account to access Google Drive and Google Classroom.\nDue to COVID protocol\, please plan to wear a mask and bring your own water bottle\, snacks and writing utensils.\nWe strongly encourage all students to attend an Intro to Canadian Supplement Writing Workshop before attending a Supplement Writing Workshop.
URL:https://www.optionssolutionsed.com/calendar/writing-for-applications-3/2021-11-20/
LOCATION:South Granville Office\, 3195 Granville Street\, Suite 203\, Vancouver\, BC\, V6H 3K2\, Canada
ORGANIZER;CN="Options%20Solutions%20-%20South%20Granville":MAILTO:van@optionssolutionsed.com
END:VEVENT
BEGIN:VEVENT
DTSTART;TZID=America/Vancouver:20211009T090000
DTEND;TZID=America/Vancouver:20211009T120000
DTSTAMP:20260419T220419
CREATED:20210910T215502Z
LAST-MODIFIED:20211110T175700Z
UID:9250-1633770000-1633780800@www.optionssolutionsed.com
SUMMARY:Writing for Applications
DESCRIPTION:These sessions aim to help students complete the supplemental writing portions of their post-secondary and scholarship applications. \nWriting Workshop allows students to work on the written portions of their US\, UK\, and Canadian applications (and scholarship applications\,\ntoo!) in an oversighted and productive environment. Students are able to receive assistance in all parts of the writing process: brainstorming\, drafting\, editing and finalizing their work. We accommodate students working on a variety of projects all in the same session\, and our writing coaches work personally with students on their unique pieces. \n\nStudents should have handy their list of universities and programs they are applying to for this session.\nIf you are in person\, please bring a laptop. All students need a Google account to access Google Drive and Google Classroom.\nDue to COVID protocol\, please plan to wear a mask and bring your own water bottle\, snacks and writing utensils.\nWe strongly encourage all students to attend an Intro to Canadian Supplement Writing Workshop before attending a Supplement Writing Workshop.
URL:https://www.optionssolutionsed.com/calendar/writing-for-applications-3/2021-10-09/
LOCATION:South Granville Office\, 3195 Granville Street\, Suite 203\, Vancouver\, BC\, V6H 3K2\, Canada
ORGANIZER;CN="Options%20Solutions%20-%20South%20Granville":MAILTO:van@optionssolutionsed.com
END:VEVENT
END:VCALENDAR