BEGIN:VCALENDAR
VERSION:2.0
PRODID:-//Options Solutions Educational Consultants - ECPv6.0.12//NONSGML v1.0//EN
CALSCALE:GREGORIAN
METHOD:PUBLISH
X-WR-CALNAME:Options Solutions Educational Consultants
X-ORIGINAL-URL:https://www.optionssolutionsed.com
X-WR-CALDESC:Events for Options Solutions Educational Consultants
REFRESH-INTERVAL;VALUE=DURATION:PT1H
X-Robots-Tag:noindex
X-PUBLISHED-TTL:PT1H
BEGIN:VTIMEZONE
TZID:America/Vancouver
BEGIN:DAYLIGHT
TZOFFSETFROM:-0800
TZOFFSETTO:-0700
TZNAME:PDT
DTSTART:20200308T100000
END:DAYLIGHT
BEGIN:STANDARD
TZOFFSETFROM:-0700
TZOFFSETTO:-0800
TZNAME:PST
DTSTART:20201101T090000
END:STANDARD
END:VTIMEZONE
BEGIN:VEVENT
DTSTART;TZID=America/Vancouver:20200610T180000
DTEND;TZID=America/Vancouver:20200610T200000
DTSTAMP:20260421T052650
CREATED:20200204T201646Z
LAST-MODIFIED:20200328T222039Z
UID:5751-1591812000-1591819200@www.optionssolutionsed.com
SUMMARY:ACT/SAT Weekly Core Test Skills
DESCRIPTION:Core test skills classes at Options Solutions allow students to prepare for the ACT and/or SAT exam(s) while also building essential academic skills. Students develop their abilities as active readers\, learn fundamental grammar\, and increase their understanding of math fundamentals. Ongoing classes prepare students for the ACT and/or SAT by teaching test structure and test-taking strategy. At the same time\, students learn skills that translate into success at school in reading\, writing and math. \nWhy is test prep at Options different? \n  \nTest prep at Options is unique because it combines test preparation with teaching fundamental academic skills. With many years of experience\, Options teachers ensure that students understand the higher-level reading\, writing and math skills that will prepare them for the ACT and/or SAT\, but will also help them succeed in high school and beyond. Students receive a strong grounding in how the test works and strategies for attaining a high score\, combined with an opportunity to increase their overall academic performance. Students can attend each session or pick and choose the sessions they need. Content is unique for each session and is never repeated.
URL:https://www.optionssolutionsed.com/calendar/weekly-core-test-skills/2020-06-10/
LOCATION:West Vancouver Office\, 1549 Marine Drive\, Suite 303\, West Vancouver\, BC\, V7V 1H9\, Canada
CATEGORIES:ACT prep,workshop
END:VEVENT
BEGIN:VEVENT
DTSTART;TZID=America/Vancouver:20200603T180000
DTEND;TZID=America/Vancouver:20200603T200000
DTSTAMP:20260421T052651
CREATED:20200204T201646Z
LAST-MODIFIED:20200328T222038Z
UID:5750-1591207200-1591214400@www.optionssolutionsed.com
SUMMARY:ACT/SAT Weekly Core Test Skills
DESCRIPTION:Core test skills classes at Options Solutions allow students to prepare for the ACT and/or SAT exam(s) while also building essential academic skills. Students develop their abilities as active readers\, learn fundamental grammar\, and increase their understanding of math fundamentals. Ongoing classes prepare students for the ACT and/or SAT by teaching test structure and test-taking strategy. At the same time\, students learn skills that translate into success at school in reading\, writing and math. \nWhy is test prep at Options different? \n  \nTest prep at Options is unique because it combines test preparation with teaching fundamental academic skills. With many years of experience\, Options teachers ensure that students understand the higher-level reading\, writing and math skills that will prepare them for the ACT and/or SAT\, but will also help them succeed in high school and beyond. Students receive a strong grounding in how the test works and strategies for attaining a high score\, combined with an opportunity to increase their overall academic performance. Students can attend each session or pick and choose the sessions they need. Content is unique for each session and is never repeated.
URL:https://www.optionssolutionsed.com/calendar/weekly-core-test-skills/2020-06-03/
LOCATION:West Vancouver Office\, 1549 Marine Drive\, Suite 303\, West Vancouver\, BC\, V7V 1H9\, Canada
CATEGORIES:ACT prep,workshop
END:VEVENT
BEGIN:VEVENT
DTSTART;TZID=America/Vancouver:20200527T180000
DTEND;TZID=America/Vancouver:20200527T200000
DTSTAMP:20260421T052651
CREATED:20200204T201646Z
LAST-MODIFIED:20200328T222038Z
UID:5749-1590602400-1590609600@www.optionssolutionsed.com
SUMMARY:ACT/SAT Weekly Core Test Skills
DESCRIPTION:Core test skills classes at Options Solutions allow students to prepare for the ACT and/or SAT exam(s) while also building essential academic skills. Students develop their abilities as active readers\, learn fundamental grammar\, and increase their understanding of math fundamentals. Ongoing classes prepare students for the ACT and/or SAT by teaching test structure and test-taking strategy. At the same time\, students learn skills that translate into success at school in reading\, writing and math. \nWhy is test prep at Options different? \n  \nTest prep at Options is unique because it combines test preparation with teaching fundamental academic skills. With many years of experience\, Options teachers ensure that students understand the higher-level reading\, writing and math skills that will prepare them for the ACT and/or SAT\, but will also help them succeed in high school and beyond. Students receive a strong grounding in how the test works and strategies for attaining a high score\, combined with an opportunity to increase their overall academic performance. Students can attend each session or pick and choose the sessions they need. Content is unique for each session and is never repeated.
URL:https://www.optionssolutionsed.com/calendar/weekly-core-test-skills/2020-05-27/
LOCATION:West Vancouver Office\, 1549 Marine Drive\, Suite 303\, West Vancouver\, BC\, V7V 1H9\, Canada
CATEGORIES:ACT prep,workshop
END:VEVENT
BEGIN:VEVENT
DTSTART;TZID=America/Vancouver:20200520T180000
DTEND;TZID=America/Vancouver:20200520T200000
DTSTAMP:20260421T052651
CREATED:20200204T201646Z
LAST-MODIFIED:20200328T222038Z
UID:5748-1589997600-1590004800@www.optionssolutionsed.com
SUMMARY:ACT/SAT Weekly Core Test Skills
DESCRIPTION:Core test skills classes at Options Solutions allow students to prepare for the ACT and/or SAT exam(s) while also building essential academic skills. Students develop their abilities as active readers\, learn fundamental grammar\, and increase their understanding of math fundamentals. Ongoing classes prepare students for the ACT and/or SAT by teaching test structure and test-taking strategy. At the same time\, students learn skills that translate into success at school in reading\, writing and math. \nWhy is test prep at Options different? \n  \nTest prep at Options is unique because it combines test preparation with teaching fundamental academic skills. With many years of experience\, Options teachers ensure that students understand the higher-level reading\, writing and math skills that will prepare them for the ACT and/or SAT\, but will also help them succeed in high school and beyond. Students receive a strong grounding in how the test works and strategies for attaining a high score\, combined with an opportunity to increase their overall academic performance. Students can attend each session or pick and choose the sessions they need. Content is unique for each session and is never repeated.
URL:https://www.optionssolutionsed.com/calendar/weekly-core-test-skills/2020-05-20/
LOCATION:West Vancouver Office\, 1549 Marine Drive\, Suite 303\, West Vancouver\, BC\, V7V 1H9\, Canada
CATEGORIES:ACT prep,workshop
END:VEVENT
BEGIN:VEVENT
DTSTART;TZID=America/Vancouver:20200513T180000
DTEND;TZID=America/Vancouver:20200513T200000
DTSTAMP:20260421T052651
CREATED:20200204T201646Z
LAST-MODIFIED:20200328T222038Z
UID:5747-1589392800-1589400000@www.optionssolutionsed.com
SUMMARY:ACT/SAT Weekly Core Test Skills
DESCRIPTION:Core test skills classes at Options Solutions allow students to prepare for the ACT and/or SAT exam(s) while also building essential academic skills. Students develop their abilities as active readers\, learn fundamental grammar\, and increase their understanding of math fundamentals. Ongoing classes prepare students for the ACT and/or SAT by teaching test structure and test-taking strategy. At the same time\, students learn skills that translate into success at school in reading\, writing and math. \nWhy is test prep at Options different? \n  \nTest prep at Options is unique because it combines test preparation with teaching fundamental academic skills. With many years of experience\, Options teachers ensure that students understand the higher-level reading\, writing and math skills that will prepare them for the ACT and/or SAT\, but will also help them succeed in high school and beyond. Students receive a strong grounding in how the test works and strategies for attaining a high score\, combined with an opportunity to increase their overall academic performance. Students can attend each session or pick and choose the sessions they need. Content is unique for each session and is never repeated.
URL:https://www.optionssolutionsed.com/calendar/weekly-core-test-skills/2020-05-13/
LOCATION:West Vancouver Office\, 1549 Marine Drive\, Suite 303\, West Vancouver\, BC\, V7V 1H9\, Canada
CATEGORIES:ACT prep,workshop
END:VEVENT
BEGIN:VEVENT
DTSTART;TZID=America/Vancouver:20200506T180000
DTEND;TZID=America/Vancouver:20200506T200000
DTSTAMP:20260421T052651
CREATED:20200204T201646Z
LAST-MODIFIED:20200328T215551Z
UID:5746-1588788000-1588795200@www.optionssolutionsed.com
SUMMARY:ACT/SAT Weekly Core Test Skills
DESCRIPTION:Core test skills classes at Options Solutions allow students to prepare for the ACT and/or SAT exam(s) while also building essential academic skills. Students develop their abilities as active readers\, learn fundamental grammar\, and increase their understanding of math fundamentals. Ongoing classes prepare students for the ACT and/or SAT by teaching test structure and test-taking strategy. At the same time\, students learn skills that translate into success at school in reading\, writing and math. \nWhy is test prep at Options different? \n  \nTest prep at Options is unique because it combines test preparation with teaching fundamental academic skills. With many years of experience\, Options teachers ensure that students understand the higher-level reading\, writing and math skills that will prepare them for the ACT and/or SAT\, but will also help them succeed in high school and beyond. Students receive a strong grounding in how the test works and strategies for attaining a high score\, combined with an opportunity to increase their overall academic performance. Students can attend each session or pick and choose the sessions they need. Content is unique for each session and is never repeated.
URL:https://www.optionssolutionsed.com/calendar/weekly-core-test-skills/2020-05-06/
LOCATION:West Vancouver Office\, 1549 Marine Drive\, Suite 303\, West Vancouver\, BC\, V7V 1H9\, Canada
CATEGORIES:ACT prep,workshop
END:VEVENT
BEGIN:VEVENT
DTSTART;TZID=America/Vancouver:20200429T180000
DTEND;TZID=America/Vancouver:20200429T200000
DTSTAMP:20260421T052651
CREATED:20200204T201646Z
LAST-MODIFIED:20200328T215551Z
UID:5745-1588183200-1588190400@www.optionssolutionsed.com
SUMMARY:ACT/SAT Weekly Core Test Skills
DESCRIPTION:Core test skills classes at Options Solutions allow students to prepare for the ACT and/or SAT exam(s) while also building essential academic skills. Students develop their abilities as active readers\, learn fundamental grammar\, and increase their understanding of math fundamentals. Ongoing classes prepare students for the ACT and/or SAT by teaching test structure and test-taking strategy. At the same time\, students learn skills that translate into success at school in reading\, writing and math. \nWhy is test prep at Options different? \n  \nTest prep at Options is unique because it combines test preparation with teaching fundamental academic skills. With many years of experience\, Options teachers ensure that students understand the higher-level reading\, writing and math skills that will prepare them for the ACT and/or SAT\, but will also help them succeed in high school and beyond. Students receive a strong grounding in how the test works and strategies for attaining a high score\, combined with an opportunity to increase their overall academic performance. Students can attend each session or pick and choose the sessions they need. Content is unique for each session and is never repeated.
URL:https://www.optionssolutionsed.com/calendar/weekly-core-test-skills/2020-04-29/
LOCATION:West Vancouver Office\, 1549 Marine Drive\, Suite 303\, West Vancouver\, BC\, V7V 1H9\, Canada
CATEGORIES:ACT prep,workshop
END:VEVENT
BEGIN:VEVENT
DTSTART;TZID=America/Vancouver:20200422T180000
DTEND;TZID=America/Vancouver:20200422T200000
DTSTAMP:20260421T052651
CREATED:20200204T201646Z
LAST-MODIFIED:20200328T215551Z
UID:5744-1587578400-1587585600@www.optionssolutionsed.com
SUMMARY:ACT/SAT Weekly Core Test Skills
DESCRIPTION:Core test skills classes at Options Solutions allow students to prepare for the ACT and/or SAT exam(s) while also building essential academic skills. Students develop their abilities as active readers\, learn fundamental grammar\, and increase their understanding of math fundamentals. Ongoing classes prepare students for the ACT and/or SAT by teaching test structure and test-taking strategy. At the same time\, students learn skills that translate into success at school in reading\, writing and math. \nWhy is test prep at Options different? \n  \nTest prep at Options is unique because it combines test preparation with teaching fundamental academic skills. With many years of experience\, Options teachers ensure that students understand the higher-level reading\, writing and math skills that will prepare them for the ACT and/or SAT\, but will also help them succeed in high school and beyond. Students receive a strong grounding in how the test works and strategies for attaining a high score\, combined with an opportunity to increase their overall academic performance. Students can attend each session or pick and choose the sessions they need. Content is unique for each session and is never repeated.
URL:https://www.optionssolutionsed.com/calendar/weekly-core-test-skills/2020-04-22/
LOCATION:West Vancouver Office\, 1549 Marine Drive\, Suite 303\, West Vancouver\, BC\, V7V 1H9\, Canada
CATEGORIES:ACT prep,workshop
END:VEVENT
BEGIN:VEVENT
DTSTART;TZID=America/Vancouver:20200205T180000
DTEND;TZID=America/Vancouver:20200205T200000
DTSTAMP:20260421T052651
CREATED:20200204T201646Z
LAST-MODIFIED:20200328T215609Z
UID:5020-1580925600-1580932800@www.optionssolutionsed.com
SUMMARY:ACT/SAT Weekly Core Test Skills
DESCRIPTION:Core test skills classes at Options Solutions allow students to prepare for the ACT and/or SAT exam(s) while also building essential academic skills. Students develop their abilities as active readers\, learn fundamental grammar\, and increase their understanding of math fundamentals. Ongoing classes prepare students for the ACT and/or SAT by teaching test structure and test-taking strategy. At the same time\, students learn skills that translate into success at school in reading\, writing and math. \nWhy is test prep at Options different? \n  \nTest prep at Options is unique because it combines test preparation with teaching fundamental academic skills. With many years of experience\, Options teachers ensure that students understand the higher-level reading\, writing and math skills that will prepare them for the ACT and/or SAT\, but will also help them succeed in high school and beyond. Students receive a strong grounding in how the test works and strategies for attaining a high score\, combined with an opportunity to increase their overall academic performance. Students can attend each session or pick and choose the sessions they need. Content is unique for each session and is never repeated.
URL:https://www.optionssolutionsed.com/calendar/weekly-core-test-skills/2020-02-05/
LOCATION:West Vancouver Office\, 1549 Marine Drive\, Suite 303\, West Vancouver\, BC\, V7V 1H9\, Canada
CATEGORIES:ACT prep,workshop
END:VEVENT
END:VCALENDAR