BEGIN:VCALENDAR
VERSION:2.0
PRODID:-//Options Solutions Educational Consultants - ECPv6.0.12//NONSGML v1.0//EN
CALSCALE:GREGORIAN
METHOD:PUBLISH
X-ORIGINAL-URL:https://www.optionssolutionsed.com
X-WR-CALDESC:Events for Options Solutions Educational Consultants
REFRESH-INTERVAL;VALUE=DURATION:PT1H
X-Robots-Tag:noindex
X-PUBLISHED-TTL:PT1H
BEGIN:VTIMEZONE
TZID:America/Vancouver
BEGIN:DAYLIGHT
TZOFFSETFROM:-0800
TZOFFSETTO:-0700
TZNAME:PDT
DTSTART:20210314T100000
END:DAYLIGHT
BEGIN:STANDARD
TZOFFSETFROM:-0700
TZOFFSETTO:-0800
TZNAME:PST
DTSTART:20211107T090000
END:STANDARD
END:VTIMEZONE
BEGIN:VEVENT
DTSTART;TZID=America/Vancouver:20210726T090000
DTEND;TZID=America/Vancouver:20210726T120000
DTSTAMP:20260424T184807
CREATED:20210519T225851Z
LAST-MODIFIED:20210519T225851Z
UID:8862-1627290000-1627300800@www.optionssolutionsed.com
SUMMARY:Pre-Calculus 12 Bootcamp
DESCRIPTION:The Pre-Calculus 12 boot camp is a one-week course introducing the concepts of Pre-Calculus 12 and is intended for incoming math 12 students. The Pre-Calculus 12 boot camp addresses all the Ministry Prescribed Learning Outcomes for Pre-Calculus 12. The course is\npreparatory and not for credit. Materials provided during the session\, including course notes\, assignments\, homework\, and a final exam\, will function as resources for students during the week\, as well as resources students can use during the school year. To get the maximum benefit from this course\, it is recommended that students study at least one hour outside of class for every hour spent in class.
URL:https://www.optionssolutionsed.com/calendar/pre-calculus-12-bootcamp/2021-07-26/
LOCATION:Virtual Format\, Online
ORGANIZER;CN="Options%20Solutions":MAILTO:info@optionssolutionsed.com
END:VEVENT
BEGIN:VEVENT
DTSTART;TZID=America/Vancouver:20210726T130000
DTEND;TZID=America/Vancouver:20210726T160000
DTSTAMP:20260424T184807
CREATED:20210114T213854Z
LAST-MODIFIED:20210114T213854Z
UID:8448-1627304400-1627315200@www.optionssolutionsed.com
SUMMARY:Mastering the Essay Bootcamp (Gr. 10-12)
DESCRIPTION:Want to brush up on your reading and writing skills over spring break? Options Solutions wants to help! \nThis interactive\, fast-paced workshop is aimed at providing students with the theory and practice to succeed in their English studies at the grade 10 to 12 level. It will give students the skills and confidence they need to succeed\, making their future English courses easier and more enjoyable. \nFurthermore\, the active reading\, planning\, and essay writing skills are a great way to prepare for the Graduate Literacy Assessment (GLA)\, a new provincial exam for students in grades 10 and 12. \n  \nTopics will include: \n\nActive reading\nSynthesis essays\nArgumentative essays\nNarrative essays\n\nWhat do our students have to say?\n“I enjoyed that the instructors provided valuable feedback on my essays and they answered all the questions I had. I also enjoyed practicing writing specific types of essays.”
URL:https://www.optionssolutionsed.com/calendar/mastering-the-essay-bootcamp-gr-10-12/2021-07-26/
LOCATION:Virtual Format\, Online
CATEGORIES:english workshop,workshop
ORGANIZER;CN="Options%20Solutions":MAILTO:info@optionssolutionsed.com
END:VEVENT
BEGIN:VEVENT
DTSTART;TZID=America/Vancouver:20210727T090000
DTEND;TZID=America/Vancouver:20210727T120000
DTSTAMP:20260424T184807
CREATED:20200413T195257Z
LAST-MODIFIED:20200413T195257Z
UID:8466-1627376400-1627387200@www.optionssolutionsed.com
SUMMARY:English 101 Workshop
DESCRIPTION:These weekly two-hour workshops are designed to give students in grades 9-11 ongoing English and writing support\, so they don’t lose their momentum due to online learning. Students will learn essential skills to improve their writing and build on these fundamentals each week to become more confident and better equipped to deal with any writing task they may encounter throughout high school and ensure they don’t backslide. Materials will be provided. \nThis course will cover: \n\nActive reading and annotations\nPlanning and outlining\nEssay organization\nAnalytical essay writing\nSynthesis essay writing\nResearch essay writing\nWriting creatively\nEditing\n\nEach student will leave with a better understanding of different essay writing genres and expectations. Students are encouraged to join all days of each session.
URL:https://www.optionssolutionsed.com/calendar/english-101-workshop/2021-07-27/
LOCATION:Virtual Format\, Online
CATEGORIES:english workshop,workshop
ORGANIZER;CN="Options%20Solutions":MAILTO:info@optionssolutionsed.com
END:VEVENT
BEGIN:VEVENT
DTSTART;TZID=America/Vancouver:20210727T090000
DTEND;TZID=America/Vancouver:20210727T120000
DTSTAMP:20260424T184807
CREATED:20210519T225851Z
LAST-MODIFIED:20210519T225851Z
UID:8864-1627376400-1627387200@www.optionssolutionsed.com
SUMMARY:Pre-Calculus 12 Bootcamp
DESCRIPTION:The Pre-Calculus 12 boot camp is a one-week course introducing the concepts of Pre-Calculus 12 and is intended for incoming math 12 students. The Pre-Calculus 12 boot camp addresses all the Ministry Prescribed Learning Outcomes for Pre-Calculus 12. The course is\npreparatory and not for credit. Materials provided during the session\, including course notes\, assignments\, homework\, and a final exam\, will function as resources for students during the week\, as well as resources students can use during the school year. To get the maximum benefit from this course\, it is recommended that students study at least one hour outside of class for every hour spent in class.
URL:https://www.optionssolutionsed.com/calendar/pre-calculus-12-bootcamp/2021-07-27/
LOCATION:Virtual Format\, Online
ORGANIZER;CN="Options%20Solutions":MAILTO:info@optionssolutionsed.com
END:VEVENT
BEGIN:VEVENT
DTSTART;TZID=America/Vancouver:20210727T130000
DTEND;TZID=America/Vancouver:20210727T160000
DTSTAMP:20260424T184807
CREATED:20210114T213854Z
LAST-MODIFIED:20210114T213854Z
UID:8449-1627390800-1627401600@www.optionssolutionsed.com
SUMMARY:Mastering the Essay Bootcamp (Gr. 10-12)
DESCRIPTION:Want to brush up on your reading and writing skills over spring break? Options Solutions wants to help! \nThis interactive\, fast-paced workshop is aimed at providing students with the theory and practice to succeed in their English studies at the grade 10 to 12 level. It will give students the skills and confidence they need to succeed\, making their future English courses easier and more enjoyable. \nFurthermore\, the active reading\, planning\, and essay writing skills are a great way to prepare for the Graduate Literacy Assessment (GLA)\, a new provincial exam for students in grades 10 and 12. \n  \nTopics will include: \n\nActive reading\nSynthesis essays\nArgumentative essays\nNarrative essays\n\nWhat do our students have to say?\n“I enjoyed that the instructors provided valuable feedback on my essays and they answered all the questions I had. I also enjoyed practicing writing specific types of essays.”
URL:https://www.optionssolutionsed.com/calendar/mastering-the-essay-bootcamp-gr-10-12/2021-07-27/
LOCATION:Virtual Format\, Online
CATEGORIES:english workshop,workshop
ORGANIZER;CN="Options%20Solutions":MAILTO:info@optionssolutionsed.com
END:VEVENT
BEGIN:VEVENT
DTSTART;TZID=America/Vancouver:20210728T090000
DTEND;TZID=America/Vancouver:20210728T110000
DTSTAMP:20260424T184807
CREATED:20210519T175500Z
LAST-MODIFIED:20210519T175500Z
UID:8716-1627462800-1627470000@www.optionssolutionsed.com
SUMMARY:Intro to University Level Writing
DESCRIPTION:Grade 12 students heading to post-secondary programs in the social sciences\, humanities\, arts\, sciences\, and business will be expected to have the skills necessary to write at the university level next year. \nThis course prepares students bound for post-secondary for the challenges of writing for different disciplines at the university level. It discusses strategies for successful research\, critical thinking\, and writing while giving students a chance to practice these skills and receive individualized feedback. Materials will be provided.
URL:https://www.optionssolutionsed.com/calendar/intro-to-university-level-writing-2/2021-07-28/
LOCATION:Virtual Format\, Online
ORGANIZER;CN="Options%20Solutions":MAILTO:info@optionssolutionsed.com
END:VEVENT
BEGIN:VEVENT
DTSTART;TZID=America/Vancouver:20210728T090000
DTEND;TZID=America/Vancouver:20210728T120000
DTSTAMP:20260424T184807
CREATED:20210519T225851Z
LAST-MODIFIED:20210519T225851Z
UID:8865-1627462800-1627473600@www.optionssolutionsed.com
SUMMARY:Pre-Calculus 12 Bootcamp
DESCRIPTION:The Pre-Calculus 12 boot camp is a one-week course introducing the concepts of Pre-Calculus 12 and is intended for incoming math 12 students. The Pre-Calculus 12 boot camp addresses all the Ministry Prescribed Learning Outcomes for Pre-Calculus 12. The course is\npreparatory and not for credit. Materials provided during the session\, including course notes\, assignments\, homework\, and a final exam\, will function as resources for students during the week\, as well as resources students can use during the school year. To get the maximum benefit from this course\, it is recommended that students study at least one hour outside of class for every hour spent in class.
URL:https://www.optionssolutionsed.com/calendar/pre-calculus-12-bootcamp/2021-07-28/
LOCATION:Virtual Format\, Online
ORGANIZER;CN="Options%20Solutions":MAILTO:info@optionssolutionsed.com
END:VEVENT
BEGIN:VEVENT
DTSTART;TZID=America/Vancouver:20210728T130000
DTEND;TZID=America/Vancouver:20210728T160000
DTSTAMP:20260424T184807
CREATED:20210114T213854Z
LAST-MODIFIED:20210114T213854Z
UID:8450-1627477200-1627488000@www.optionssolutionsed.com
SUMMARY:Mastering the Essay Bootcamp (Gr. 10-12)
DESCRIPTION:Want to brush up on your reading and writing skills over spring break? Options Solutions wants to help! \nThis interactive\, fast-paced workshop is aimed at providing students with the theory and practice to succeed in their English studies at the grade 10 to 12 level. It will give students the skills and confidence they need to succeed\, making their future English courses easier and more enjoyable. \nFurthermore\, the active reading\, planning\, and essay writing skills are a great way to prepare for the Graduate Literacy Assessment (GLA)\, a new provincial exam for students in grades 10 and 12. \n  \nTopics will include: \n\nActive reading\nSynthesis essays\nArgumentative essays\nNarrative essays\n\nWhat do our students have to say?\n“I enjoyed that the instructors provided valuable feedback on my essays and they answered all the questions I had. I also enjoyed practicing writing specific types of essays.”
URL:https://www.optionssolutionsed.com/calendar/mastering-the-essay-bootcamp-gr-10-12/2021-07-28/
LOCATION:Virtual Format\, Online
CATEGORIES:english workshop,workshop
ORGANIZER;CN="Options%20Solutions":MAILTO:info@optionssolutionsed.com
END:VEVENT
BEGIN:VEVENT
DTSTART;TZID=America/Vancouver:20210729T090000
DTEND;TZID=America/Vancouver:20210729T120000
DTSTAMP:20260424T184807
CREATED:20210519T225851Z
LAST-MODIFIED:20210519T225851Z
UID:8866-1627549200-1627560000@www.optionssolutionsed.com
SUMMARY:Pre-Calculus 12 Bootcamp
DESCRIPTION:The Pre-Calculus 12 boot camp is a one-week course introducing the concepts of Pre-Calculus 12 and is intended for incoming math 12 students. The Pre-Calculus 12 boot camp addresses all the Ministry Prescribed Learning Outcomes for Pre-Calculus 12. The course is\npreparatory and not for credit. Materials provided during the session\, including course notes\, assignments\, homework\, and a final exam\, will function as resources for students during the week\, as well as resources students can use during the school year. To get the maximum benefit from this course\, it is recommended that students study at least one hour outside of class for every hour spent in class.
URL:https://www.optionssolutionsed.com/calendar/pre-calculus-12-bootcamp/2021-07-29/
LOCATION:Virtual Format\, Online
ORGANIZER;CN="Options%20Solutions":MAILTO:info@optionssolutionsed.com
END:VEVENT
BEGIN:VEVENT
DTSTART;TZID=America/Vancouver:20210730T090000
DTEND;TZID=America/Vancouver:20210730T120000
DTSTAMP:20260424T184807
CREATED:20210519T225851Z
LAST-MODIFIED:20210519T225851Z
UID:8867-1627635600-1627646400@www.optionssolutionsed.com
SUMMARY:Pre-Calculus 12 Bootcamp
DESCRIPTION:The Pre-Calculus 12 boot camp is a one-week course introducing the concepts of Pre-Calculus 12 and is intended for incoming math 12 students. The Pre-Calculus 12 boot camp addresses all the Ministry Prescribed Learning Outcomes for Pre-Calculus 12. The course is\npreparatory and not for credit. Materials provided during the session\, including course notes\, assignments\, homework\, and a final exam\, will function as resources for students during the week\, as well as resources students can use during the school year. To get the maximum benefit from this course\, it is recommended that students study at least one hour outside of class for every hour spent in class.
URL:https://www.optionssolutionsed.com/calendar/pre-calculus-12-bootcamp/2021-07-30/
LOCATION:Virtual Format\, Online
ORGANIZER;CN="Options%20Solutions":MAILTO:info@optionssolutionsed.com
END:VEVENT
END:VCALENDAR