BEGIN:VCALENDAR
VERSION:2.0
PRODID:-//Options Solutions Educational Consultants - ECPv6.0.12//NONSGML v1.0//EN
CALSCALE:GREGORIAN
METHOD:PUBLISH
X-WR-CALNAME:Options Solutions Educational Consultants
X-ORIGINAL-URL:https://www.optionssolutionsed.com
X-WR-CALDESC:Events for Options Solutions Educational Consultants
REFRESH-INTERVAL;VALUE=DURATION:PT1H
X-Robots-Tag:noindex
X-PUBLISHED-TTL:PT1H
BEGIN:VTIMEZONE
TZID:America/Vancouver
BEGIN:DAYLIGHT
TZOFFSETFROM:-0800
TZOFFSETTO:-0700
TZNAME:PDT
DTSTART:20210314T100000
END:DAYLIGHT
BEGIN:STANDARD
TZOFFSETFROM:-0700
TZOFFSETTO:-0800
TZNAME:PST
DTSTART:20211107T090000
END:STANDARD
END:VTIMEZONE
BEGIN:VEVENT
DTSTART;TZID=America/Vancouver:20210519T180000
DTEND;TZID=America/Vancouver:20210519T200000
DTSTAMP:20260425T051145
CREATED:20210114T212643Z
LAST-MODIFIED:20210114T212643Z
UID:8054-1621447200-1621454400@www.optionssolutionsed.com
SUMMARY:ACT/SAT Weekly Prep Sessions
DESCRIPTION:On-going classes prepare students for the ACT and/or SAT by teaching test structure and test-taking strategy. At the same time\, students learn skills that translate into success at school in reading and writing. Students can attend each session or pick and choose the sessions they need. Content is unique for each session and is never repeated. \n  \nHow is test prep at Options different?\nTest prep at Options is unique because it combines test preparation with the teaching of fundamental academic skills. With many years of experience\, Options instructors ensure that students understand the higher-level reading\, writing and math skills that will prepare them for the ACT and SAT\, but will also help them succeed in high school and beyond. Options doesn’t just teach “test-taking tricks” like other test prep organizations. Instead\, students receive a strong grounding in how the test works and strategies for attaining a high score\, combined with an opportunity to increase their overall academic performance. \n  \n*All workshops will be held virtually online via GoToMeeting on Wednesday evenings from 6 pm to 8 pm
URL:https://www.optionssolutionsed.com/calendar/act-sat-weekly-prep-sessions/2021-05-19/
LOCATION:Virtual Format\, Online
CATEGORIES:ACT prep,standardized exam prep,workshop
ORGANIZER;CN="Options%20Solutions":MAILTO:info@optionssolutionsed.com
END:VEVENT
BEGIN:VEVENT
DTSTART;TZID=America/Vancouver:20210522T100000
DTEND;TZID=America/Vancouver:20210522T120000
DTSTAMP:20260425T051145
CREATED:20200427T194933Z
LAST-MODIFIED:20200427T194933Z
UID:8209-1621677600-1621684800@www.optionssolutionsed.com
SUMMARY:Intro to University Level Writing
DESCRIPTION:Grade 12 students heading to post-secondary programs in the social sciences\, humanities\, arts\, sciences\, and business will be expected to have the skills necessary to write at the university level next year. However\, the quarter-system and other alternative school schedules have made it difficult for students to develop and hone these skills. \nThis course prepares students bound for post-secondary for the challenges of writing for different disciplines at the university level. It discusses strategies for successful research\, critical thinking\, and writing while giving students a chance to practice these skills and receive individualized feedback. Materials will be provided. \nWhat do students have to say?\n“I liked that the instructor provided good examples for us to fully understand what was expected of us and that there was the perfect balance of freedom to pick a topic but enough structure to help actually get started.” \n**The session will be interactive and dynamic. Students are encouraged to attendall sessions as each day will build on the next.
URL:https://www.optionssolutionsed.com/calendar/intro-to-university-level-writing/2021-05-22/
LOCATION:Virtual Format\, Online
CATEGORIES:english workshop,workshop
ORGANIZER;CN="Options%20Solutions":MAILTO:info@optionssolutionsed.com
END:VEVENT
END:VCALENDAR