BEGIN:VCALENDAR
VERSION:2.0
PRODID:-//Options Solutions Educational Consultants - ECPv6.0.12//NONSGML v1.0//EN
CALSCALE:GREGORIAN
METHOD:PUBLISH
X-ORIGINAL-URL:https://www.optionssolutionsed.com
X-WR-CALDESC:Events for Options Solutions Educational Consultants
REFRESH-INTERVAL;VALUE=DURATION:PT1H
X-Robots-Tag:noindex
X-PUBLISHED-TTL:PT1H
BEGIN:VTIMEZONE
TZID:America/Vancouver
BEGIN:DAYLIGHT
TZOFFSETFROM:-0800
TZOFFSETTO:-0700
TZNAME:PDT
DTSTART:20210314T100000
END:DAYLIGHT
BEGIN:STANDARD
TZOFFSETFROM:-0700
TZOFFSETTO:-0800
TZNAME:PST
DTSTART:20211107T090000
END:STANDARD
END:VTIMEZONE
BEGIN:VEVENT
DTSTART;TZID=America/Vancouver:20210407T180000
DTEND;TZID=America/Vancouver:20210407T200000
DTSTAMP:20260425T111236
CREATED:20210114T212643Z
LAST-MODIFIED:20210114T212643Z
UID:8048-1617818400-1617825600@www.optionssolutionsed.com
SUMMARY:ACT/SAT Weekly Prep Sessions
DESCRIPTION:On-going classes prepare students for the ACT and/or SAT by teaching test structure and test-taking strategy. At the same time\, students learn skills that translate into success at school in reading and writing. Students can attend each session or pick and choose the sessions they need. Content is unique for each session and is never repeated. \n  \nHow is test prep at Options different?\nTest prep at Options is unique because it combines test preparation with the teaching of fundamental academic skills. With many years of experience\, Options instructors ensure that students understand the higher-level reading\, writing and math skills that will prepare them for the ACT and SAT\, but will also help them succeed in high school and beyond. Options doesn’t just teach “test-taking tricks” like other test prep organizations. Instead\, students receive a strong grounding in how the test works and strategies for attaining a high score\, combined with an opportunity to increase their overall academic performance. \n  \n*All workshops will be held virtually online via GoToMeeting on Wednesday evenings from 6 pm to 8 pm
URL:https://www.optionssolutionsed.com/calendar/act-sat-weekly-prep-sessions/2021-04-07/
LOCATION:Virtual Format\, Online
CATEGORIES:ACT prep,standardized exam prep,workshop
ORGANIZER;CN="Options%20Solutions":MAILTO:info@optionssolutionsed.com
END:VEVENT
BEGIN:VEVENT
DTSTART;TZID=America/Vancouver:20210409T160000
DTEND;TZID=America/Vancouver:20210409T190000
DTSTAMP:20260425T111236
CREATED:20200414T221750Z
LAST-MODIFIED:20210323T182104Z
UID:8270-1617984000-1617994800@www.optionssolutionsed.com
SUMMARY:ACT/SAT Mock Exams and Debriefs
DESCRIPTION:Join us for a 4-hour exam\, exam marking (including customized essay marking)\, and a 3-hour debrief. Each student is given a cover sheet to help them understand their successes and identify their areas needing improvement. In order to get an accurate estimate of a student’s abilities\, we use only officially released ACT and SAT exams. Taking practice tests helps students prepare for the stamina required on test day. \nWe recommend EVERYONE (even those who have completed a PSAT) take a practice exam for the ACT and/or SAT. This is the best way to get a baseline score early. \nDates: \nApr 4th – 10am – 2pm (Mock Exam) \nApr 9th – 4pm – 7pm (ACT Debrief) \nMar 7th – 10am – 2pm (Mock Exam) \nMar 12th – 4pm – 7pm (ACT Debrief) \nMay 16th – 10am – 2pm (Mock Exam) \nMay 20th – 5pm – 8pm (ACT Debrief
URL:https://www.optionssolutionsed.com/calendar/act-sat-mock-exams-and-debriefs/2021-04-09/
LOCATION:Virtual Format\, Online
CATEGORIES:ACT prep,standardized exam prep,workshop
ORGANIZER;CN="Options%20Solutions":MAILTO:info@optionssolutionsed.com
END:VEVENT
BEGIN:VEVENT
DTSTART;TZID=America/Vancouver:20210410T100000
DTEND;TZID=America/Vancouver:20210410T170000
DTSTAMP:20260425T111236
CREATED:20210225T204916Z
LAST-MODIFIED:20210225T204916Z
UID:8192-1618048800-1618074000@www.optionssolutionsed.com
SUMMARY:ACT/SAT Super Skills Weekend
DESCRIPTION:These weekend prep sessions are designed to deliver concentrated exam prep for the ACT and SAT. Each Saturday and Sunday is divided into two three-hour sessions\, one in the morning and one in the afternoon. Our Super Skills Weekend is situated before an official ACT or SAT test date and is meant to be a focused weekend of study. \nHow is test prep at Options different?\nTest prep at Options is unique because it combines test preparation with the teaching of fundamental academic skills. Options doesn’t just teach “test-taking tricks”. Instead\, students receive a strong grounding in how the test works and strategies for attaining a high score\, combined with an opportunity to increase their overall academic performance. \nWhat do our students have to say? \n“I really liked how we went step by step together as a class. To go along with that\, I found it really helpful when we did the practice problems together and really went in-depth on why the answer was either wrong or right.” \nDates (All workshops will be virtually online via GoToMeeting): \nSuper Skills Weekend before official April 17th ACT exam and May 8th and June 5th SAT exam \nSuper Skills Weekend before official June 12th ACT exam
URL:https://www.optionssolutionsed.com/calendar/act-sat-super-skills-weekend/2021-04-10/
LOCATION:Virtual Format\, Online
CATEGORIES:ACT prep,standardized exam prep,workshop
ORGANIZER;CN="Options%20Solutions":MAILTO:info@optionssolutionsed.com
END:VEVENT
BEGIN:VEVENT
DTSTART;TZID=America/Vancouver:20210411T100000
DTEND;TZID=America/Vancouver:20210411T170000
DTSTAMP:20260425T111236
CREATED:20210225T204916Z
LAST-MODIFIED:20210225T204916Z
UID:8194-1618135200-1618160400@www.optionssolutionsed.com
SUMMARY:ACT/SAT Super Skills Weekend
DESCRIPTION:These weekend prep sessions are designed to deliver concentrated exam prep for the ACT and SAT. Each Saturday and Sunday is divided into two three-hour sessions\, one in the morning and one in the afternoon. Our Super Skills Weekend is situated before an official ACT or SAT test date and is meant to be a focused weekend of study. \nHow is test prep at Options different?\nTest prep at Options is unique because it combines test preparation with the teaching of fundamental academic skills. Options doesn’t just teach “test-taking tricks”. Instead\, students receive a strong grounding in how the test works and strategies for attaining a high score\, combined with an opportunity to increase their overall academic performance. \nWhat do our students have to say? \n“I really liked how we went step by step together as a class. To go along with that\, I found it really helpful when we did the practice problems together and really went in-depth on why the answer was either wrong or right.” \nDates (All workshops will be virtually online via GoToMeeting): \nSuper Skills Weekend before official April 17th ACT exam and May 8th and June 5th SAT exam \nSuper Skills Weekend before official June 12th ACT exam
URL:https://www.optionssolutionsed.com/calendar/act-sat-super-skills-weekend/2021-04-11/
LOCATION:Virtual Format\, Online
CATEGORIES:ACT prep,standardized exam prep,workshop
ORGANIZER;CN="Options%20Solutions":MAILTO:info@optionssolutionsed.com
END:VEVENT
END:VCALENDAR