BEGIN:VCALENDAR
VERSION:2.0
PRODID:-//Options Solutions Educational Consultants - ECPv6.0.12//NONSGML v1.0//EN
CALSCALE:GREGORIAN
METHOD:PUBLISH
X-WR-CALNAME:Options Solutions Educational Consultants
X-ORIGINAL-URL:https://www.optionssolutionsed.com
X-WR-CALDESC:Events for Options Solutions Educational Consultants
REFRESH-INTERVAL;VALUE=DURATION:PT1H
X-Robots-Tag:noindex
X-PUBLISHED-TTL:PT1H
BEGIN:VTIMEZONE
TZID:America/Vancouver
BEGIN:DAYLIGHT
TZOFFSETFROM:-0800
TZOFFSETTO:-0700
TZNAME:PDT
DTSTART:20210314T100000
END:DAYLIGHT
BEGIN:STANDARD
TZOFFSETFROM:-0700
TZOFFSETTO:-0800
TZNAME:PST
DTSTART:20211107T090000
END:STANDARD
END:VTIMEZONE
BEGIN:VEVENT
DTSTART;TZID=America/Vancouver:20210112T173000
DTEND;TZID=America/Vancouver:20210112T203000
DTSTAMP:20260425T185530
CREATED:20200716T212352Z
LAST-MODIFIED:20210114T211706Z
UID:7569-1610472600-1610483400@www.optionssolutionsed.com
SUMMARY:Supplement Writing Workshop
DESCRIPTION:These sessions aim to help students complete the supplemental writing portions of their university and scholarship applications\, including essays\, personal statements\, activities summaries and resumes. \nWriting Workshop serves as an accessible introduction to university supplement writing\, and students will leave the sessions with an understanding of effective written language use. We accommodate students working on a variety of projects all in the same session\, and our writing coaches work personally with students on their unique pieces. \n\nStudents should have handy their list of universities and programs they are applying to for this session.\nWe strongly encourage all students to attend an Intro to Canadian Supplement Writing\nWorkshop before attending a Supplement Writing Workshop.
URL:https://www.optionssolutionsed.com/calendar/supplement-writing-workshop-4/2021-01-12/
LOCATION:Virtual Format\, Online
CATEGORIES:supplement writing workshop,workshop
ORGANIZER;CN="Options%20Solutions":MAILTO:info@optionssolutionsed.com
END:VEVENT
BEGIN:VEVENT
DTSTART;TZID=America/Vancouver:20210117T100000
DTEND;TZID=America/Vancouver:20210117T140000
DTSTAMP:20260425T185530
CREATED:20200414T221750Z
LAST-MODIFIED:20210323T182103Z
UID:7778-1610877600-1610892000@www.optionssolutionsed.com
SUMMARY:ACT/SAT Mock Exams and Debriefs
DESCRIPTION:Join us for a 4-hour exam\, exam marking (including customized essay marking)\, and a 3-hour debrief. Each student is given a cover sheet to help them understand their successes and identify their areas needing improvement. In order to get an accurate estimate of a student’s abilities\, we use only officially released ACT and SAT exams. Taking practice tests helps students prepare for the stamina required on test day. \nWe recommend EVERYONE (even those who have completed a PSAT) take a practice exam for the ACT and/or SAT. This is the best way to get a baseline score early. \nDates: \nApr 4th – 10am – 2pm (Mock Exam) \nApr 9th – 4pm – 7pm (ACT Debrief) \nMar 7th – 10am – 2pm (Mock Exam) \nMar 12th – 4pm – 7pm (ACT Debrief) \nMay 16th – 10am – 2pm (Mock Exam) \nMay 20th – 5pm – 8pm (ACT Debrief
URL:https://www.optionssolutionsed.com/calendar/act-sat-mock-exams-and-debriefs/2021-01-17/
LOCATION:Virtual Format\, Online
CATEGORIES:ACT prep,standardized exam prep,workshop
ORGANIZER;CN="Options%20Solutions":MAILTO:info@optionssolutionsed.com
END:VEVENT
END:VCALENDAR