BEGIN:VCALENDAR
VERSION:2.0
PRODID:-//Options Solutions Educational Consultants - ECPv6.0.12//NONSGML v1.0//EN
CALSCALE:GREGORIAN
METHOD:PUBLISH
X-WR-CALNAME:Options Solutions Educational Consultants
X-ORIGINAL-URL:https://www.optionssolutionsed.com
X-WR-CALDESC:Events for Options Solutions Educational Consultants
REFRESH-INTERVAL;VALUE=DURATION:PT1H
X-Robots-Tag:noindex
X-PUBLISHED-TTL:PT1H
BEGIN:VTIMEZONE
TZID:America/Vancouver
BEGIN:DAYLIGHT
TZOFFSETFROM:-0800
TZOFFSETTO:-0700
TZNAME:PDT
DTSTART:20200308T100000
END:DAYLIGHT
BEGIN:STANDARD
TZOFFSETFROM:-0700
TZOFFSETTO:-0800
TZNAME:PST
DTSTART:20201101T090000
END:STANDARD
END:VTIMEZONE
BEGIN:VEVENT
DTSTART;VALUE=DATE:20201007
DTEND;VALUE=DATE:20201008
DTSTAMP:20260420T185442
CREATED:20210910T225459Z
LAST-MODIFIED:20211112T221630Z
UID:7773-1602028800-1602115199@www.optionssolutionsed.com
SUMMARY:ACT/SAT Mock Exams and Debriefs
DESCRIPTION:Join us for a 4-hour exam\, exam marking (including customized essay marking)\, and a 3-hour debrief. Each student is given a cover sheet to help them understand their successes and identify their areas needing improvement. In order to get an accurate estimate of a student’s abilities\, we use only officially released ACT and SAT exams. Taking practice tests helps students prepare for the stamina required on test day. \nWe recommend EVERYONE (even those who have completed a PSAT) take a practice exam for the ACT and/or SAT. This is the best way to get a baseline score early. \nDates:\nOct 7 – Mock Exam emailed (returned by Oct 11 at 10am)\nOct 15\, 4pm-7pm – Debrief (ACT only) \nNov 18 – Mock Exam emailed (returned by Nov 22 at 10am)\nNov 26\, 4pm-7pm – Debrief (ACT only) \nJan 27 – Mock Exam emailed (returned by Jan 31 at 10am)\nFeb 3\, 5pm-8pm – SAT Debrief; Feb 4\, 4pm-7pm – ACT Debrief \nFeb 24 – Mock Exam emailed (returned by Feb 28 at 10am)\nMarch 4\, 4pm-7pm – Debrief (ACT only) \nMay 19 – Mock Exam emailed (returned by May 23 at 10am)\nMay 26\, 5pm-8pm – SAT Debrief; May May 27\, 4pm-7pm – ACT Debrief \nCost: \nACT or SAT mock exam and debrief: $250+ applicable taxes\, includes 4-hour exam\, exam marking and 3-hour debrief session. \nACT or SAT mock exam only: $150 + applicable taxes\, includes 4-hour exam\, exam marking.
URL:https://www.optionssolutionsed.com/calendar/act-sat-mock-exams-and-debriefs-2/2020-10-07/
LOCATION:Virtual Format\, Online
CATEGORIES:ACT prep
ORGANIZER;CN="Options%20Solutions":MAILTO:info@optionssolutionsed.com
END:VEVENT
BEGIN:VEVENT
DTSTART;TZID=America/Vancouver:20201010T100000
DTEND;TZID=America/Vancouver:20201010T130000
DTSTAMP:20260420T185442
CREATED:20200716T212352Z
LAST-MODIFIED:20210114T211652Z
UID:7153-1602324000-1602334800@www.optionssolutionsed.com
SUMMARY:Supplement Writing Workshop
DESCRIPTION:These sessions aim to help students complete the supplemental writing portions of their university and scholarship applications\, including essays\, personal statements\, activities summaries and resumes. \nWriting Workshop serves as an accessible introduction to university supplement writing\, and students will leave the sessions with an understanding of effective written language use. We accommodate students working on a variety of projects all in the same session\, and our writing coaches work personally with students on their unique pieces. \n\nStudents should have handy their list of universities and programs they are applying to for this session.\nWe strongly encourage all students to attend an Intro to Canadian Supplement Writing\nWorkshop before attending a Supplement Writing Workshop.
URL:https://www.optionssolutionsed.com/calendar/supplement-writing-workshop-4/2020-10-10/
LOCATION:Virtual Format\, Online
CATEGORIES:supplement writing workshop,workshop
ORGANIZER;CN="Options%20Solutions":MAILTO:info@optionssolutionsed.com
END:VEVENT
END:VCALENDAR