BEGIN:VCALENDAR
VERSION:2.0
PRODID:-//Options Solutions Educational Consultants - ECPv6.0.12//NONSGML v1.0//EN
CALSCALE:GREGORIAN
METHOD:PUBLISH
X-WR-CALNAME:Options Solutions Educational Consultants
X-ORIGINAL-URL:https://www.optionssolutionsed.com
X-WR-CALDESC:Events for Options Solutions Educational Consultants
REFRESH-INTERVAL;VALUE=DURATION:PT1H
X-Robots-Tag:noindex
X-PUBLISHED-TTL:PT1H
BEGIN:VTIMEZONE
TZID:America/Vancouver
BEGIN:DAYLIGHT
TZOFFSETFROM:-0800
TZOFFSETTO:-0700
TZNAME:PDT
DTSTART:20200308T100000
END:DAYLIGHT
BEGIN:STANDARD
TZOFFSETFROM:-0700
TZOFFSETTO:-0800
TZNAME:PST
DTSTART:20201101T090000
END:STANDARD
END:VTIMEZONE
BEGIN:VEVENT
DTSTART;TZID=America/Vancouver:20200912T100000
DTEND;TZID=America/Vancouver:20200912T130000
DTSTAMP:20260422T015348
CREATED:20200415T164239Z
LAST-MODIFIED:20200716T212948Z
UID:6075-1599904800-1599915600@www.optionssolutionsed.com
SUMMARY:Video Interview Workshop
DESCRIPTION:This three-hour session prepares students for the video interview components of university applications. \nThe session will include a presentation that outlines the main components of video interview requirements\, as well as a practical guide for successfully completing those videos. During the session\, students will learn how to answer typical interview questions and have the opportunity to tackle some  sample questions as a group. They will then practice in pairs and give each other feedback\, as well as record their responses for analysis. Programs that require the video interview include commerce at UBC\, the University of Toronto\, and York University\, as well as engineering at the University of Toronto and Waterloo. \nThe guide covers topics such as: \n\nbody language and appearance\ntechnical set-up\ncoping strategies for nerves\ntips on answering prompts\n\n*Students are encouraged to bring recording devices (e.g. smartphone) with them t0 the session
URL:https://www.optionssolutionsed.com/calendar/video-interview-workshop-3/2020-09-12/
END:VEVENT
BEGIN:VEVENT
DTSTART;TZID=America/Vancouver:20200912T130000
DTEND;TZID=America/Vancouver:20200912T150000
DTSTAMP:20260422T015348
CREATED:20200716T210146Z
LAST-MODIFIED:20210827T204703Z
UID:7140-1599915600-1599922800@www.optionssolutionsed.com
SUMMARY:Back to School Study Skills (High School Students) Workshop
DESCRIPTION:These intensive study skills sessions are designed to help students be academically prepared for both in-person and online educational models. \nThe sessions are instructional as well as practical\, hands-on work sessions. They are offered at the start of the school term to help students thrive in a unique classroom setting that integrates online and in-person learning. Students will leave the workshop armed with the knowledge\, skills\, strategies\, and reference material required to prepare them for academic success. They will also leave the workshop with a concrete understanding of their own executive functioning strengths and weaknesses and with an individualized plan to help them succeed in increasingly hybrid academic environments. \nTopics will Include: \n\nGoal setting\nOrganizational systems (both digital and physical)\nCreating a productive at-home workspace\nLearning how to learn\nEffective note-taking (both digital and physical)\nTime management\nStrategies for managing procrastination\nUniversal test/exam taking skills for various subjects\nActive reading techniques for better comprehension and retention\nHow to study efficiently\, save time\, and do well academically\n\n*Please have your school notebooks\, binders\, and agenda easily accessible for the session.
URL:https://www.optionssolutionsed.com/calendar/back-to-school-study-skills-online-learning-hybrid-high-school-students-workshop/2020-09-12/
LOCATION:Virtual Format\, Online
CATEGORIES:study skills workshop,workshop
ORGANIZER;CN="Options%20Solutions":MAILTO:info@optionssolutionsed.com
END:VEVENT
END:VCALENDAR