BEGIN:VCALENDAR
VERSION:2.0
PRODID:-//Options Solutions Educational Consultants - ECPv6.0.12//NONSGML v1.0//EN
CALSCALE:GREGORIAN
METHOD:PUBLISH
X-WR-CALNAME:Options Solutions Educational Consultants
X-ORIGINAL-URL:https://www.optionssolutionsed.com
X-WR-CALDESC:Events for Options Solutions Educational Consultants
REFRESH-INTERVAL;VALUE=DURATION:PT1H
X-Robots-Tag:noindex
X-PUBLISHED-TTL:PT1H
BEGIN:VTIMEZONE
TZID:America/Vancouver
BEGIN:DAYLIGHT
TZOFFSETFROM:-0800
TZOFFSETTO:-0700
TZNAME:PDT
DTSTART:20200308T100000
END:DAYLIGHT
BEGIN:STANDARD
TZOFFSETFROM:-0700
TZOFFSETTO:-0800
TZNAME:PST
DTSTART:20201101T090000
END:STANDARD
END:VTIMEZONE
BEGIN:VEVENT
DTSTART;TZID=America/Vancouver:20200831T100000
DTEND;TZID=America/Vancouver:20200831T123000
DTSTAMP:20260422T015317
CREATED:20200414T224923Z
LAST-MODIFIED:20200414T224923Z
UID:6681-1598868000-1598877000@www.optionssolutionsed.com
SUMMARY:Post-Secondary Send Off Workshop
DESCRIPTION:Options educational consultants recommend this session to ALL students entering university in the fall! This session focuses on preparing students for post-secondary success from an academic and non-academic perspective. \nBefore you get there: \n\nManaging expectations\nHandling the post-secondary bureaucracy\nWhere to go for what (ie. services available to you)\n\nAcademic: \n\nMotivation and how to be an independent learner\nUnderstanding how to learn/active listening/the learning cycle\nHow to prepare for class and how to read and study from notes and\ntextbooks\n\nNon-Academic: \n\nGoal setting and managing your time (i.e. how to construct an effective\nstudy plan)\nFinding a school/life balance\nHandling everyday post-secondary situations\nBeing financially responsible
URL:https://www.optionssolutionsed.com/calendar/post-secondary-send-off-workshop/2020-08-31/
CATEGORIES:summer boot camps,workshop
END:VEVENT
BEGIN:VEVENT
DTSTART;TZID=America/Vancouver:20200901T140000
DTEND;TZID=America/Vancouver:20200901T170000
DTSTAMP:20260422T015317
CREATED:20200414T223112Z
LAST-MODIFIED:20210323T185958Z
UID:6626-1598968800-1598979600@www.optionssolutionsed.com
SUMMARY:Canadian Admissions Bootcamp
DESCRIPTION:This two-day intensive preparation will help students understand and tackle the Canadian admissions process. The goal of this boot camp is to relieve the stress students feel about the application process and to get a head start. \nThis course will cover: \n\nComprehensive overview of the Canadian admissions process\nIntroduction to university or college – choosing a major\, minor\, or concentration\nFinding a field of study & matching a field of study to the best post-secondary options\nExploration of curriculum covered in expected major\nFactors to consider when choosing a university (location\, size\, class size\, access to services\, etc.)\nIntroduction to essay writing and supplement applications\nExtra-curricular summary\nGenerating individualized timelines\nGrade 11 and 12 academic goal setting\n\nWhat do our students have to say?\n“I liked how much knowledge about very specific courses the instructors were able to supply right away on demand. It was more helpful than I expected\, and my difficult questions were all answered with helpful details.” \n*All workshops are virtual via GoToMeeting
URL:https://www.optionssolutionsed.com/calendar/canadian-admissions-bootcamp/2020-09-01/
LOCATION:Virtual Format\, Online
CATEGORIES:application support,summer boot camps,workshop
ORGANIZER;CN="Options%20Solutions":MAILTO:info@optionssolutionsed.com
END:VEVENT
BEGIN:VEVENT
DTSTART;TZID=America/Vancouver:20200901T140000
DTEND;TZID=America/Vancouver:20200901T170000
DTSTAMP:20260422T015317
CREATED:20200415T163517Z
LAST-MODIFIED:20200415T163550Z
UID:6054-1598968800-1598979600@www.optionssolutionsed.com
SUMMARY:Ready\, Set\, Write! (11-12)
DESCRIPTION:Worried about the dreaded summer backslide? Want to brush up on your reading and writing skills and get prepared for your English courses in the fall? Options Solutions wants to help! This interactive\, fast-paced workshop is aimed at providing students with the theory and practice to succeed in their English studies at the grade 11 and 12 level. It will give students the skills and confidence they need to succeed\, making their future English courses easier and more enjoyable. Furthermore\, the active reading\, planning\, and essay writing skills\nare a great way to prepare for the Graduate Literacy Assessment \n*Materials will be provided\, but please bring a laptop to each session. \nThis Course will Cover:\nActive reading\nSynthesis essays\nArgumentative essays\nNarrative essays
URL:https://www.optionssolutionsed.com/calendar/6050/2020-09-01/
CATEGORIES:english workshop,workshop
END:VEVENT
BEGIN:VEVENT
DTSTART;TZID=America/Vancouver:20200901T140000
DTEND;TZID=America/Vancouver:20200901T170000
DTSTAMP:20260422T015317
CREATED:20200525T232555Z
LAST-MODIFIED:20211110T171154Z
UID:6671-1598968800-1598979600@www.optionssolutionsed.com
SUMMARY:Mastering the Essay (11-12)
DESCRIPTION:Worried about the dreaded summer backslide? Want to brush up on your reading and writing skills and get prepared for your English courses in the fall? Options Solutions wants to help! \nThis interactive\, fast-paced workshop is aimed at providing students with the theory and practice to succeed in their English studies at the grade 11 and 12 level. It will give students the skills and confidence they need to succeed\, making their future English courses easier and more enjoyable. Furthermore\, the active reading\, planning\, and essay writing skills are a great way to prepare for the Graduate Literacy Assessment (GLA)\, a new provincial exam for students in grade 10 and 12. \nTopics Include: \n\nActive reading\nSynthesis essays\nArgumentative essays\nNarrative essays
URL:https://www.optionssolutionsed.com/calendar/mastering-the-essay-11-12/2020-09-01/
CATEGORIES:english workshop,graduation literacy assessment prep,workshop
ORGANIZER;CN="Options%20Solutions":MAILTO:info@optionssolutionsed.com
END:VEVENT
BEGIN:VEVENT
DTSTART;TZID=America/Vancouver:20200902T140000
DTEND;TZID=America/Vancouver:20200902T170000
DTSTAMP:20260422T015317
CREATED:20200414T223112Z
LAST-MODIFIED:20210323T185958Z
UID:6627-1599055200-1599066000@www.optionssolutionsed.com
SUMMARY:Canadian Admissions Bootcamp
DESCRIPTION:This two-day intensive preparation will help students understand and tackle the Canadian admissions process. The goal of this boot camp is to relieve the stress students feel about the application process and to get a head start. \nThis course will cover: \n\nComprehensive overview of the Canadian admissions process\nIntroduction to university or college – choosing a major\, minor\, or concentration\nFinding a field of study & matching a field of study to the best post-secondary options\nExploration of curriculum covered in expected major\nFactors to consider when choosing a university (location\, size\, class size\, access to services\, etc.)\nIntroduction to essay writing and supplement applications\nExtra-curricular summary\nGenerating individualized timelines\nGrade 11 and 12 academic goal setting\n\nWhat do our students have to say?\n“I liked how much knowledge about very specific courses the instructors were able to supply right away on demand. It was more helpful than I expected\, and my difficult questions were all answered with helpful details.” \n*All workshops are virtual via GoToMeeting
URL:https://www.optionssolutionsed.com/calendar/canadian-admissions-bootcamp/2020-09-02/
LOCATION:Virtual Format\, Online
CATEGORIES:application support,summer boot camps,workshop
ORGANIZER;CN="Options%20Solutions":MAILTO:info@optionssolutionsed.com
END:VEVENT
BEGIN:VEVENT
DTSTART;TZID=America/Vancouver:20200902T140000
DTEND;TZID=America/Vancouver:20200902T170000
DTSTAMP:20260422T015317
CREATED:20200415T163517Z
LAST-MODIFIED:20200415T163550Z
UID:6055-1599055200-1599066000@www.optionssolutionsed.com
SUMMARY:Ready\, Set\, Write! (11-12)
DESCRIPTION:Worried about the dreaded summer backslide? Want to brush up on your reading and writing skills and get prepared for your English courses in the fall? Options Solutions wants to help! This interactive\, fast-paced workshop is aimed at providing students with the theory and practice to succeed in their English studies at the grade 11 and 12 level. It will give students the skills and confidence they need to succeed\, making their future English courses easier and more enjoyable. Furthermore\, the active reading\, planning\, and essay writing skills\nare a great way to prepare for the Graduate Literacy Assessment \n*Materials will be provided\, but please bring a laptop to each session. \nThis Course will Cover:\nActive reading\nSynthesis essays\nArgumentative essays\nNarrative essays
URL:https://www.optionssolutionsed.com/calendar/6050/2020-09-02/
CATEGORIES:english workshop,workshop
END:VEVENT
BEGIN:VEVENT
DTSTART;TZID=America/Vancouver:20200902T140000
DTEND;TZID=America/Vancouver:20200902T170000
DTSTAMP:20260422T015317
CREATED:20200525T232555Z
LAST-MODIFIED:20211110T171154Z
UID:6672-1599055200-1599066000@www.optionssolutionsed.com
SUMMARY:Mastering the Essay (11-12)
DESCRIPTION:Worried about the dreaded summer backslide? Want to brush up on your reading and writing skills and get prepared for your English courses in the fall? Options Solutions wants to help! \nThis interactive\, fast-paced workshop is aimed at providing students with the theory and practice to succeed in their English studies at the grade 11 and 12 level. It will give students the skills and confidence they need to succeed\, making their future English courses easier and more enjoyable. Furthermore\, the active reading\, planning\, and essay writing skills are a great way to prepare for the Graduate Literacy Assessment (GLA)\, a new provincial exam for students in grade 10 and 12. \nTopics Include: \n\nActive reading\nSynthesis essays\nArgumentative essays\nNarrative essays
URL:https://www.optionssolutionsed.com/calendar/mastering-the-essay-11-12/2020-09-02/
CATEGORIES:english workshop,graduation literacy assessment prep,workshop
ORGANIZER;CN="Options%20Solutions":MAILTO:info@optionssolutionsed.com
END:VEVENT
BEGIN:VEVENT
DTSTART;TZID=America/Vancouver:20200903T140000
DTEND;TZID=America/Vancouver:20200903T170000
DTSTAMP:20260422T015317
CREATED:20200415T163517Z
LAST-MODIFIED:20200415T163550Z
UID:6056-1599141600-1599152400@www.optionssolutionsed.com
SUMMARY:Ready\, Set\, Write! (11-12)
DESCRIPTION:Worried about the dreaded summer backslide? Want to brush up on your reading and writing skills and get prepared for your English courses in the fall? Options Solutions wants to help! This interactive\, fast-paced workshop is aimed at providing students with the theory and practice to succeed in their English studies at the grade 11 and 12 level. It will give students the skills and confidence they need to succeed\, making their future English courses easier and more enjoyable. Furthermore\, the active reading\, planning\, and essay writing skills\nare a great way to prepare for the Graduate Literacy Assessment \n*Materials will be provided\, but please bring a laptop to each session. \nThis Course will Cover:\nActive reading\nSynthesis essays\nArgumentative essays\nNarrative essays
URL:https://www.optionssolutionsed.com/calendar/6050/2020-09-03/
CATEGORIES:english workshop,workshop
END:VEVENT
BEGIN:VEVENT
DTSTART;TZID=America/Vancouver:20200903T140000
DTEND;TZID=America/Vancouver:20200903T170000
DTSTAMP:20260422T015317
CREATED:20200525T232555Z
LAST-MODIFIED:20211110T171154Z
UID:6673-1599141600-1599152400@www.optionssolutionsed.com
SUMMARY:Mastering the Essay (11-12)
DESCRIPTION:Worried about the dreaded summer backslide? Want to brush up on your reading and writing skills and get prepared for your English courses in the fall? Options Solutions wants to help! \nThis interactive\, fast-paced workshop is aimed at providing students with the theory and practice to succeed in their English studies at the grade 11 and 12 level. It will give students the skills and confidence they need to succeed\, making their future English courses easier and more enjoyable. Furthermore\, the active reading\, planning\, and essay writing skills are a great way to prepare for the Graduate Literacy Assessment (GLA)\, a new provincial exam for students in grade 10 and 12. \nTopics Include: \n\nActive reading\nSynthesis essays\nArgumentative essays\nNarrative essays
URL:https://www.optionssolutionsed.com/calendar/mastering-the-essay-11-12/2020-09-03/
CATEGORIES:english workshop,graduation literacy assessment prep,workshop
ORGANIZER;CN="Options%20Solutions":MAILTO:info@optionssolutionsed.com
END:VEVENT
END:VCALENDAR