BEGIN:VCALENDAR
VERSION:2.0
PRODID:-//Options Solutions Educational Consultants - ECPv6.0.12//NONSGML v1.0//EN
CALSCALE:GREGORIAN
METHOD:PUBLISH
X-ORIGINAL-URL:https://www.optionssolutionsed.com
X-WR-CALDESC:Events for Options Solutions Educational Consultants
REFRESH-INTERVAL;VALUE=DURATION:PT1H
X-Robots-Tag:noindex
X-PUBLISHED-TTL:PT1H
BEGIN:VTIMEZONE
TZID:America/Vancouver
BEGIN:DAYLIGHT
TZOFFSETFROM:-0800
TZOFFSETTO:-0700
TZNAME:PDT
DTSTART:20200308T100000
END:DAYLIGHT
BEGIN:STANDARD
TZOFFSETFROM:-0700
TZOFFSETTO:-0800
TZNAME:PST
DTSTART:20201101T090000
END:STANDARD
END:VTIMEZONE
BEGIN:VEVENT
DTSTART;TZID=America/Vancouver:20200720T100000
DTEND;TZID=America/Vancouver:20200720T130000
DTSTAMP:20260421T142236
CREATED:20200413T214631Z
LAST-MODIFIED:20200413T214932Z
UID:5946-1595239200-1595250000@www.optionssolutionsed.com
SUMMARY:Core Test Skills (ACT/SAT) Bootcamp
DESCRIPTION:These intensive sessions focus on helping students master the ACT or SAT exam. Topics will cover every portion of the test\, including test-taking strategies\, time management tips\, and crossover skills for the ACT/SAT exam. Materials will be provided. \nHow is test prep at Options different? \nTest prep at Options is unique because it combines test preparation with the teaching of fundamental academic skills. With many years of experience\, Options instructors ensure that students understand the higher-level reading\, writing and math skills that will prepare them for the ACT and SAT\, but will also help them succeed in high school and beyond. Options doesn’t just teach “test-taking tricks” like other test prep organizations. Instead\, students receive a strong grounding in how the test works and strategies for attaining a high score\, combined with an opportunity to increase their overall academic performance. \nDaily Schedule: \n\nMonday: Reading/Grammar\nTuesday: Math\nWednesday: Reading/Grammar\nThursday: Math\nFriday: Reading/Grammar
URL:https://www.optionssolutionsed.com/calendar/core-test-skills-act-sat-bootcamp/2020-07-20/
LOCATION:All Offices
CATEGORIES:ACT prep,workshop
ORGANIZER;CN="Options%20Solutions":MAILTO:info@optionssolutionsed.com
END:VEVENT
BEGIN:VEVENT
DTSTART;TZID=America/Vancouver:20200720T100000
DTEND;TZID=America/Vancouver:20200720T130000
DTSTAMP:20260421T142236
CREATED:20200415T162612Z
LAST-MODIFIED:20200615T220937Z
UID:6016-1595239200-1595250000@www.optionssolutionsed.com
SUMMARY:Pre-Calculus 12 Bootcamp
DESCRIPTION:The Pre-Calculus 12 boot camp is a one-week course introducing the concepts of Pre-Calculus 12 and is intended for incoming math 12 students. The Pre-Calculus 12 boot camp addresses all the Ministry Prescribed Learning Outcomes for Pre-Calculus 12. The course is preparatory and not for credit. Materials provided during the session\, including course notes\, assignments\, homework\, and a final exam\, will function as resources for students during the week\, as well as resources students can use during the school year. To get the maximum benefit from this course\, it is recommended that students study at least one hour outside of class for every hour spent in class. \nThis Course will Cover: \n\nFunction operations and transformations\nRadical functions and equations\nPolynomial functions and equations\nRational functions and equations\nExponential functions and equations\nLogarithmic functions and equations\nTrigonometry (intro to radians and trig equations)\nTrigonometric functions and graphs\nTrigonometric identities\nPermutations\, combinations and binomial theorem\nReview of laws of fractions and exponents\, extend to the laws of roots
URL:https://www.optionssolutionsed.com/calendar/6016/2020-07-20/
CATEGORIES:math prep,summer boot camps,workshop
END:VEVENT
BEGIN:VEVENT
DTSTART;TZID=America/Vancouver:20200721T100000
DTEND;TZID=America/Vancouver:20200721T130000
DTSTAMP:20260421T142236
CREATED:20200413T214631Z
LAST-MODIFIED:20200413T214932Z
UID:5948-1595325600-1595336400@www.optionssolutionsed.com
SUMMARY:Core Test Skills (ACT/SAT) Bootcamp
DESCRIPTION:These intensive sessions focus on helping students master the ACT or SAT exam. Topics will cover every portion of the test\, including test-taking strategies\, time management tips\, and crossover skills for the ACT/SAT exam. Materials will be provided. \nHow is test prep at Options different? \nTest prep at Options is unique because it combines test preparation with the teaching of fundamental academic skills. With many years of experience\, Options instructors ensure that students understand the higher-level reading\, writing and math skills that will prepare them for the ACT and SAT\, but will also help them succeed in high school and beyond. Options doesn’t just teach “test-taking tricks” like other test prep organizations. Instead\, students receive a strong grounding in how the test works and strategies for attaining a high score\, combined with an opportunity to increase their overall academic performance. \nDaily Schedule: \n\nMonday: Reading/Grammar\nTuesday: Math\nWednesday: Reading/Grammar\nThursday: Math\nFriday: Reading/Grammar
URL:https://www.optionssolutionsed.com/calendar/core-test-skills-act-sat-bootcamp/2020-07-21/
LOCATION:All Offices
CATEGORIES:ACT prep,workshop
ORGANIZER;CN="Options%20Solutions":MAILTO:info@optionssolutionsed.com
END:VEVENT
BEGIN:VEVENT
DTSTART;TZID=America/Vancouver:20200721T100000
DTEND;TZID=America/Vancouver:20200721T130000
DTSTAMP:20260421T142236
CREATED:20200415T162612Z
LAST-MODIFIED:20200615T220947Z
UID:6291-1595325600-1595336400@www.optionssolutionsed.com
SUMMARY:Pre-Calculus 12 Bootcamp
DESCRIPTION:The Pre-Calculus 12 boot camp is a one-week course introducing the concepts of Pre-Calculus 12 and is intended for incoming math 12 students. The Pre-Calculus 12 boot camp addresses all the Ministry Prescribed Learning Outcomes for Pre-Calculus 12. The course is preparatory and not for credit. Materials provided during the session\, including course notes\, assignments\, homework\, and a final exam\, will function as resources for students during the week\, as well as resources students can use during the school year. To get the maximum benefit from this course\, it is recommended that students study at least one hour outside of class for every hour spent in class. \nThis Course will Cover: \n\nFunction operations and transformations\nRadical functions and equations\nPolynomial functions and equations\nRational functions and equations\nExponential functions and equations\nLogarithmic functions and equations\nTrigonometry (intro to radians and trig equations)\nTrigonometric functions and graphs\nTrigonometric identities\nPermutations\, combinations and binomial theorem\nReview of laws of fractions and exponents\, extend to the laws of roots
URL:https://www.optionssolutionsed.com/calendar/6016/2020-07-21/
CATEGORIES:math prep,summer boot camps,workshop
END:VEVENT
BEGIN:VEVENT
DTSTART;TZID=America/Vancouver:20200721T110000
DTEND;TZID=America/Vancouver:20200721T130000
DTSTAMP:20260421T142236
CREATED:20200415T163915Z
LAST-MODIFIED:20200415T163915Z
UID:6394-1595329200-1595336400@www.optionssolutionsed.com
SUMMARY:Intro to University Level Writing
DESCRIPTION:This course prepares university-bound students for the challenges of writing for different disciplines at the post-secondary level. The course will discuss strategies for successful research and writing in the university’s core areas of study: arts\, humanities\, social sciences\, sciences\, and business. It will also feature a review of grammar essentials and provide opportunities for essay writing practice. \nMaterials will be provided\, but please bring a laptop to each session. \nThe session will be interactive and dynamic. Students will leave with a clearer understanding of essay writing at the university level and how to apply those skills. \nThis Course will Cover:\nApproaches to research and citation methods\nEssay planning and practice\nAcademic writing styles\nEssential grammar
URL:https://www.optionssolutionsed.com/calendar/6063/2020-07-21/
LOCATION:Virtual Format\, Online
CATEGORIES:english workshop,workshop
ORGANIZER;CN="Options%20Solutions":MAILTO:info@optionssolutionsed.com
END:VEVENT
BEGIN:VEVENT
DTSTART;TZID=America/Vancouver:20200721T140000
DTEND;TZID=America/Vancouver:20200721T170000
DTSTAMP:20260421T142236
CREATED:20200414T223112Z
LAST-MODIFIED:20210323T185957Z
UID:5977-1595340000-1595350800@www.optionssolutionsed.com
SUMMARY:Canadian Admissions Bootcamp
DESCRIPTION:This two-day intensive preparation will help students understand and tackle the Canadian admissions process. The goal of this boot camp is to relieve the stress students feel about the application process and to get a head start. \nThis course will cover: \n\nComprehensive overview of the Canadian admissions process\nIntroduction to university or college – choosing a major\, minor\, or concentration\nFinding a field of study & matching a field of study to the best post-secondary options\nExploration of curriculum covered in expected major\nFactors to consider when choosing a university (location\, size\, class size\, access to services\, etc.)\nIntroduction to essay writing and supplement applications\nExtra-curricular summary\nGenerating individualized timelines\nGrade 11 and 12 academic goal setting\n\nWhat do our students have to say?\n“I liked how much knowledge about very specific courses the instructors were able to supply right away on demand. It was more helpful than I expected\, and my difficult questions were all answered with helpful details.” \n*All workshops are virtual via GoToMeeting
URL:https://www.optionssolutionsed.com/calendar/canadian-admissions-bootcamp/2020-07-21/
LOCATION:Virtual Format\, Online
CATEGORIES:application support,summer boot camps,workshop
ORGANIZER;CN="Options%20Solutions":MAILTO:info@optionssolutionsed.com
END:VEVENT
BEGIN:VEVENT
DTSTART;TZID=America/Vancouver:20200722T100000
DTEND;TZID=America/Vancouver:20200722T130000
DTSTAMP:20260421T142236
CREATED:20200413T214631Z
LAST-MODIFIED:20200413T214932Z
UID:5949-1595412000-1595422800@www.optionssolutionsed.com
SUMMARY:Core Test Skills (ACT/SAT) Bootcamp
DESCRIPTION:These intensive sessions focus on helping students master the ACT or SAT exam. Topics will cover every portion of the test\, including test-taking strategies\, time management tips\, and crossover skills for the ACT/SAT exam. Materials will be provided. \nHow is test prep at Options different? \nTest prep at Options is unique because it combines test preparation with the teaching of fundamental academic skills. With many years of experience\, Options instructors ensure that students understand the higher-level reading\, writing and math skills that will prepare them for the ACT and SAT\, but will also help them succeed in high school and beyond. Options doesn’t just teach “test-taking tricks” like other test prep organizations. Instead\, students receive a strong grounding in how the test works and strategies for attaining a high score\, combined with an opportunity to increase their overall academic performance. \nDaily Schedule: \n\nMonday: Reading/Grammar\nTuesday: Math\nWednesday: Reading/Grammar\nThursday: Math\nFriday: Reading/Grammar
URL:https://www.optionssolutionsed.com/calendar/core-test-skills-act-sat-bootcamp/2020-07-22/
LOCATION:All Offices
CATEGORIES:ACT prep,workshop
ORGANIZER;CN="Options%20Solutions":MAILTO:info@optionssolutionsed.com
END:VEVENT
BEGIN:VEVENT
DTSTART;TZID=America/Vancouver:20200722T100000
DTEND;TZID=America/Vancouver:20200722T130000
DTSTAMP:20260421T142236
CREATED:20200415T162612Z
LAST-MODIFIED:20200615T220947Z
UID:6292-1595412000-1595422800@www.optionssolutionsed.com
SUMMARY:Pre-Calculus 12 Bootcamp
DESCRIPTION:The Pre-Calculus 12 boot camp is a one-week course introducing the concepts of Pre-Calculus 12 and is intended for incoming math 12 students. The Pre-Calculus 12 boot camp addresses all the Ministry Prescribed Learning Outcomes for Pre-Calculus 12. The course is preparatory and not for credit. Materials provided during the session\, including course notes\, assignments\, homework\, and a final exam\, will function as resources for students during the week\, as well as resources students can use during the school year. To get the maximum benefit from this course\, it is recommended that students study at least one hour outside of class for every hour spent in class. \nThis Course will Cover: \n\nFunction operations and transformations\nRadical functions and equations\nPolynomial functions and equations\nRational functions and equations\nExponential functions and equations\nLogarithmic functions and equations\nTrigonometry (intro to radians and trig equations)\nTrigonometric functions and graphs\nTrigonometric identities\nPermutations\, combinations and binomial theorem\nReview of laws of fractions and exponents\, extend to the laws of roots
URL:https://www.optionssolutionsed.com/calendar/6016/2020-07-22/
CATEGORIES:math prep,summer boot camps,workshop
END:VEVENT
BEGIN:VEVENT
DTSTART;TZID=America/Vancouver:20200722T110000
DTEND;TZID=America/Vancouver:20200722T130000
DTSTAMP:20260421T142236
CREATED:20200413T195257Z
LAST-MODIFIED:20210323T214924Z
UID:6579-1595415600-1595422800@www.optionssolutionsed.com
SUMMARY:English 101 Workshop
DESCRIPTION:These weekly two-hour workshops are designed to give students in grades 9-11 ongoing English and writing support\, so they don’t lose their momentum due to online learning. Students will learn essential skills to improve their writing and build on these fundamentals each week to become more confident and better equipped to deal with any writing task they may encounter throughout high school and ensure they don’t backslide. Materials will be provided. \nThis course will cover: \n\nActive reading and annotations\nPlanning and outlining\nEssay organization\nAnalytical essay writing\nSynthesis essay writing\nResearch essay writing\nWriting creatively\nEditing\n\nEach student will leave with a better understanding of different essay writing genres and expectations. Students are encouraged to join all days of each session.
URL:https://www.optionssolutionsed.com/calendar/english-101-workshop/2020-07-22/
LOCATION:Virtual Format\, Online
CATEGORIES:english workshop,workshop
ORGANIZER;CN="Options%20Solutions":MAILTO:info@optionssolutionsed.com
END:VEVENT
BEGIN:VEVENT
DTSTART;TZID=America/Vancouver:20200722T140000
DTEND;TZID=America/Vancouver:20200722T170000
DTSTAMP:20260421T142236
CREATED:20200414T223112Z
LAST-MODIFIED:20210323T185958Z
UID:7064-1595426400-1595437200@www.optionssolutionsed.com
SUMMARY:Canadian Admissions Bootcamp
DESCRIPTION:This two-day intensive preparation will help students understand and tackle the Canadian admissions process. The goal of this boot camp is to relieve the stress students feel about the application process and to get a head start. \nThis course will cover: \n\nComprehensive overview of the Canadian admissions process\nIntroduction to university or college – choosing a major\, minor\, or concentration\nFinding a field of study & matching a field of study to the best post-secondary options\nExploration of curriculum covered in expected major\nFactors to consider when choosing a university (location\, size\, class size\, access to services\, etc.)\nIntroduction to essay writing and supplement applications\nExtra-curricular summary\nGenerating individualized timelines\nGrade 11 and 12 academic goal setting\n\nWhat do our students have to say?\n“I liked how much knowledge about very specific courses the instructors were able to supply right away on demand. It was more helpful than I expected\, and my difficult questions were all answered with helpful details.” \n*All workshops are virtual via GoToMeeting
URL:https://www.optionssolutionsed.com/calendar/canadian-admissions-bootcamp/2020-07-22/
LOCATION:Virtual Format\, Online
CATEGORIES:application support,summer boot camps,workshop
ORGANIZER;CN="Options%20Solutions":MAILTO:info@optionssolutionsed.com
END:VEVENT
BEGIN:VEVENT
DTSTART;TZID=America/Vancouver:20200723T100000
DTEND;TZID=America/Vancouver:20200723T130000
DTSTAMP:20260421T142236
CREATED:20200413T214631Z
LAST-MODIFIED:20200413T214933Z
UID:5950-1595498400-1595509200@www.optionssolutionsed.com
SUMMARY:Core Test Skills (ACT/SAT) Bootcamp
DESCRIPTION:These intensive sessions focus on helping students master the ACT or SAT exam. Topics will cover every portion of the test\, including test-taking strategies\, time management tips\, and crossover skills for the ACT/SAT exam. Materials will be provided. \nHow is test prep at Options different? \nTest prep at Options is unique because it combines test preparation with the teaching of fundamental academic skills. With many years of experience\, Options instructors ensure that students understand the higher-level reading\, writing and math skills that will prepare them for the ACT and SAT\, but will also help them succeed in high school and beyond. Options doesn’t just teach “test-taking tricks” like other test prep organizations. Instead\, students receive a strong grounding in how the test works and strategies for attaining a high score\, combined with an opportunity to increase their overall academic performance. \nDaily Schedule: \n\nMonday: Reading/Grammar\nTuesday: Math\nWednesday: Reading/Grammar\nThursday: Math\nFriday: Reading/Grammar
URL:https://www.optionssolutionsed.com/calendar/core-test-skills-act-sat-bootcamp/2020-07-23/
LOCATION:All Offices
CATEGORIES:ACT prep,workshop
ORGANIZER;CN="Options%20Solutions":MAILTO:info@optionssolutionsed.com
END:VEVENT
BEGIN:VEVENT
DTSTART;TZID=America/Vancouver:20200723T100000
DTEND;TZID=America/Vancouver:20200723T130000
DTSTAMP:20260421T142236
CREATED:20200415T162612Z
LAST-MODIFIED:20200615T220947Z
UID:6293-1595498400-1595509200@www.optionssolutionsed.com
SUMMARY:Pre-Calculus 12 Bootcamp
DESCRIPTION:The Pre-Calculus 12 boot camp is a one-week course introducing the concepts of Pre-Calculus 12 and is intended for incoming math 12 students. The Pre-Calculus 12 boot camp addresses all the Ministry Prescribed Learning Outcomes for Pre-Calculus 12. The course is preparatory and not for credit. Materials provided during the session\, including course notes\, assignments\, homework\, and a final exam\, will function as resources for students during the week\, as well as resources students can use during the school year. To get the maximum benefit from this course\, it is recommended that students study at least one hour outside of class for every hour spent in class. \nThis Course will Cover: \n\nFunction operations and transformations\nRadical functions and equations\nPolynomial functions and equations\nRational functions and equations\nExponential functions and equations\nLogarithmic functions and equations\nTrigonometry (intro to radians and trig equations)\nTrigonometric functions and graphs\nTrigonometric identities\nPermutations\, combinations and binomial theorem\nReview of laws of fractions and exponents\, extend to the laws of roots
URL:https://www.optionssolutionsed.com/calendar/6016/2020-07-23/
CATEGORIES:math prep,summer boot camps,workshop
END:VEVENT
BEGIN:VEVENT
DTSTART;TZID=America/Vancouver:20200724T100000
DTEND;TZID=America/Vancouver:20200724T130000
DTSTAMP:20260421T142236
CREATED:20200413T214631Z
LAST-MODIFIED:20200413T214933Z
UID:5951-1595584800-1595595600@www.optionssolutionsed.com
SUMMARY:Core Test Skills (ACT/SAT) Bootcamp
DESCRIPTION:These intensive sessions focus on helping students master the ACT or SAT exam. Topics will cover every portion of the test\, including test-taking strategies\, time management tips\, and crossover skills for the ACT/SAT exam. Materials will be provided. \nHow is test prep at Options different? \nTest prep at Options is unique because it combines test preparation with the teaching of fundamental academic skills. With many years of experience\, Options instructors ensure that students understand the higher-level reading\, writing and math skills that will prepare them for the ACT and SAT\, but will also help them succeed in high school and beyond. Options doesn’t just teach “test-taking tricks” like other test prep organizations. Instead\, students receive a strong grounding in how the test works and strategies for attaining a high score\, combined with an opportunity to increase their overall academic performance. \nDaily Schedule: \n\nMonday: Reading/Grammar\nTuesday: Math\nWednesday: Reading/Grammar\nThursday: Math\nFriday: Reading/Grammar
URL:https://www.optionssolutionsed.com/calendar/core-test-skills-act-sat-bootcamp/2020-07-24/
LOCATION:All Offices
CATEGORIES:ACT prep,workshop
ORGANIZER;CN="Options%20Solutions":MAILTO:info@optionssolutionsed.com
END:VEVENT
BEGIN:VEVENT
DTSTART;TZID=America/Vancouver:20200724T100000
DTEND;TZID=America/Vancouver:20200724T130000
DTSTAMP:20260421T142236
CREATED:20200415T162612Z
LAST-MODIFIED:20200615T220947Z
UID:6294-1595584800-1595595600@www.optionssolutionsed.com
SUMMARY:Pre-Calculus 12 Bootcamp
DESCRIPTION:The Pre-Calculus 12 boot camp is a one-week course introducing the concepts of Pre-Calculus 12 and is intended for incoming math 12 students. The Pre-Calculus 12 boot camp addresses all the Ministry Prescribed Learning Outcomes for Pre-Calculus 12. The course is preparatory and not for credit. Materials provided during the session\, including course notes\, assignments\, homework\, and a final exam\, will function as resources for students during the week\, as well as resources students can use during the school year. To get the maximum benefit from this course\, it is recommended that students study at least one hour outside of class for every hour spent in class. \nThis Course will Cover: \n\nFunction operations and transformations\nRadical functions and equations\nPolynomial functions and equations\nRational functions and equations\nExponential functions and equations\nLogarithmic functions and equations\nTrigonometry (intro to radians and trig equations)\nTrigonometric functions and graphs\nTrigonometric identities\nPermutations\, combinations and binomial theorem\nReview of laws of fractions and exponents\, extend to the laws of roots
URL:https://www.optionssolutionsed.com/calendar/6016/2020-07-24/
CATEGORIES:math prep,summer boot camps,workshop
END:VEVENT
END:VCALENDAR