BEGIN:VCALENDAR
VERSION:2.0
PRODID:-//Options Solutions Educational Consultants - ECPv6.0.12//NONSGML v1.0//EN
CALSCALE:GREGORIAN
METHOD:PUBLISH
X-WR-CALNAME:Options Solutions Educational Consultants
X-ORIGINAL-URL:https://www.optionssolutionsed.com
X-WR-CALDESC:Events for Options Solutions Educational Consultants
REFRESH-INTERVAL;VALUE=DURATION:PT1H
X-Robots-Tag:noindex
X-PUBLISHED-TTL:PT1H
BEGIN:VTIMEZONE
TZID:America/Vancouver
BEGIN:DAYLIGHT
TZOFFSETFROM:-0800
TZOFFSETTO:-0700
TZNAME:PDT
DTSTART:20220313T100000
END:DAYLIGHT
BEGIN:STANDARD
TZOFFSETFROM:-0700
TZOFFSETTO:-0800
TZNAME:PST
DTSTART:20221106T090000
END:STANDARD
END:VTIMEZONE
BEGIN:VEVENT
DTSTART;TZID=America/Vancouver:20220917T100000
DTEND;TZID=America/Vancouver:20220917T130000
DTSTAMP:20260424T050658
CREATED:20220311T005009Z
LAST-MODIFIED:20220610T213405Z
UID:10043-1663408800-1663419600@www.optionssolutionsed.com
SUMMARY:Video Interview Workshop
DESCRIPTION:This three-hour session prepares students for the video interview components of university applications. \nThe session will include a presentation that outlines the main components of video interview requirements\, as well as a practical guide for successfully completing those videos. During the session\, students will learn how to answer typical interview questions and have the opportunity to tackle some sample questions as a group. They will then practice in pairs and give each other feedback\, as well as record their responses for analysis. Programs that require the video interview include Commerce at UBC\, the University of Toronto\, and York University\, as well as Engineering at the University of Toronto and University of Waterloo.
URL:https://www.optionssolutionsed.com/calendar/video-interview-workshop-6/2022-09-17/
CATEGORIES:workshop
ORGANIZER;CN="Options%20Solutions":MAILTO:info@optionssolutionsed.com
END:VEVENT
BEGIN:VEVENT
DTSTART;TZID=America/Vancouver:20220817T140000
DTEND;TZID=America/Vancouver:20220817T170000
DTSTAMP:20260424T050658
CREATED:20220311T005009Z
LAST-MODIFIED:20220610T213404Z
UID:10002-1660744800-1660755600@www.optionssolutionsed.com
SUMMARY:Video Interview Workshop
DESCRIPTION:This three-hour session prepares students for the video interview components of university applications. \nThe session will include a presentation that outlines the main components of video interview requirements\, as well as a practical guide for successfully completing those videos. During the session\, students will learn how to answer typical interview questions and have the opportunity to tackle some sample questions as a group. They will then practice in pairs and give each other feedback\, as well as record their responses for analysis. Programs that require the video interview include Commerce at UBC\, the University of Toronto\, and York University\, as well as Engineering at the University of Toronto and University of Waterloo.
URL:https://www.optionssolutionsed.com/calendar/video-interview-workshop-6/2022-08-17/
CATEGORIES:workshop
ORGANIZER;CN="Options%20Solutions":MAILTO:info@optionssolutionsed.com
END:VEVENT
END:VCALENDAR