BEGIN:VCALENDAR
VERSION:2.0
PRODID:-//Options Solutions Educational Consultants - ECPv6.0.12//NONSGML v1.0//EN
CALSCALE:GREGORIAN
METHOD:PUBLISH
X-WR-CALNAME:Options Solutions Educational Consultants
X-ORIGINAL-URL:https://www.optionssolutionsed.com
X-WR-CALDESC:Events for Options Solutions Educational Consultants
REFRESH-INTERVAL;VALUE=DURATION:PT1H
X-Robots-Tag:noindex
X-PUBLISHED-TTL:PT1H
BEGIN:VTIMEZONE
TZID:America/Vancouver
BEGIN:DAYLIGHT
TZOFFSETFROM:-0800
TZOFFSETTO:-0700
TZNAME:PDT
DTSTART:20210314T100000
END:DAYLIGHT
BEGIN:STANDARD
TZOFFSETFROM:-0700
TZOFFSETTO:-0800
TZNAME:PST
DTSTART:20211107T090000
END:STANDARD
END:VTIMEZONE
BEGIN:VEVENT
DTSTART;TZID=America/Vancouver:20211229T100000
DTEND;TZID=America/Vancouver:20211229T130000
DTSTAMP:20260419T182557
CREATED:20200716T211704Z
LAST-MODIFIED:20211112T215928Z
UID:9258-1640772000-1640782800@www.optionssolutionsed.com
SUMMARY:Video Interview Workshop
DESCRIPTION:This three-hour session prepares students for the video interview components of university applications. Programs that require the video interview include commerce at UBC\, the University of Toronto\, and York University\, as well as engineering at the University of Toronto\, McMaster and Waterloo\, among others. \nThe session will include a presentation that outlines the video interview requirements for each university\, as well as a practical guide for successfully completing the interviews. During the session\, students will have the opportunity to tackle some sample questions both informally and formally\, will receive feedback from the instructor and other participants\, and record practice responses for analysis. \nWe will Cover: \n\nSpecifics of the interview process for each program\nBody language and appearance\nTechnical set-up\nCoping strategies for nerves\nTips on answering prompts\nStrategies to successfully answer various questions\n\nWhat do students have to say?\n“I liked the chance to practice thinking on my feet. I also really liked how I am now aware of the keys to succeeding in a video interview\, and I know what practice is helpful in order to succeed.”
URL:https://www.optionssolutionsed.com/calendar/video-interview-workshop-4/2021-12-29/
LOCATION:Virtual Format\, Online
CATEGORIES:application support
ORGANIZER;CN="Options%20Solutions":MAILTO:info@optionssolutionsed.com
END:VEVENT
BEGIN:VEVENT
DTSTART;TZID=America/Vancouver:20211106T100000
DTEND;TZID=America/Vancouver:20211106T130000
DTSTAMP:20260419T182557
CREATED:20200716T211704Z
LAST-MODIFIED:20211112T215928Z
UID:9256-1636192800-1636203600@www.optionssolutionsed.com
SUMMARY:Video Interview Workshop
DESCRIPTION:This three-hour session prepares students for the video interview components of university applications. Programs that require the video interview include commerce at UBC\, the University of Toronto\, and York University\, as well as engineering at the University of Toronto\, McMaster and Waterloo\, among others. \nThe session will include a presentation that outlines the video interview requirements for each university\, as well as a practical guide for successfully completing the interviews. During the session\, students will have the opportunity to tackle some sample questions both informally and formally\, will receive feedback from the instructor and other participants\, and record practice responses for analysis. \nWe will Cover: \n\nSpecifics of the interview process for each program\nBody language and appearance\nTechnical set-up\nCoping strategies for nerves\nTips on answering prompts\nStrategies to successfully answer various questions\n\nWhat do students have to say?\n“I liked the chance to practice thinking on my feet. I also really liked how I am now aware of the keys to succeeding in a video interview\, and I know what practice is helpful in order to succeed.”
URL:https://www.optionssolutionsed.com/calendar/video-interview-workshop-4/2021-11-06/
LOCATION:Virtual Format\, Online
CATEGORIES:application support
ORGANIZER;CN="Options%20Solutions":MAILTO:info@optionssolutionsed.com
END:VEVENT
BEGIN:VEVENT
DTSTART;TZID=America/Vancouver:20211023T100000
DTEND;TZID=America/Vancouver:20211023T130000
DTSTAMP:20260419T182557
CREATED:20200716T211704Z
LAST-MODIFIED:20211112T215928Z
UID:9255-1634983200-1634994000@www.optionssolutionsed.com
SUMMARY:Video Interview Workshop
DESCRIPTION:This three-hour session prepares students for the video interview components of university applications. Programs that require the video interview include commerce at UBC\, the University of Toronto\, and York University\, as well as engineering at the University of Toronto\, McMaster and Waterloo\, among others. \nThe session will include a presentation that outlines the video interview requirements for each university\, as well as a practical guide for successfully completing the interviews. During the session\, students will have the opportunity to tackle some sample questions both informally and formally\, will receive feedback from the instructor and other participants\, and record practice responses for analysis. \nWe will Cover: \n\nSpecifics of the interview process for each program\nBody language and appearance\nTechnical set-up\nCoping strategies for nerves\nTips on answering prompts\nStrategies to successfully answer various questions\n\nWhat do students have to say?\n“I liked the chance to practice thinking on my feet. I also really liked how I am now aware of the keys to succeeding in a video interview\, and I know what practice is helpful in order to succeed.”
URL:https://www.optionssolutionsed.com/calendar/video-interview-workshop-4/2021-10-23/
LOCATION:Virtual Format\, Online
CATEGORIES:application support
ORGANIZER;CN="Options%20Solutions":MAILTO:info@optionssolutionsed.com
END:VEVENT
BEGIN:VEVENT
DTSTART;TZID=America/Vancouver:20210918T100000
DTEND;TZID=America/Vancouver:20210918T130000
DTSTAMP:20260419T182557
CREATED:20200716T211704Z
LAST-MODIFIED:20211112T215927Z
UID:7147-1631959200-1631970000@www.optionssolutionsed.com
SUMMARY:Video Interview Workshop
DESCRIPTION:This three-hour session prepares students for the video interview components of university applications. Programs that require the video interview include commerce at UBC\, the University of Toronto\, and York University\, as well as engineering at the University of Toronto\, McMaster and Waterloo\, among others. \nThe session will include a presentation that outlines the video interview requirements for each university\, as well as a practical guide for successfully completing the interviews. During the session\, students will have the opportunity to tackle some sample questions both informally and formally\, will receive feedback from the instructor and other participants\, and record practice responses for analysis. \nWe will Cover: \n\nSpecifics of the interview process for each program\nBody language and appearance\nTechnical set-up\nCoping strategies for nerves\nTips on answering prompts\nStrategies to successfully answer various questions\n\nWhat do students have to say?\n“I liked the chance to practice thinking on my feet. I also really liked how I am now aware of the keys to succeeding in a video interview\, and I know what practice is helpful in order to succeed.”
URL:https://www.optionssolutionsed.com/calendar/video-interview-workshop-4/2021-09-18/
LOCATION:Virtual Format\, Online
CATEGORIES:application support
ORGANIZER;CN="Options%20Solutions":MAILTO:info@optionssolutionsed.com
END:VEVENT
END:VCALENDAR