BEGIN:VCALENDAR
VERSION:2.0
PRODID:-//Options Solutions Educational Consultants - ECPv6.0.12//NONSGML v1.0//EN
CALSCALE:GREGORIAN
METHOD:PUBLISH
X-WR-CALNAME:Options Solutions Educational Consultants
X-ORIGINAL-URL:https://www.optionssolutionsed.com
X-WR-CALDESC:Events for Options Solutions Educational Consultants
REFRESH-INTERVAL;VALUE=DURATION:PT1H
X-Robots-Tag:noindex
X-PUBLISHED-TTL:PT1H
BEGIN:VTIMEZONE
TZID:America/Vancouver
BEGIN:DAYLIGHT
TZOFFSETFROM:-0800
TZOFFSETTO:-0700
TZNAME:PDT
DTSTART:20210314T100000
END:DAYLIGHT
BEGIN:STANDARD
TZOFFSETFROM:-0700
TZOFFSETTO:-0800
TZNAME:PST
DTSTART:20211107T090000
END:STANDARD
END:VTIMEZONE
BEGIN:VEVENT
DTSTART;TZID=America/Vancouver:20210708T090000
DTEND;TZID=America/Vancouver:20210708T120000
DTSTAMP:20260422T185209
CREATED:20210514T172340Z
LAST-MODIFIED:20210514T172340Z
UID:8699-1625734800-1625745600@www.optionssolutionsed.com
SUMMARY:US Admissions Bootcamp
DESCRIPTION:This series of sessions will help students understand and tackle the US admissions process. \nThe goal of this boot camp is to relieve the stress students feel about the application process and to kick start the process in July. Students will leave the July boot camp with a solid start to the Common Application and other applications. Students are encouraged to attend the full series\, as each session will be unique and valuable. \nTopics will include: \n\nComprehensive overview and simulation of the US admissions process\nGenerating individualized timelines and accounts\nThe Common Application\nActivities list and data entry\nEssay writing\nUniversity of California Personal Statements\nRequesting Letters of Recommendation\n\n*All workshops are virtual via GoToMeeting
URL:https://www.optionssolutionsed.com/calendar/us-admissions-bootcamp-2/2021-07-08/
LOCATION:Virtual Format\, Online
ORGANIZER;CN="Options%20Solutions":MAILTO:info@optionssolutionsed.com
END:VEVENT
BEGIN:VEVENT
DTSTART;TZID=America/Vancouver:20210707T090000
DTEND;TZID=America/Vancouver:20210707T120000
DTSTAMP:20260422T185209
CREATED:20210514T172340Z
LAST-MODIFIED:20210514T172340Z
UID:8698-1625648400-1625659200@www.optionssolutionsed.com
SUMMARY:US Admissions Bootcamp
DESCRIPTION:This series of sessions will help students understand and tackle the US admissions process. \nThe goal of this boot camp is to relieve the stress students feel about the application process and to kick start the process in July. Students will leave the July boot camp with a solid start to the Common Application and other applications. Students are encouraged to attend the full series\, as each session will be unique and valuable. \nTopics will include: \n\nComprehensive overview and simulation of the US admissions process\nGenerating individualized timelines and accounts\nThe Common Application\nActivities list and data entry\nEssay writing\nUniversity of California Personal Statements\nRequesting Letters of Recommendation\n\n*All workshops are virtual via GoToMeeting
URL:https://www.optionssolutionsed.com/calendar/us-admissions-bootcamp-2/2021-07-07/
LOCATION:Virtual Format\, Online
ORGANIZER;CN="Options%20Solutions":MAILTO:info@optionssolutionsed.com
END:VEVENT
BEGIN:VEVENT
DTSTART;TZID=America/Vancouver:20210706T090000
DTEND;TZID=America/Vancouver:20210706T120000
DTSTAMP:20260422T185209
CREATED:20210514T172340Z
LAST-MODIFIED:20210514T172340Z
UID:8697-1625562000-1625572800@www.optionssolutionsed.com
SUMMARY:US Admissions Bootcamp
DESCRIPTION:This series of sessions will help students understand and tackle the US admissions process. \nThe goal of this boot camp is to relieve the stress students feel about the application process and to kick start the process in July. Students will leave the July boot camp with a solid start to the Common Application and other applications. Students are encouraged to attend the full series\, as each session will be unique and valuable. \nTopics will include: \n\nComprehensive overview and simulation of the US admissions process\nGenerating individualized timelines and accounts\nThe Common Application\nActivities list and data entry\nEssay writing\nUniversity of California Personal Statements\nRequesting Letters of Recommendation\n\n*All workshops are virtual via GoToMeeting
URL:https://www.optionssolutionsed.com/calendar/us-admissions-bootcamp-2/2021-07-06/
LOCATION:Virtual Format\, Online
ORGANIZER;CN="Options%20Solutions":MAILTO:info@optionssolutionsed.com
END:VEVENT
BEGIN:VEVENT
DTSTART;TZID=America/Vancouver:20210705T090000
DTEND;TZID=America/Vancouver:20210705T120000
DTSTAMP:20260422T185209
CREATED:20210514T172340Z
LAST-MODIFIED:20210514T172340Z
UID:8695-1625475600-1625486400@www.optionssolutionsed.com
SUMMARY:US Admissions Bootcamp
DESCRIPTION:This series of sessions will help students understand and tackle the US admissions process. \nThe goal of this boot camp is to relieve the stress students feel about the application process and to kick start the process in July. Students will leave the July boot camp with a solid start to the Common Application and other applications. Students are encouraged to attend the full series\, as each session will be unique and valuable. \nTopics will include: \n\nComprehensive overview and simulation of the US admissions process\nGenerating individualized timelines and accounts\nThe Common Application\nActivities list and data entry\nEssay writing\nUniversity of California Personal Statements\nRequesting Letters of Recommendation\n\n*All workshops are virtual via GoToMeeting
URL:https://www.optionssolutionsed.com/calendar/us-admissions-bootcamp-2/2021-07-05/
LOCATION:Virtual Format\, Online
ORGANIZER;CN="Options%20Solutions":MAILTO:info@optionssolutionsed.com
END:VEVENT
END:VCALENDAR