BEGIN:VCALENDAR
VERSION:2.0
PRODID:-//Options Solutions Educational Consultants - ECPv6.0.12//NONSGML v1.0//EN
CALSCALE:GREGORIAN
METHOD:PUBLISH
X-WR-CALNAME:Options Solutions Educational Consultants
X-ORIGINAL-URL:https://www.optionssolutionsed.com
X-WR-CALDESC:Events for Options Solutions Educational Consultants
REFRESH-INTERVAL;VALUE=DURATION:PT1H
X-Robots-Tag:noindex
X-PUBLISHED-TTL:PT1H
BEGIN:VTIMEZONE
TZID:America/Vancouver
BEGIN:DAYLIGHT
TZOFFSETFROM:-0800
TZOFFSETTO:-0700
TZNAME:PDT
DTSTART:20220313T100000
END:DAYLIGHT
BEGIN:STANDARD
TZOFFSETFROM:-0700
TZOFFSETTO:-0800
TZNAME:PST
DTSTART:20221106T090000
END:STANDARD
END:VTIMEZONE
BEGIN:VEVENT
DTSTART;TZID=America/Vancouver:20220630T160000
DTEND;TZID=America/Vancouver:20220630T190000
DTSTAMP:20260424T004615
CREATED:20220610T222737Z
LAST-MODIFIED:20220610T222737Z
UID:10403-1656604800-1656615600@www.optionssolutionsed.com
SUMMARY:US Admissions Boot Camp
DESCRIPTION:This series of sessions will help students understand and tackle the US admissions process. \nThe goal of this boot camp is to relieve the stress students feel about the application process and to kick start the process. Students will leave the boot camp with a solid start to the Common Application and other applications. Students are encouraged to attend the full series\, as each session will be unique and valuable.
URL:https://www.optionssolutionsed.com/calendar/us-admissions-boot-camp-6/2022-06-30/
ORGANIZER;CN="Options%20Solutions":MAILTO:info@optionssolutionsed.com
END:VEVENT
BEGIN:VEVENT
DTSTART;TZID=America/Vancouver:20220629T160000
DTEND;TZID=America/Vancouver:20220629T190000
DTSTAMP:20260424T004615
CREATED:20220610T222737Z
LAST-MODIFIED:20220610T222737Z
UID:10402-1656518400-1656529200@www.optionssolutionsed.com
SUMMARY:US Admissions Boot Camp
DESCRIPTION:This series of sessions will help students understand and tackle the US admissions process. \nThe goal of this boot camp is to relieve the stress students feel about the application process and to kick start the process. Students will leave the boot camp with a solid start to the Common Application and other applications. Students are encouraged to attend the full series\, as each session will be unique and valuable.
URL:https://www.optionssolutionsed.com/calendar/us-admissions-boot-camp-6/2022-06-29/
ORGANIZER;CN="Options%20Solutions":MAILTO:info@optionssolutionsed.com
END:VEVENT
BEGIN:VEVENT
DTSTART;TZID=America/Vancouver:20220628T160000
DTEND;TZID=America/Vancouver:20220628T190000
DTSTAMP:20260424T004615
CREATED:20220610T222737Z
LAST-MODIFIED:20220610T222737Z
UID:10400-1656432000-1656442800@www.optionssolutionsed.com
SUMMARY:US Admissions Boot Camp
DESCRIPTION:This series of sessions will help students understand and tackle the US admissions process. \nThe goal of this boot camp is to relieve the stress students feel about the application process and to kick start the process. Students will leave the boot camp with a solid start to the Common Application and other applications. Students are encouraged to attend the full series\, as each session will be unique and valuable.
URL:https://www.optionssolutionsed.com/calendar/us-admissions-boot-camp-6/2022-06-28/
ORGANIZER;CN="Options%20Solutions":MAILTO:info@optionssolutionsed.com
END:VEVENT
END:VCALENDAR