BEGIN:VCALENDAR
VERSION:2.0
PRODID:-//Options Solutions Educational Consultants - ECPv6.0.12//NONSGML v1.0//EN
CALSCALE:GREGORIAN
METHOD:PUBLISH
X-WR-CALNAME:Options Solutions Educational Consultants
X-ORIGINAL-URL:https://www.optionssolutionsed.com
X-WR-CALDESC:Events for Options Solutions Educational Consultants
REFRESH-INTERVAL;VALUE=DURATION:PT1H
X-Robots-Tag:noindex
X-PUBLISHED-TTL:PT1H
BEGIN:VTIMEZONE
TZID:America/Toronto
BEGIN:DAYLIGHT
TZOFFSETFROM:-0500
TZOFFSETTO:-0400
TZNAME:EDT
DTSTART:20190310T070000
END:DAYLIGHT
BEGIN:STANDARD
TZOFFSETFROM:-0400
TZOFFSETTO:-0500
TZNAME:EST
DTSTART:20191103T060000
END:STANDARD
END:VTIMEZONE
BEGIN:VEVENT
DTSTART;TZID=America/Toronto:20191106T170000
DTEND;TZID=America/Toronto:20191106T200000
DTSTAMP:20260423T063156
CREATED:20190424T023248Z
LAST-MODIFIED:20190424T023248Z
UID:1313-1573059600-1573070400@www.optionssolutionsed.com
SUMMARY:Intro to Supplement Writing Workshop
DESCRIPTION:This three-hour session introduces students to writing components for Canadian applications. The session will include a presentation that outlines the typical essay and supplemental writing prompts required by major Canadian universities and programs (e.g. UBC\, Queen’s\, Western). During this presentation\, session leaders will also provide writing and time management strategies and sample essays from previous years’ successful applications. Students will then be given time to brainstorm and engage in practice writing exercises. Options Solutions writing coaches will give students one-on-one feedback on their drafts\, and all students will leave with a clear direction on how to tackle and complete their application essays.
URL:https://www.optionssolutionsed.com/calendar/intro-to-supplement-writing-workshop/
LOCATION:South Granville Office\, 3195 Granville Street\, Suite 203\, Vancouver\, BC\, V6H 3K2\, Canada
CATEGORIES:supplement writing workshop,workshop
ORGANIZER;CN="Options%20Solutions":MAILTO:info@optionssolutionsed.com
END:VEVENT
END:VCALENDAR