BEGIN:VCALENDAR
VERSION:2.0
PRODID:-//Options Solutions Educational Consultants - ECPv6.0.12//NONSGML v1.0//EN
CALSCALE:GREGORIAN
METHOD:PUBLISH
X-WR-CALNAME:Options Solutions Educational Consultants
X-ORIGINAL-URL:https://www.optionssolutionsed.com
X-WR-CALDESC:Events for Options Solutions Educational Consultants
REFRESH-INTERVAL;VALUE=DURATION:PT1H
X-Robots-Tag:noindex
X-PUBLISHED-TTL:PT1H
BEGIN:VTIMEZONE
TZID:America/Vancouver
BEGIN:DAYLIGHT
TZOFFSETFROM:-0800
TZOFFSETTO:-0700
TZNAME:PDT
DTSTART:20220313T100000
END:DAYLIGHT
BEGIN:STANDARD
TZOFFSETFROM:-0700
TZOFFSETTO:-0800
TZNAME:PST
DTSTART:20221106T090000
END:STANDARD
END:VTIMEZONE
BEGIN:VEVENT
DTSTART;TZID=America/Vancouver:20220526T170000
DTEND;TZID=America/Vancouver:20220526T200000
DTSTAMP:20260420T063110
CREATED:20211028T184755Z
LAST-MODIFIED:20211028T184755Z
UID:9485-1653584400-1653595200@www.optionssolutionsed.com
SUMMARY:SAT Debrief
DESCRIPTION:If your student has completed our SAT mock exam at home\, join us for a three-hour virtual debrief to go over and analyze the results. Each student is given a cover sheet to help them understand their successes and their areas needing improvement. Going over the results can help your student understand where they went wrong\, what they did right\, and how they can improve before their test day. \nCost: \nSAT mock exam and debrief: $250+ applicable taxes\, includes 4-hour exam\, exam marking and 3 hour debrief session.\nSAT mock exam only: $150 + applicable taxes\, includes 4-hour exam\, exam marking.
URL:https://www.optionssolutionsed.com/calendar/sat-debrief/2022-05-26/
LOCATION:Virtual Format\, Online
ORGANIZER;CN="Options%20Solutions":MAILTO:info@optionssolutionsed.com
END:VEVENT
BEGIN:VEVENT
DTSTART;TZID=America/Vancouver:20220203T170000
DTEND;TZID=America/Vancouver:20220203T200000
DTSTAMP:20260420T063110
CREATED:20211028T184755Z
LAST-MODIFIED:20211028T184755Z
UID:9483-1643907600-1643918400@www.optionssolutionsed.com
SUMMARY:SAT Debrief
DESCRIPTION:If your student has completed our SAT mock exam at home\, join us for a three-hour virtual debrief to go over and analyze the results. Each student is given a cover sheet to help them understand their successes and their areas needing improvement. Going over the results can help your student understand where they went wrong\, what they did right\, and how they can improve before their test day. \nCost: \nSAT mock exam and debrief: $250+ applicable taxes\, includes 4-hour exam\, exam marking and 3 hour debrief session.\nSAT mock exam only: $150 + applicable taxes\, includes 4-hour exam\, exam marking.
URL:https://www.optionssolutionsed.com/calendar/sat-debrief/2022-02-03/
LOCATION:Virtual Format\, Online
ORGANIZER;CN="Options%20Solutions":MAILTO:info@optionssolutionsed.com
END:VEVENT
END:VCALENDAR