BEGIN:VCALENDAR
VERSION:2.0
PRODID:-//Options Solutions Educational Consultants - ECPv6.0.12//NONSGML v1.0//EN
CALSCALE:GREGORIAN
METHOD:PUBLISH
X-ORIGINAL-URL:https://www.optionssolutionsed.com
X-WR-CALDESC:Events for Options Solutions Educational Consultants
REFRESH-INTERVAL;VALUE=DURATION:PT1H
X-Robots-Tag:noindex
X-PUBLISHED-TTL:PT1H
BEGIN:VTIMEZONE
TZID:America/Vancouver
BEGIN:DAYLIGHT
TZOFFSETFROM:-0800
TZOFFSETTO:-0700
TZNAME:PDT
DTSTART:20200308T100000
END:DAYLIGHT
BEGIN:STANDARD
TZOFFSETFROM:-0700
TZOFFSETTO:-0800
TZNAME:PST
DTSTART:20201101T090000
END:STANDARD
END:VTIMEZONE
BEGIN:VEVENT
DTSTART;TZID=America/Vancouver:20201212T090000
DTEND;TZID=America/Vancouver:20201212T120000
DTSTAMP:20260425T142324
CREATED:20200716T212352Z
LAST-MODIFIED:20210114T211654Z
UID:7563-1607763600-1607774400@www.optionssolutionsed.com
SUMMARY:Supplement Writing Workshop
DESCRIPTION:These sessions aim to help students complete the supplemental writing portions of their university and scholarship applications\, including essays\, personal statements\, activities summaries and resumes. \nWriting Workshop serves as an accessible introduction to university supplement writing\, and students will leave the sessions with an understanding of effective written language use. We accommodate students working on a variety of projects all in the same session\, and our writing coaches work personally with students on their unique pieces. \n\nStudents should have handy their list of universities and programs they are applying to for this session.\nWe strongly encourage all students to attend an Intro to Canadian Supplement Writing\nWorkshop before attending a Supplement Writing Workshop.
URL:https://www.optionssolutionsed.com/calendar/supplement-writing-workshop-4/2020-12-12/
LOCATION:Virtual Format\, Online
CATEGORIES:supplement writing workshop,workshop
ORGANIZER;CN="Options%20Solutions":MAILTO:info@optionssolutionsed.com
END:VEVENT
BEGIN:VEVENT
DTSTART;TZID=America/Vancouver:20201217T173000
DTEND;TZID=America/Vancouver:20201217T203000
DTSTAMP:20260425T142324
CREATED:20200716T212352Z
LAST-MODIFIED:20210114T211704Z
UID:7564-1608226200-1608237000@www.optionssolutionsed.com
SUMMARY:Supplement Writing Workshop
DESCRIPTION:These sessions aim to help students complete the supplemental writing portions of their university and scholarship applications\, including essays\, personal statements\, activities summaries and resumes. \nWriting Workshop serves as an accessible introduction to university supplement writing\, and students will leave the sessions with an understanding of effective written language use. We accommodate students working on a variety of projects all in the same session\, and our writing coaches work personally with students on their unique pieces. \n\nStudents should have handy their list of universities and programs they are applying to for this session.\nWe strongly encourage all students to attend an Intro to Canadian Supplement Writing\nWorkshop before attending a Supplement Writing Workshop.
URL:https://www.optionssolutionsed.com/calendar/supplement-writing-workshop-4/2020-12-17/
LOCATION:Virtual Format\, Online
CATEGORIES:supplement writing workshop,workshop
ORGANIZER;CN="Options%20Solutions":MAILTO:info@optionssolutionsed.com
END:VEVENT
BEGIN:VEVENT
DTSTART;TZID=America/Vancouver:20201219T090000
DTEND;TZID=America/Vancouver:20201219T120000
DTSTAMP:20260425T142324
CREATED:20200716T212352Z
LAST-MODIFIED:20210114T211704Z
UID:7565-1608368400-1608379200@www.optionssolutionsed.com
SUMMARY:Supplement Writing Workshop
DESCRIPTION:These sessions aim to help students complete the supplemental writing portions of their university and scholarship applications\, including essays\, personal statements\, activities summaries and resumes. \nWriting Workshop serves as an accessible introduction to university supplement writing\, and students will leave the sessions with an understanding of effective written language use. We accommodate students working on a variety of projects all in the same session\, and our writing coaches work personally with students on their unique pieces. \n\nStudents should have handy their list of universities and programs they are applying to for this session.\nWe strongly encourage all students to attend an Intro to Canadian Supplement Writing\nWorkshop before attending a Supplement Writing Workshop.
URL:https://www.optionssolutionsed.com/calendar/supplement-writing-workshop-4/2020-12-19/
LOCATION:Virtual Format\, Online
CATEGORIES:supplement writing workshop,workshop
ORGANIZER;CN="Options%20Solutions":MAILTO:info@optionssolutionsed.com
END:VEVENT
BEGIN:VEVENT
DTSTART;TZID=America/Vancouver:20201221T090000
DTEND;TZID=America/Vancouver:20201221T120000
DTSTAMP:20260425T142324
CREATED:20200716T212352Z
LAST-MODIFIED:20210114T211705Z
UID:7566-1608541200-1608552000@www.optionssolutionsed.com
SUMMARY:Supplement Writing Workshop
DESCRIPTION:These sessions aim to help students complete the supplemental writing portions of their university and scholarship applications\, including essays\, personal statements\, activities summaries and resumes. \nWriting Workshop serves as an accessible introduction to university supplement writing\, and students will leave the sessions with an understanding of effective written language use. We accommodate students working on a variety of projects all in the same session\, and our writing coaches work personally with students on their unique pieces. \n\nStudents should have handy their list of universities and programs they are applying to for this session.\nWe strongly encourage all students to attend an Intro to Canadian Supplement Writing\nWorkshop before attending a Supplement Writing Workshop.
URL:https://www.optionssolutionsed.com/calendar/supplement-writing-workshop-4/2020-12-21/
LOCATION:Virtual Format\, Online
CATEGORIES:supplement writing workshop,workshop
ORGANIZER;CN="Options%20Solutions":MAILTO:info@optionssolutionsed.com
END:VEVENT
BEGIN:VEVENT
DTSTART;TZID=America/Vancouver:20201228T100000
DTEND;TZID=America/Vancouver:20201228T130000
DTSTAMP:20260425T142324
CREATED:20201106T221100Z
LAST-MODIFIED:20210312T230626Z
UID:7900-1609149600-1609160400@www.optionssolutionsed.com
SUMMARY:Core Test Skills - Math Session
DESCRIPTION:These intensive sessions focus on helping students master the ACT or SAT exam. Topics will the math portion of the test\, including test-taking strategies\, time management tips\, and crossover skills for the ACT/SAT exam. Materials will be provided. \nHow is test prep at Options different?\nTest prep at Options is unique because it combines test preparation with the teaching of fundamental academic skills. With many years of experience\, Options instructors ensure that students understand the higher-level reading\, writing and math skills that will prepare them for the ACT and SAT\, but will also help them succeed in high school and beyond. Options doesn’t just teach “test-taking tricks” like other test prep organizations. Instead\, students receive a strong grounding in how the test works and strategies for attaining a high score\, combined with an opportunity to increase their overall academic performance.
URL:https://www.optionssolutionsed.com/calendar/core-test-skills/2020-12-28/
LOCATION:Virtual Format\, Online
CATEGORIES:ACT prep,workshop
ORGANIZER;CN="Options%20Solutions":MAILTO:info@optionssolutionsed.com
END:VEVENT
BEGIN:VEVENT
DTSTART;TZID=America/Vancouver:20201228T100000
DTEND;TZID=America/Vancouver:20201228T130000
DTSTAMP:20260425T142324
CREATED:20201106T222140Z
LAST-MODIFIED:20201106T222140Z
UID:7911-1609149600-1609160400@www.optionssolutionsed.com
SUMMARY:Mastering the Essay (10-12) Boot Camp
DESCRIPTION:Want to brush up on your reading and writing skills over winter break? Options Solutions wants to help! \nThis interactive\, fast-paced workshop is aimed at providing students with the theory and practice to succeed in their English studies at the grade 10 to 12 level. It will give students the skills and confidence they need to succeed\, making their future English courses easier and more enjoyable. Furthermore\, the active reading\, planning\, and essay writing skills are a great way to prepare for the Graduate Literacy Assessment (GLA)\, a new provincial exam for students in grade 10 and 12. \nTopics will include: \n\nActive reading\nSynthesis essays\nArgumentative essays\nNarrative essays
URL:https://www.optionssolutionsed.com/calendar/mastering-the-essay-10-12-boot-camp/2020-12-28/
LOCATION:Virtual Format\, Online
ORGANIZER;CN="Options%20Solutions":MAILTO:info@optionssolutionsed.com
END:VEVENT
BEGIN:VEVENT
DTSTART;TZID=America/Vancouver:20201229T100000
DTEND;TZID=America/Vancouver:20201229T130000
DTSTAMP:20260425T142324
CREATED:20201106T221100Z
LAST-MODIFIED:20210312T230626Z
UID:7903-1609236000-1609246800@www.optionssolutionsed.com
SUMMARY:Core Test Skills - Math Session
DESCRIPTION:These intensive sessions focus on helping students master the ACT or SAT exam. Topics will the math portion of the test\, including test-taking strategies\, time management tips\, and crossover skills for the ACT/SAT exam. Materials will be provided. \nHow is test prep at Options different?\nTest prep at Options is unique because it combines test preparation with the teaching of fundamental academic skills. With many years of experience\, Options instructors ensure that students understand the higher-level reading\, writing and math skills that will prepare them for the ACT and SAT\, but will also help them succeed in high school and beyond. Options doesn’t just teach “test-taking tricks” like other test prep organizations. Instead\, students receive a strong grounding in how the test works and strategies for attaining a high score\, combined with an opportunity to increase their overall academic performance.
URL:https://www.optionssolutionsed.com/calendar/core-test-skills/2020-12-29/
LOCATION:Virtual Format\, Online
CATEGORIES:ACT prep,workshop
ORGANIZER;CN="Options%20Solutions":MAILTO:info@optionssolutionsed.com
END:VEVENT
BEGIN:VEVENT
DTSTART;TZID=America/Vancouver:20201229T100000
DTEND;TZID=America/Vancouver:20201229T130000
DTSTAMP:20260425T142324
CREATED:20201106T222140Z
LAST-MODIFIED:20201106T222140Z
UID:7913-1609236000-1609246800@www.optionssolutionsed.com
SUMMARY:Mastering the Essay (10-12) Boot Camp
DESCRIPTION:Want to brush up on your reading and writing skills over winter break? Options Solutions wants to help! \nThis interactive\, fast-paced workshop is aimed at providing students with the theory and practice to succeed in their English studies at the grade 10 to 12 level. It will give students the skills and confidence they need to succeed\, making their future English courses easier and more enjoyable. Furthermore\, the active reading\, planning\, and essay writing skills are a great way to prepare for the Graduate Literacy Assessment (GLA)\, a new provincial exam for students in grade 10 and 12. \nTopics will include: \n\nActive reading\nSynthesis essays\nArgumentative essays\nNarrative essays
URL:https://www.optionssolutionsed.com/calendar/mastering-the-essay-10-12-boot-camp/2020-12-29/
LOCATION:Virtual Format\, Online
ORGANIZER;CN="Options%20Solutions":MAILTO:info@optionssolutionsed.com
END:VEVENT
BEGIN:VEVENT
DTSTART;TZID=America/Vancouver:20201230T100000
DTEND;TZID=America/Vancouver:20201230T130000
DTSTAMP:20260425T142324
CREATED:20201106T221100Z
LAST-MODIFIED:20210312T230626Z
UID:7904-1609322400-1609333200@www.optionssolutionsed.com
SUMMARY:Core Test Skills - Math Session
DESCRIPTION:These intensive sessions focus on helping students master the ACT or SAT exam. Topics will the math portion of the test\, including test-taking strategies\, time management tips\, and crossover skills for the ACT/SAT exam. Materials will be provided. \nHow is test prep at Options different?\nTest prep at Options is unique because it combines test preparation with the teaching of fundamental academic skills. With many years of experience\, Options instructors ensure that students understand the higher-level reading\, writing and math skills that will prepare them for the ACT and SAT\, but will also help them succeed in high school and beyond. Options doesn’t just teach “test-taking tricks” like other test prep organizations. Instead\, students receive a strong grounding in how the test works and strategies for attaining a high score\, combined with an opportunity to increase their overall academic performance.
URL:https://www.optionssolutionsed.com/calendar/core-test-skills/2020-12-30/
LOCATION:Virtual Format\, Online
CATEGORIES:ACT prep,workshop
ORGANIZER;CN="Options%20Solutions":MAILTO:info@optionssolutionsed.com
END:VEVENT
BEGIN:VEVENT
DTSTART;TZID=America/Vancouver:20201230T100000
DTEND;TZID=America/Vancouver:20201230T130000
DTSTAMP:20260425T142324
CREATED:20201106T222140Z
LAST-MODIFIED:20201106T222140Z
UID:7914-1609322400-1609333200@www.optionssolutionsed.com
SUMMARY:Mastering the Essay (10-12) Boot Camp
DESCRIPTION:Want to brush up on your reading and writing skills over winter break? Options Solutions wants to help! \nThis interactive\, fast-paced workshop is aimed at providing students with the theory and practice to succeed in their English studies at the grade 10 to 12 level. It will give students the skills and confidence they need to succeed\, making their future English courses easier and more enjoyable. Furthermore\, the active reading\, planning\, and essay writing skills are a great way to prepare for the Graduate Literacy Assessment (GLA)\, a new provincial exam for students in grade 10 and 12. \nTopics will include: \n\nActive reading\nSynthesis essays\nArgumentative essays\nNarrative essays
URL:https://www.optionssolutionsed.com/calendar/mastering-the-essay-10-12-boot-camp/2020-12-30/
LOCATION:Virtual Format\, Online
ORGANIZER;CN="Options%20Solutions":MAILTO:info@optionssolutionsed.com
END:VEVENT
BEGIN:VEVENT
DTSTART;TZID=America/Vancouver:20201231T100000
DTEND;TZID=America/Vancouver:20201231T130000
DTSTAMP:20260425T142324
CREATED:20201106T221100Z
LAST-MODIFIED:20210312T230627Z
UID:7905-1609408800-1609419600@www.optionssolutionsed.com
SUMMARY:Core Test Skills - Math Session
DESCRIPTION:These intensive sessions focus on helping students master the ACT or SAT exam. Topics will the math portion of the test\, including test-taking strategies\, time management tips\, and crossover skills for the ACT/SAT exam. Materials will be provided. \nHow is test prep at Options different?\nTest prep at Options is unique because it combines test preparation with the teaching of fundamental academic skills. With many years of experience\, Options instructors ensure that students understand the higher-level reading\, writing and math skills that will prepare them for the ACT and SAT\, but will also help them succeed in high school and beyond. Options doesn’t just teach “test-taking tricks” like other test prep organizations. Instead\, students receive a strong grounding in how the test works and strategies for attaining a high score\, combined with an opportunity to increase their overall academic performance.
URL:https://www.optionssolutionsed.com/calendar/core-test-skills/2020-12-31/
LOCATION:Virtual Format\, Online
CATEGORIES:ACT prep,workshop
ORGANIZER;CN="Options%20Solutions":MAILTO:info@optionssolutionsed.com
END:VEVENT
BEGIN:VEVENT
DTSTART;TZID=America/Vancouver:20201231T100000
DTEND;TZID=America/Vancouver:20201231T130000
DTSTAMP:20260425T142324
CREATED:20201106T222140Z
LAST-MODIFIED:20201106T222140Z
UID:7915-1609408800-1609419600@www.optionssolutionsed.com
SUMMARY:Mastering the Essay (10-12) Boot Camp
DESCRIPTION:Want to brush up on your reading and writing skills over winter break? Options Solutions wants to help! \nThis interactive\, fast-paced workshop is aimed at providing students with the theory and practice to succeed in their English studies at the grade 10 to 12 level. It will give students the skills and confidence they need to succeed\, making their future English courses easier and more enjoyable. Furthermore\, the active reading\, planning\, and essay writing skills are a great way to prepare for the Graduate Literacy Assessment (GLA)\, a new provincial exam for students in grade 10 and 12. \nTopics will include: \n\nActive reading\nSynthesis essays\nArgumentative essays\nNarrative essays
URL:https://www.optionssolutionsed.com/calendar/mastering-the-essay-10-12-boot-camp/2020-12-31/
LOCATION:Virtual Format\, Online
ORGANIZER;CN="Options%20Solutions":MAILTO:info@optionssolutionsed.com
END:VEVENT
END:VCALENDAR