BEGIN:VCALENDAR
VERSION:2.0
PRODID:-//Options Solutions Educational Consultants - ECPv6.0.12//NONSGML v1.0//EN
CALSCALE:GREGORIAN
METHOD:PUBLISH
X-WR-CALNAME:Options Solutions Educational Consultants
X-ORIGINAL-URL:https://www.optionssolutionsed.com
X-WR-CALDESC:Events for Options Solutions Educational Consultants
REFRESH-INTERVAL;VALUE=DURATION:PT1H
X-Robots-Tag:noindex
X-PUBLISHED-TTL:PT1H
BEGIN:VTIMEZONE
TZID:America/Vancouver
BEGIN:DAYLIGHT
TZOFFSETFROM:-0800
TZOFFSETTO:-0700
TZNAME:PDT
DTSTART:20200308T100000
END:DAYLIGHT
BEGIN:STANDARD
TZOFFSETFROM:-0700
TZOFFSETTO:-0800
TZNAME:PST
DTSTART:20201101T090000
END:STANDARD
END:VTIMEZONE
BEGIN:VEVENT
DTSTART;TZID=America/Vancouver:20200603T180000
DTEND;TZID=America/Vancouver:20200603T200000
DTSTAMP:20260421T082329
CREATED:20200204T201646Z
LAST-MODIFIED:20200328T222038Z
UID:5750-1591207200-1591214400@www.optionssolutionsed.com
SUMMARY:ACT/SAT Weekly Core Test Skills
DESCRIPTION:Core test skills classes at Options Solutions allow students to prepare for the ACT and/or SAT exam(s) while also building essential academic skills. Students develop their abilities as active readers\, learn fundamental grammar\, and increase their understanding of math fundamentals. Ongoing classes prepare students for the ACT and/or SAT by teaching test structure and test-taking strategy. At the same time\, students learn skills that translate into success at school in reading\, writing and math. \nWhy is test prep at Options different? \n  \nTest prep at Options is unique because it combines test preparation with teaching fundamental academic skills. With many years of experience\, Options teachers ensure that students understand the higher-level reading\, writing and math skills that will prepare them for the ACT and/or SAT\, but will also help them succeed in high school and beyond. Students receive a strong grounding in how the test works and strategies for attaining a high score\, combined with an opportunity to increase their overall academic performance. Students can attend each session or pick and choose the sessions they need. Content is unique for each session and is never repeated.
URL:https://www.optionssolutionsed.com/calendar/weekly-core-test-skills/2020-06-03/
LOCATION:West Vancouver Office\, 1549 Marine Drive\, Suite 303\, West Vancouver\, BC\, V7V 1H9\, Canada
CATEGORIES:ACT prep,workshop
END:VEVENT
BEGIN:VEVENT
DTSTART;TZID=America/Vancouver:20200603T180000
DTEND;TZID=America/Vancouver:20200603T200000
DTSTAMP:20260421T082329
CREATED:20200413T195257Z
LAST-MODIFIED:20210323T214923Z
UID:5943-1591207200-1591214400@www.optionssolutionsed.com
SUMMARY:English 101 Workshop
DESCRIPTION:These weekly two-hour workshops are designed to give students in grades 9-11 ongoing English and writing support\, so they don’t lose their momentum due to online learning. Students will learn essential skills to improve their writing and build on these fundamentals each week to become more confident and better equipped to deal with any writing task they may encounter throughout high school and ensure they don’t backslide. Materials will be provided. \nThis course will cover: \n\nActive reading and annotations\nPlanning and outlining\nEssay organization\nAnalytical essay writing\nSynthesis essay writing\nResearch essay writing\nWriting creatively\nEditing\n\nEach student will leave with a better understanding of different essay writing genres and expectations. Students are encouraged to join all days of each session.
URL:https://www.optionssolutionsed.com/calendar/english-101-workshop/2020-06-03/
LOCATION:Virtual Format\, Online
CATEGORIES:english workshop,workshop
ORGANIZER;CN="Options%20Solutions":MAILTO:info@optionssolutionsed.com
END:VEVENT
BEGIN:VEVENT
DTSTART;TZID=America/Vancouver:20200606T100000
DTEND;TZID=America/Vancouver:20200606T170000
DTSTAMP:20260421T082329
CREATED:20190829T000016Z
LAST-MODIFIED:20200121T193245Z
UID:4569-1591437600-1591462800@www.optionssolutionsed.com
SUMMARY:ACT/SAT-Weekend Prep
DESCRIPTION:These weekend prep sessions are designed to deliver a concentration of exam prep. Each Saturday and Sunday is divided into two sessions from 9 am to 12 pm and 1 pm to 4 pm. The material used in weekend prep is different from any material used in previous prep sessions.Each Super Weekend is situated before an official ACT or SAT test date and is meant to be a focused weekend of study. \nDates include: \nJun 6\n10 am to 1 pm – Math\n2 pm to 5 pm – Science \n\nJun 7\n10 am to 1 pm – Essay/Reading\n2 pm to 5 pm – English/Grammar
URL:https://www.optionssolutionsed.com/calendar/act-sat-weekend-prep-2/
LOCATION:West Vancouver Office\, 1549 Marine Drive\, Suite 303\, West Vancouver\, BC\, V7V 1H9\, Canada
CATEGORIES:ACT prep,workshop
ORGANIZER;CN="Options%20Solutions%20-%20West%20Vancouver":MAILTO:westvan@optionssolutionsed.com
END:VEVENT
BEGIN:VEVENT
DTSTART;TZID=America/Vancouver:20200610T180000
DTEND;TZID=America/Vancouver:20200610T200000
DTSTAMP:20260421T082329
CREATED:20200204T201646Z
LAST-MODIFIED:20200328T222039Z
UID:5751-1591812000-1591819200@www.optionssolutionsed.com
SUMMARY:ACT/SAT Weekly Core Test Skills
DESCRIPTION:Core test skills classes at Options Solutions allow students to prepare for the ACT and/or SAT exam(s) while also building essential academic skills. Students develop their abilities as active readers\, learn fundamental grammar\, and increase their understanding of math fundamentals. Ongoing classes prepare students for the ACT and/or SAT by teaching test structure and test-taking strategy. At the same time\, students learn skills that translate into success at school in reading\, writing and math. \nWhy is test prep at Options different? \n  \nTest prep at Options is unique because it combines test preparation with teaching fundamental academic skills. With many years of experience\, Options teachers ensure that students understand the higher-level reading\, writing and math skills that will prepare them for the ACT and/or SAT\, but will also help them succeed in high school and beyond. Students receive a strong grounding in how the test works and strategies for attaining a high score\, combined with an opportunity to increase their overall academic performance. Students can attend each session or pick and choose the sessions they need. Content is unique for each session and is never repeated.
URL:https://www.optionssolutionsed.com/calendar/weekly-core-test-skills/2020-06-10/
LOCATION:West Vancouver Office\, 1549 Marine Drive\, Suite 303\, West Vancouver\, BC\, V7V 1H9\, Canada
CATEGORIES:ACT prep,workshop
END:VEVENT
BEGIN:VEVENT
DTSTART;TZID=America/Vancouver:20200610T180000
DTEND;TZID=America/Vancouver:20200610T200000
DTSTAMP:20260421T082329
CREATED:20200413T195257Z
LAST-MODIFIED:20210323T214923Z
UID:5944-1591812000-1591819200@www.optionssolutionsed.com
SUMMARY:English 101 Workshop
DESCRIPTION:These weekly two-hour workshops are designed to give students in grades 9-11 ongoing English and writing support\, so they don’t lose their momentum due to online learning. Students will learn essential skills to improve their writing and build on these fundamentals each week to become more confident and better equipped to deal with any writing task they may encounter throughout high school and ensure they don’t backslide. Materials will be provided. \nThis course will cover: \n\nActive reading and annotations\nPlanning and outlining\nEssay organization\nAnalytical essay writing\nSynthesis essay writing\nResearch essay writing\nWriting creatively\nEditing\n\nEach student will leave with a better understanding of different essay writing genres and expectations. Students are encouraged to join all days of each session.
URL:https://www.optionssolutionsed.com/calendar/english-101-workshop/2020-06-10/
LOCATION:Virtual Format\, Online
CATEGORIES:english workshop,workshop
ORGANIZER;CN="Options%20Solutions":MAILTO:info@optionssolutionsed.com
END:VEVENT
BEGIN:VEVENT
DTSTART;TZID=America/Vancouver:20200623T160000
DTEND;TZID=America/Vancouver:20200623T180000
DTSTAMP:20260421T082329
CREATED:20200121T204257Z
LAST-MODIFIED:20200622T154012Z
UID:4932-1592928000-1592935200@www.optionssolutionsed.com
SUMMARY:US Admissions Bootcamp
DESCRIPTION:This series of sessions will help students understand and tackle the US admissions\nprocess. The goal of this boot camp is to relieve the stress students feel about the\napplication process and to kick start the process in June\, continuing with group work\nsessions throughout the summer. Students will leave the June boot camp with a solid\nstart to the Common Application and other applications. Students are encouraged to\nattend the full series\, as each session will be unique and valuable. \nGet a jumpstart on your US applications! \nTopics covered include: \nComprehensive overview and simulation of the US admissions process \nGenerating individualized timelines and\naccounts \nThe Common Application \nActivities list and data entry \nEssay writing \nUniversity of California Personal Statements \nRequesting Letters of Recommendation \n  \nPlease bring a laptop to each session and a list of US universities you plan to apply to.
URL:https://www.optionssolutionsed.com/calendar/us-admissions-bootcamp/2020-06-23/
LOCATION:Virtual Format\, Online
END:VEVENT
BEGIN:VEVENT
DTSTART;TZID=America/Vancouver:20200624T160000
DTEND;TZID=America/Vancouver:20200624T180000
DTSTAMP:20260421T082329
CREATED:20200121T204257Z
LAST-MODIFIED:20200622T154012Z
UID:6817-1593014400-1593021600@www.optionssolutionsed.com
SUMMARY:US Admissions Bootcamp
DESCRIPTION:This series of sessions will help students understand and tackle the US admissions\nprocess. The goal of this boot camp is to relieve the stress students feel about the\napplication process and to kick start the process in June\, continuing with group work\nsessions throughout the summer. Students will leave the June boot camp with a solid\nstart to the Common Application and other applications. Students are encouraged to\nattend the full series\, as each session will be unique and valuable. \nGet a jumpstart on your US applications! \nTopics covered include: \nComprehensive overview and simulation of the US admissions process \nGenerating individualized timelines and\naccounts \nThe Common Application \nActivities list and data entry \nEssay writing \nUniversity of California Personal Statements \nRequesting Letters of Recommendation \n  \nPlease bring a laptop to each session and a list of US universities you plan to apply to.
URL:https://www.optionssolutionsed.com/calendar/us-admissions-bootcamp/2020-06-24/
LOCATION:Virtual Format\, Online
END:VEVENT
BEGIN:VEVENT
DTSTART;TZID=America/Vancouver:20200625T160000
DTEND;TZID=America/Vancouver:20200625T180000
DTSTAMP:20260421T082329
CREATED:20200121T204257Z
LAST-MODIFIED:20200622T154013Z
UID:6818-1593100800-1593108000@www.optionssolutionsed.com
SUMMARY:US Admissions Bootcamp
DESCRIPTION:This series of sessions will help students understand and tackle the US admissions\nprocess. The goal of this boot camp is to relieve the stress students feel about the\napplication process and to kick start the process in June\, continuing with group work\nsessions throughout the summer. Students will leave the June boot camp with a solid\nstart to the Common Application and other applications. Students are encouraged to\nattend the full series\, as each session will be unique and valuable. \nGet a jumpstart on your US applications! \nTopics covered include: \nComprehensive overview and simulation of the US admissions process \nGenerating individualized timelines and\naccounts \nThe Common Application \nActivities list and data entry \nEssay writing \nUniversity of California Personal Statements \nRequesting Letters of Recommendation \n  \nPlease bring a laptop to each session and a list of US universities you plan to apply to.
URL:https://www.optionssolutionsed.com/calendar/us-admissions-bootcamp/2020-06-25/
LOCATION:Virtual Format\, Online
END:VEVENT
BEGIN:VEVENT
DTSTART;TZID=America/Vancouver:20200626T140000
DTEND;TZID=America/Vancouver:20200626T160000
DTSTAMP:20260421T082329
CREATED:20200121T204257Z
LAST-MODIFIED:20200622T154013Z
UID:6819-1593180000-1593187200@www.optionssolutionsed.com
SUMMARY:US Admissions Bootcamp
DESCRIPTION:This series of sessions will help students understand and tackle the US admissions\nprocess. The goal of this boot camp is to relieve the stress students feel about the\napplication process and to kick start the process in June\, continuing with group work\nsessions throughout the summer. Students will leave the June boot camp with a solid\nstart to the Common Application and other applications. Students are encouraged to\nattend the full series\, as each session will be unique and valuable. \nGet a jumpstart on your US applications! \nTopics covered include: \nComprehensive overview and simulation of the US admissions process \nGenerating individualized timelines and\naccounts \nThe Common Application \nActivities list and data entry \nEssay writing \nUniversity of California Personal Statements \nRequesting Letters of Recommendation \n  \nPlease bring a laptop to each session and a list of US universities you plan to apply to.
URL:https://www.optionssolutionsed.com/calendar/us-admissions-bootcamp/2020-06-26/
LOCATION:Virtual Format\, Online
END:VEVENT
END:VCALENDAR