BEGIN:VCALENDAR
VERSION:2.0
PRODID:-//Options Solutions Educational Consultants - ECPv6.0.12//NONSGML v1.0//EN
CALSCALE:GREGORIAN
METHOD:PUBLISH
X-WR-CALNAME:Options Solutions Educational Consultants
X-ORIGINAL-URL:https://www.optionssolutionsed.com
X-WR-CALDESC:Events for Options Solutions Educational Consultants
REFRESH-INTERVAL;VALUE=DURATION:PT1H
X-Robots-Tag:noindex
X-PUBLISHED-TTL:PT1H
BEGIN:VTIMEZONE
TZID:America/Vancouver
BEGIN:DAYLIGHT
TZOFFSETFROM:-0800
TZOFFSETTO:-0700
TZNAME:PDT
DTSTART:20200308T100000
END:DAYLIGHT
BEGIN:STANDARD
TZOFFSETFROM:-0700
TZOFFSETTO:-0800
TZNAME:PST
DTSTART:20201101T090000
END:STANDARD
END:VTIMEZONE
BEGIN:VEVENT
DTSTART;TZID=America/Vancouver:20200404T100000
DTEND;TZID=America/Vancouver:20200404T120000
DTSTAMP:20260421T040403
CREATED:20200328T231447Z
LAST-MODIFIED:20200417T194531Z
UID:5785-1585994400-1586001600@www.optionssolutionsed.com
SUMMARY:Thriving in an Online Environment
DESCRIPTION:This two-hour workshop is designed to give students an introduction to how they can thrive in their new online environment\, so they are better able to approach this learning opportunity with the knowledge and skills necessary for success. Students will learn essential strategies to help them make the best use of their executive functioning skills as their classes move online. Materials will be provided. \nThis workshop will cover: \n\nSetting up a study space\nPlanning work/study time\nUsing agendas/calendars\nDigital note-taking\nDigital organization\nOnline resources\nStress management\nOnline studying strategies
URL:https://www.optionssolutionsed.com/calendar/thriving-in-an-online-environment/2020-04-04/
LOCATION:Virtual Format\, Online
CATEGORIES:english workshop,workshop
END:VEVENT
BEGIN:VEVENT
DTSTART;TZID=America/Vancouver:20200404T180000
DTEND;TZID=America/Vancouver:20200404T200000
DTSTAMP:20260421T040403
CREATED:20200328T215305Z
LAST-MODIFIED:20200328T233141Z
UID:5756-1586023200-1586030400@www.optionssolutionsed.com
SUMMARY:Graduation Literacy Assessment Prep: 3-Part Study Series
DESCRIPTION:These in-depth study sessions cover each section of the\nexam. Most students should attend all three\, while more\nadvanced English students can target their weak areas. In\neach session\, students will have opportunities to do hands on\npractice and receive incisive feedback from the\ninstructor. \nPart A: focuses on textual analysis and active reading\,\nmultiple-choice strategy\, and the creation of a graphic\norganizer. \nPart B: tackles active reading\, essay planning\, and\nwriting a multi-paragraph essay. \nPart C: introduces students to two essay approaches\nand then guides their writing.
URL:https://www.optionssolutionsed.com/calendar/graduation-literacy-assessment-prep-3-part-study-series/2020-04-04/
LOCATION:All Offices
CATEGORIES:graduation literacy assessment prep,workshop
END:VEVENT
BEGIN:VEVENT
DTSTART;TZID=America/Vancouver:20200406T180000
DTEND;TZID=America/Vancouver:20200406T200000
DTSTAMP:20260421T040403
CREATED:20200328T231105Z
LAST-MODIFIED:20200328T231105Z
UID:5781-1586196000-1586203200@www.optionssolutionsed.com
SUMMARY:Essay Essentials
DESCRIPTION:This three-day boot camp is designed to give current grade 9\, 10\,\n11\, and 12 students a solid understanding of English grammar\,\nwriting conventions\, and essay basics\, so they can approach\nessay writing with the knowledge and skills necessary for\nsuccess. Students will learn the essentials to writing expert\nargumentative essays\, the most common essay genre they will\nwrite in high school. This session will be a great way to hone\nstudents’ writing skills while classes transition to an online\nmodel. Materials will be provided. \nThe course will cover: \n\nActive reading\nEssay planning\nThesis construction\nUsage of evidence\nMLA citations\nTargeted Editing\n\n*This will be a virtual session
URL:https://www.optionssolutionsed.com/calendar/essay-essentials/2020-04-06/
LOCATION:West Vancouver Office\, 1549 Marine Drive\, Suite 303\, West Vancouver\, BC\, V7V 1H9\, Canada
CATEGORIES:english workshop,workshop
END:VEVENT
BEGIN:VEVENT
DTSTART;TZID=America/Vancouver:20200422T180000
DTEND;TZID=America/Vancouver:20200422T200000
DTSTAMP:20260421T040403
CREATED:20200204T201646Z
LAST-MODIFIED:20200328T215551Z
UID:5744-1587578400-1587585600@www.optionssolutionsed.com
SUMMARY:ACT/SAT Weekly Core Test Skills
DESCRIPTION:Core test skills classes at Options Solutions allow students to prepare for the ACT and/or SAT exam(s) while also building essential academic skills. Students develop their abilities as active readers\, learn fundamental grammar\, and increase their understanding of math fundamentals. Ongoing classes prepare students for the ACT and/or SAT by teaching test structure and test-taking strategy. At the same time\, students learn skills that translate into success at school in reading\, writing and math. \nWhy is test prep at Options different? \n  \nTest prep at Options is unique because it combines test preparation with teaching fundamental academic skills. With many years of experience\, Options teachers ensure that students understand the higher-level reading\, writing and math skills that will prepare them for the ACT and/or SAT\, but will also help them succeed in high school and beyond. Students receive a strong grounding in how the test works and strategies for attaining a high score\, combined with an opportunity to increase their overall academic performance. Students can attend each session or pick and choose the sessions they need. Content is unique for each session and is never repeated.
URL:https://www.optionssolutionsed.com/calendar/weekly-core-test-skills/2020-04-22/
LOCATION:West Vancouver Office\, 1549 Marine Drive\, Suite 303\, West Vancouver\, BC\, V7V 1H9\, Canada
CATEGORIES:ACT prep,workshop
END:VEVENT
BEGIN:VEVENT
DTSTART;TZID=America/Vancouver:20200422T180000
DTEND;TZID=America/Vancouver:20200422T200000
DTSTAMP:20260421T040403
CREATED:20200413T195257Z
LAST-MODIFIED:20210323T214912Z
UID:5936-1587578400-1587585600@www.optionssolutionsed.com
SUMMARY:English 101 Workshop
DESCRIPTION:These weekly two-hour workshops are designed to give students in grades 9-11 ongoing English and writing support\, so they don’t lose their momentum due to online learning. Students will learn essential skills to improve their writing and build on these fundamentals each week to become more confident and better equipped to deal with any writing task they may encounter throughout high school and ensure they don’t backslide. Materials will be provided. \nThis course will cover: \n\nActive reading and annotations\nPlanning and outlining\nEssay organization\nAnalytical essay writing\nSynthesis essay writing\nResearch essay writing\nWriting creatively\nEditing\n\nEach student will leave with a better understanding of different essay writing genres and expectations. Students are encouraged to join all days of each session.
URL:https://www.optionssolutionsed.com/calendar/english-101-workshop/2020-04-22/
LOCATION:Virtual Format\, Online
CATEGORIES:english workshop,workshop
ORGANIZER;CN="Options%20Solutions":MAILTO:info@optionssolutionsed.com
END:VEVENT
BEGIN:VEVENT
DTSTART;TZID=America/Vancouver:20200422T190000
DTEND;TZID=America/Vancouver:20200422T200000
DTSTAMP:20260421T040403
CREATED:20200414T231439Z
LAST-MODIFIED:20200415T161140Z
UID:5997-1587582000-1587585600@www.optionssolutionsed.com
SUMMARY:Navigating the New Normal: Q & A with Options President Melinda Giampietro
DESCRIPTION:FREE Online Webinar: Wednesday\, April 22nd at 7:00 pm \nOptions Solutions has always been committed to building a positive community and providing families with the most up-to-date information about post-secondary admission. We feel the need now\, more than ever\, to fulfill this mission. With so much unknown\, it is hard for families to make decisions about the future. For our grade 11 students\, there is a certain precariousness about the normal process of applying to post-secondary institutions: third term activities are canceled\, grades are uncertain\, and summer jobs/programs/volunteering are all up in the air. At Options\, we excel at motivating others\, promoting actionable steps\, and mining the good. Join our founder\, Melinda Giampietro\, for an open discussion about the state of post-secondary admission and information about how to help your teen navigate the next few months. With her usual optimism and humour\, Melinda will also share practical tips for handling online school and ways to creatively return to extra-curricular activities. There will be an opportunity to ask questions at the end. \nWhile this discussion is targeted towards grade 11 parents\, all parents are welcome to join our FREE GoToWebinar. \nPlease register at info@optionssolutionsed.com and provide your name\, student’s name\, and email address. The day before the event\, we will reach out by email with a webinar link.
URL:https://www.optionssolutionsed.com/calendar/navigating-the-new-normal-q-a-with-options-president-melinda-giampietro/
CATEGORIES:event
END:VEVENT
BEGIN:VEVENT
DTSTART;TZID=America/Vancouver:20200429T180000
DTEND;TZID=America/Vancouver:20200429T200000
DTSTAMP:20260421T040403
CREATED:20200204T201646Z
LAST-MODIFIED:20200328T215551Z
UID:5745-1588183200-1588190400@www.optionssolutionsed.com
SUMMARY:ACT/SAT Weekly Core Test Skills
DESCRIPTION:Core test skills classes at Options Solutions allow students to prepare for the ACT and/or SAT exam(s) while also building essential academic skills. Students develop their abilities as active readers\, learn fundamental grammar\, and increase their understanding of math fundamentals. Ongoing classes prepare students for the ACT and/or SAT by teaching test structure and test-taking strategy. At the same time\, students learn skills that translate into success at school in reading\, writing and math. \nWhy is test prep at Options different? \n  \nTest prep at Options is unique because it combines test preparation with teaching fundamental academic skills. With many years of experience\, Options teachers ensure that students understand the higher-level reading\, writing and math skills that will prepare them for the ACT and/or SAT\, but will also help them succeed in high school and beyond. Students receive a strong grounding in how the test works and strategies for attaining a high score\, combined with an opportunity to increase their overall academic performance. Students can attend each session or pick and choose the sessions they need. Content is unique for each session and is never repeated.
URL:https://www.optionssolutionsed.com/calendar/weekly-core-test-skills/2020-04-29/
LOCATION:West Vancouver Office\, 1549 Marine Drive\, Suite 303\, West Vancouver\, BC\, V7V 1H9\, Canada
CATEGORIES:ACT prep,workshop
END:VEVENT
BEGIN:VEVENT
DTSTART;TZID=America/Vancouver:20200429T180000
DTEND;TZID=America/Vancouver:20200429T200000
DTSTAMP:20260421T040403
CREATED:20200413T195257Z
LAST-MODIFIED:20210323T214914Z
UID:5938-1588183200-1588190400@www.optionssolutionsed.com
SUMMARY:English 101 Workshop
DESCRIPTION:These weekly two-hour workshops are designed to give students in grades 9-11 ongoing English and writing support\, so they don’t lose their momentum due to online learning. Students will learn essential skills to improve their writing and build on these fundamentals each week to become more confident and better equipped to deal with any writing task they may encounter throughout high school and ensure they don’t backslide. Materials will be provided. \nThis course will cover: \n\nActive reading and annotations\nPlanning and outlining\nEssay organization\nAnalytical essay writing\nSynthesis essay writing\nResearch essay writing\nWriting creatively\nEditing\n\nEach student will leave with a better understanding of different essay writing genres and expectations. Students are encouraged to join all days of each session.
URL:https://www.optionssolutionsed.com/calendar/english-101-workshop/2020-04-29/
LOCATION:Virtual Format\, Online
CATEGORIES:english workshop,workshop
ORGANIZER;CN="Options%20Solutions":MAILTO:info@optionssolutionsed.com
END:VEVENT
END:VCALENDAR