BEGIN:VCALENDAR
VERSION:2.0
PRODID:-//Options Solutions Educational Consultants - ECPv6.0.12//NONSGML v1.0//EN
CALSCALE:GREGORIAN
METHOD:PUBLISH
X-ORIGINAL-URL:https://www.optionssolutionsed.com
X-WR-CALDESC:Events for Options Solutions Educational Consultants
REFRESH-INTERVAL;VALUE=DURATION:PT1H
X-Robots-Tag:noindex
X-PUBLISHED-TTL:PT1H
BEGIN:VTIMEZONE
TZID:America/Vancouver
BEGIN:DAYLIGHT
TZOFFSETFROM:-0800
TZOFFSETTO:-0700
TZNAME:PDT
DTSTART:20210314T100000
END:DAYLIGHT
BEGIN:STANDARD
TZOFFSETFROM:-0700
TZOFFSETTO:-0800
TZNAME:PST
DTSTART:20211107T090000
END:STANDARD
END:VTIMEZONE
BEGIN:VEVENT
DTSTART;TZID=America/Vancouver:20210902T100000
DTEND;TZID=America/Vancouver:20210902T130000
DTSTAMP:20260422T082401
CREATED:20210114T213854Z
LAST-MODIFIED:20210114T213854Z
UID:8456-1630576800-1630587600@www.optionssolutionsed.com
SUMMARY:Mastering the Essay Bootcamp (Gr. 10-12)
DESCRIPTION:Want to brush up on your reading and writing skills over spring break? Options Solutions wants to help! \nThis interactive\, fast-paced workshop is aimed at providing students with the theory and practice to succeed in their English studies at the grade 10 to 12 level. It will give students the skills and confidence they need to succeed\, making their future English courses easier and more enjoyable. \nFurthermore\, the active reading\, planning\, and essay writing skills are a great way to prepare for the Graduate Literacy Assessment (GLA)\, a new provincial exam for students in grades 10 and 12. \n  \nTopics will include: \n\nActive reading\nSynthesis essays\nArgumentative essays\nNarrative essays\n\nWhat do our students have to say?\n“I enjoyed that the instructors provided valuable feedback on my essays and they answered all the questions I had. I also enjoyed practicing writing specific types of essays.”
URL:https://www.optionssolutionsed.com/calendar/mastering-the-essay-bootcamp-gr-10-12/2021-09-02/
LOCATION:Virtual Format\, Online
CATEGORIES:english workshop,workshop
ORGANIZER;CN="Options%20Solutions":MAILTO:info@optionssolutionsed.com
END:VEVENT
BEGIN:VEVENT
DTSTART;TZID=America/Vancouver:20210901T100000
DTEND;TZID=America/Vancouver:20210901T130000
DTSTAMP:20260422T082401
CREATED:20210114T213854Z
LAST-MODIFIED:20210114T213854Z
UID:8455-1630490400-1630501200@www.optionssolutionsed.com
SUMMARY:Mastering the Essay Bootcamp (Gr. 10-12)
DESCRIPTION:Want to brush up on your reading and writing skills over spring break? Options Solutions wants to help! \nThis interactive\, fast-paced workshop is aimed at providing students with the theory and practice to succeed in their English studies at the grade 10 to 12 level. It will give students the skills and confidence they need to succeed\, making their future English courses easier and more enjoyable. \nFurthermore\, the active reading\, planning\, and essay writing skills are a great way to prepare for the Graduate Literacy Assessment (GLA)\, a new provincial exam for students in grades 10 and 12. \n  \nTopics will include: \n\nActive reading\nSynthesis essays\nArgumentative essays\nNarrative essays\n\nWhat do our students have to say?\n“I enjoyed that the instructors provided valuable feedback on my essays and they answered all the questions I had. I also enjoyed practicing writing specific types of essays.”
URL:https://www.optionssolutionsed.com/calendar/mastering-the-essay-bootcamp-gr-10-12/2021-09-01/
LOCATION:Virtual Format\, Online
CATEGORIES:english workshop,workshop
ORGANIZER;CN="Options%20Solutions":MAILTO:info@optionssolutionsed.com
END:VEVENT
BEGIN:VEVENT
DTSTART;TZID=America/Vancouver:20210831T100000
DTEND;TZID=America/Vancouver:20210831T130000
DTSTAMP:20260422T082401
CREATED:20210114T213854Z
LAST-MODIFIED:20210114T213854Z
UID:8454-1630404000-1630414800@www.optionssolutionsed.com
SUMMARY:Mastering the Essay Bootcamp (Gr. 10-12)
DESCRIPTION:Want to brush up on your reading and writing skills over spring break? Options Solutions wants to help! \nThis interactive\, fast-paced workshop is aimed at providing students with the theory and practice to succeed in their English studies at the grade 10 to 12 level. It will give students the skills and confidence they need to succeed\, making their future English courses easier and more enjoyable. \nFurthermore\, the active reading\, planning\, and essay writing skills are a great way to prepare for the Graduate Literacy Assessment (GLA)\, a new provincial exam for students in grades 10 and 12. \n  \nTopics will include: \n\nActive reading\nSynthesis essays\nArgumentative essays\nNarrative essays\n\nWhat do our students have to say?\n“I enjoyed that the instructors provided valuable feedback on my essays and they answered all the questions I had. I also enjoyed practicing writing specific types of essays.”
URL:https://www.optionssolutionsed.com/calendar/mastering-the-essay-bootcamp-gr-10-12/2021-08-31/
LOCATION:Virtual Format\, Online
CATEGORIES:english workshop,workshop
ORGANIZER;CN="Options%20Solutions":MAILTO:info@optionssolutionsed.com
END:VEVENT
BEGIN:VEVENT
DTSTART;TZID=America/Vancouver:20210818T100000
DTEND;TZID=America/Vancouver:20210818T130000
DTSTAMP:20260422T082401
CREATED:20210114T213854Z
LAST-MODIFIED:20210114T213854Z
UID:8453-1629280800-1629291600@www.optionssolutionsed.com
SUMMARY:Mastering the Essay Bootcamp (Gr. 10-12)
DESCRIPTION:Want to brush up on your reading and writing skills over spring break? Options Solutions wants to help! \nThis interactive\, fast-paced workshop is aimed at providing students with the theory and practice to succeed in their English studies at the grade 10 to 12 level. It will give students the skills and confidence they need to succeed\, making their future English courses easier and more enjoyable. \nFurthermore\, the active reading\, planning\, and essay writing skills are a great way to prepare for the Graduate Literacy Assessment (GLA)\, a new provincial exam for students in grades 10 and 12. \n  \nTopics will include: \n\nActive reading\nSynthesis essays\nArgumentative essays\nNarrative essays\n\nWhat do our students have to say?\n“I enjoyed that the instructors provided valuable feedback on my essays and they answered all the questions I had. I also enjoyed practicing writing specific types of essays.”
URL:https://www.optionssolutionsed.com/calendar/mastering-the-essay-bootcamp-gr-10-12/2021-08-18/
LOCATION:Virtual Format\, Online
CATEGORIES:english workshop,workshop
ORGANIZER;CN="Options%20Solutions":MAILTO:info@optionssolutionsed.com
END:VEVENT
BEGIN:VEVENT
DTSTART;TZID=America/Vancouver:20210817T100000
DTEND;TZID=America/Vancouver:20210817T130000
DTSTAMP:20260422T082401
CREATED:20210114T213854Z
LAST-MODIFIED:20210114T213854Z
UID:8452-1629194400-1629205200@www.optionssolutionsed.com
SUMMARY:Mastering the Essay Bootcamp (Gr. 10-12)
DESCRIPTION:Want to brush up on your reading and writing skills over spring break? Options Solutions wants to help! \nThis interactive\, fast-paced workshop is aimed at providing students with the theory and practice to succeed in their English studies at the grade 10 to 12 level. It will give students the skills and confidence they need to succeed\, making their future English courses easier and more enjoyable. \nFurthermore\, the active reading\, planning\, and essay writing skills are a great way to prepare for the Graduate Literacy Assessment (GLA)\, a new provincial exam for students in grades 10 and 12. \n  \nTopics will include: \n\nActive reading\nSynthesis essays\nArgumentative essays\nNarrative essays\n\nWhat do our students have to say?\n“I enjoyed that the instructors provided valuable feedback on my essays and they answered all the questions I had. I also enjoyed practicing writing specific types of essays.”
URL:https://www.optionssolutionsed.com/calendar/mastering-the-essay-bootcamp-gr-10-12/2021-08-17/
LOCATION:Virtual Format\, Online
CATEGORIES:english workshop,workshop
ORGANIZER;CN="Options%20Solutions":MAILTO:info@optionssolutionsed.com
END:VEVENT
BEGIN:VEVENT
DTSTART;TZID=America/Vancouver:20210816T100000
DTEND;TZID=America/Vancouver:20210816T130000
DTSTAMP:20260422T082401
CREATED:20210114T213854Z
LAST-MODIFIED:20210114T213854Z
UID:8451-1629108000-1629118800@www.optionssolutionsed.com
SUMMARY:Mastering the Essay Bootcamp (Gr. 10-12)
DESCRIPTION:Want to brush up on your reading and writing skills over spring break? Options Solutions wants to help! \nThis interactive\, fast-paced workshop is aimed at providing students with the theory and practice to succeed in their English studies at the grade 10 to 12 level. It will give students the skills and confidence they need to succeed\, making their future English courses easier and more enjoyable. \nFurthermore\, the active reading\, planning\, and essay writing skills are a great way to prepare for the Graduate Literacy Assessment (GLA)\, a new provincial exam for students in grades 10 and 12. \n  \nTopics will include: \n\nActive reading\nSynthesis essays\nArgumentative essays\nNarrative essays\n\nWhat do our students have to say?\n“I enjoyed that the instructors provided valuable feedback on my essays and they answered all the questions I had. I also enjoyed practicing writing specific types of essays.”
URL:https://www.optionssolutionsed.com/calendar/mastering-the-essay-bootcamp-gr-10-12/2021-08-16/
LOCATION:Virtual Format\, Online
CATEGORIES:english workshop,workshop
ORGANIZER;CN="Options%20Solutions":MAILTO:info@optionssolutionsed.com
END:VEVENT
BEGIN:VEVENT
DTSTART;TZID=America/Vancouver:20210728T130000
DTEND;TZID=America/Vancouver:20210728T160000
DTSTAMP:20260422T082401
CREATED:20210114T213854Z
LAST-MODIFIED:20210114T213854Z
UID:8450-1627477200-1627488000@www.optionssolutionsed.com
SUMMARY:Mastering the Essay Bootcamp (Gr. 10-12)
DESCRIPTION:Want to brush up on your reading and writing skills over spring break? Options Solutions wants to help! \nThis interactive\, fast-paced workshop is aimed at providing students with the theory and practice to succeed in their English studies at the grade 10 to 12 level. It will give students the skills and confidence they need to succeed\, making their future English courses easier and more enjoyable. \nFurthermore\, the active reading\, planning\, and essay writing skills are a great way to prepare for the Graduate Literacy Assessment (GLA)\, a new provincial exam for students in grades 10 and 12. \n  \nTopics will include: \n\nActive reading\nSynthesis essays\nArgumentative essays\nNarrative essays\n\nWhat do our students have to say?\n“I enjoyed that the instructors provided valuable feedback on my essays and they answered all the questions I had. I also enjoyed practicing writing specific types of essays.”
URL:https://www.optionssolutionsed.com/calendar/mastering-the-essay-bootcamp-gr-10-12/2021-07-28/
LOCATION:Virtual Format\, Online
CATEGORIES:english workshop,workshop
ORGANIZER;CN="Options%20Solutions":MAILTO:info@optionssolutionsed.com
END:VEVENT
BEGIN:VEVENT
DTSTART;TZID=America/Vancouver:20210727T130000
DTEND;TZID=America/Vancouver:20210727T160000
DTSTAMP:20260422T082401
CREATED:20210114T213854Z
LAST-MODIFIED:20210114T213854Z
UID:8449-1627390800-1627401600@www.optionssolutionsed.com
SUMMARY:Mastering the Essay Bootcamp (Gr. 10-12)
DESCRIPTION:Want to brush up on your reading and writing skills over spring break? Options Solutions wants to help! \nThis interactive\, fast-paced workshop is aimed at providing students with the theory and practice to succeed in their English studies at the grade 10 to 12 level. It will give students the skills and confidence they need to succeed\, making their future English courses easier and more enjoyable. \nFurthermore\, the active reading\, planning\, and essay writing skills are a great way to prepare for the Graduate Literacy Assessment (GLA)\, a new provincial exam for students in grades 10 and 12. \n  \nTopics will include: \n\nActive reading\nSynthesis essays\nArgumentative essays\nNarrative essays\n\nWhat do our students have to say?\n“I enjoyed that the instructors provided valuable feedback on my essays and they answered all the questions I had. I also enjoyed practicing writing specific types of essays.”
URL:https://www.optionssolutionsed.com/calendar/mastering-the-essay-bootcamp-gr-10-12/2021-07-27/
LOCATION:Virtual Format\, Online
CATEGORIES:english workshop,workshop
ORGANIZER;CN="Options%20Solutions":MAILTO:info@optionssolutionsed.com
END:VEVENT
BEGIN:VEVENT
DTSTART;TZID=America/Vancouver:20210726T130000
DTEND;TZID=America/Vancouver:20210726T160000
DTSTAMP:20260422T082401
CREATED:20210114T213854Z
LAST-MODIFIED:20210114T213854Z
UID:8448-1627304400-1627315200@www.optionssolutionsed.com
SUMMARY:Mastering the Essay Bootcamp (Gr. 10-12)
DESCRIPTION:Want to brush up on your reading and writing skills over spring break? Options Solutions wants to help! \nThis interactive\, fast-paced workshop is aimed at providing students with the theory and practice to succeed in their English studies at the grade 10 to 12 level. It will give students the skills and confidence they need to succeed\, making their future English courses easier and more enjoyable. \nFurthermore\, the active reading\, planning\, and essay writing skills are a great way to prepare for the Graduate Literacy Assessment (GLA)\, a new provincial exam for students in grades 10 and 12. \n  \nTopics will include: \n\nActive reading\nSynthesis essays\nArgumentative essays\nNarrative essays\n\nWhat do our students have to say?\n“I enjoyed that the instructors provided valuable feedback on my essays and they answered all the questions I had. I also enjoyed practicing writing specific types of essays.”
URL:https://www.optionssolutionsed.com/calendar/mastering-the-essay-bootcamp-gr-10-12/2021-07-26/
LOCATION:Virtual Format\, Online
CATEGORIES:english workshop,workshop
ORGANIZER;CN="Options%20Solutions":MAILTO:info@optionssolutionsed.com
END:VEVENT
BEGIN:VEVENT
DTSTART;TZID=America/Vancouver:20210326T100000
DTEND;TZID=America/Vancouver:20210326T120000
DTSTAMP:20260422T082401
CREATED:20210114T213854Z
LAST-MODIFIED:20210323T214402Z
UID:8086-1616752800-1616760000@www.optionssolutionsed.com
SUMMARY:Mastering the Essay Bootcamp (Gr. 10-12)
DESCRIPTION:Want to brush up on your reading and writing skills over spring break? Options Solutions wants to help! \nThis interactive\, fast-paced workshop is aimed at providing students with the theory and practice to succeed in their English studies at the grade 10 to 12 level. It will give students the skills and confidence they need to succeed\, making their future English courses easier and more enjoyable. \nFurthermore\, the active reading\, planning\, and essay writing skills are a great way to prepare for the Graduate Literacy Assessment (GLA)\, a new provincial exam for students in grades 10 and 12. \n  \nTopics will include: \n\nActive reading\nSynthesis essays\nArgumentative essays\nNarrative essays\n\nWhat do our students have to say?\n“I enjoyed that the instructors provided valuable feedback on my essays and they answered all the questions I had. I also enjoyed practicing writing specific types of essays.”
URL:https://www.optionssolutionsed.com/calendar/mastering-the-essay-bootcamp-gr-10-12/2021-03-26/
LOCATION:Virtual Format\, Online
CATEGORIES:english workshop,workshop
ORGANIZER;CN="Options%20Solutions":MAILTO:info@optionssolutionsed.com
END:VEVENT
BEGIN:VEVENT
DTSTART;TZID=America/Vancouver:20210325T100000
DTEND;TZID=America/Vancouver:20210325T120000
DTSTAMP:20260422T082401
CREATED:20210114T213854Z
LAST-MODIFIED:20210323T214402Z
UID:8085-1616666400-1616673600@www.optionssolutionsed.com
SUMMARY:Mastering the Essay Bootcamp (Gr. 10-12)
DESCRIPTION:Want to brush up on your reading and writing skills over spring break? Options Solutions wants to help! \nThis interactive\, fast-paced workshop is aimed at providing students with the theory and practice to succeed in their English studies at the grade 10 to 12 level. It will give students the skills and confidence they need to succeed\, making their future English courses easier and more enjoyable. \nFurthermore\, the active reading\, planning\, and essay writing skills are a great way to prepare for the Graduate Literacy Assessment (GLA)\, a new provincial exam for students in grades 10 and 12. \n  \nTopics will include: \n\nActive reading\nSynthesis essays\nArgumentative essays\nNarrative essays\n\nWhat do our students have to say?\n“I enjoyed that the instructors provided valuable feedback on my essays and they answered all the questions I had. I also enjoyed practicing writing specific types of essays.”
URL:https://www.optionssolutionsed.com/calendar/mastering-the-essay-bootcamp-gr-10-12/2021-03-25/
LOCATION:Virtual Format\, Online
CATEGORIES:english workshop,workshop
ORGANIZER;CN="Options%20Solutions":MAILTO:info@optionssolutionsed.com
END:VEVENT
BEGIN:VEVENT
DTSTART;TZID=America/Vancouver:20210324T100000
DTEND;TZID=America/Vancouver:20210324T120000
DTSTAMP:20260422T082401
CREATED:20210114T213854Z
LAST-MODIFIED:20210323T214401Z
UID:8084-1616580000-1616587200@www.optionssolutionsed.com
SUMMARY:Mastering the Essay Bootcamp (Gr. 10-12)
DESCRIPTION:Want to brush up on your reading and writing skills over spring break? Options Solutions wants to help! \nThis interactive\, fast-paced workshop is aimed at providing students with the theory and practice to succeed in their English studies at the grade 10 to 12 level. It will give students the skills and confidence they need to succeed\, making their future English courses easier and more enjoyable. \nFurthermore\, the active reading\, planning\, and essay writing skills are a great way to prepare for the Graduate Literacy Assessment (GLA)\, a new provincial exam for students in grades 10 and 12. \n  \nTopics will include: \n\nActive reading\nSynthesis essays\nArgumentative essays\nNarrative essays\n\nWhat do our students have to say?\n“I enjoyed that the instructors provided valuable feedback on my essays and they answered all the questions I had. I also enjoyed practicing writing specific types of essays.”
URL:https://www.optionssolutionsed.com/calendar/mastering-the-essay-bootcamp-gr-10-12/2021-03-24/
LOCATION:Virtual Format\, Online
CATEGORIES:english workshop,workshop
ORGANIZER;CN="Options%20Solutions":MAILTO:info@optionssolutionsed.com
END:VEVENT
BEGIN:VEVENT
DTSTART;TZID=America/Vancouver:20210323T100000
DTEND;TZID=America/Vancouver:20210323T120000
DTSTAMP:20260422T082401
CREATED:20210114T213854Z
LAST-MODIFIED:20210323T214353Z
UID:8083-1616493600-1616500800@www.optionssolutionsed.com
SUMMARY:Mastering the Essay Bootcamp (Gr. 10-12)
DESCRIPTION:Want to brush up on your reading and writing skills over spring break? Options Solutions wants to help! \nThis interactive\, fast-paced workshop is aimed at providing students with the theory and practice to succeed in their English studies at the grade 10 to 12 level. It will give students the skills and confidence they need to succeed\, making their future English courses easier and more enjoyable. \nFurthermore\, the active reading\, planning\, and essay writing skills are a great way to prepare for the Graduate Literacy Assessment (GLA)\, a new provincial exam for students in grades 10 and 12. \n  \nTopics will include: \n\nActive reading\nSynthesis essays\nArgumentative essays\nNarrative essays\n\nWhat do our students have to say?\n“I enjoyed that the instructors provided valuable feedback on my essays and they answered all the questions I had. I also enjoyed practicing writing specific types of essays.”
URL:https://www.optionssolutionsed.com/calendar/mastering-the-essay-bootcamp-gr-10-12/2021-03-23/
LOCATION:Virtual Format\, Online
CATEGORIES:english workshop,workshop
ORGANIZER;CN="Options%20Solutions":MAILTO:info@optionssolutionsed.com
END:VEVENT
BEGIN:VEVENT
DTSTART;TZID=America/Vancouver:20210322T100000
DTEND;TZID=America/Vancouver:20210322T120000
DTSTAMP:20260422T082401
CREATED:20210114T213854Z
LAST-MODIFIED:20210323T214351Z
UID:8081-1616407200-1616414400@www.optionssolutionsed.com
SUMMARY:Mastering the Essay Bootcamp (Gr. 10-12)
DESCRIPTION:Want to brush up on your reading and writing skills over spring break? Options Solutions wants to help! \nThis interactive\, fast-paced workshop is aimed at providing students with the theory and practice to succeed in their English studies at the grade 10 to 12 level. It will give students the skills and confidence they need to succeed\, making their future English courses easier and more enjoyable. \nFurthermore\, the active reading\, planning\, and essay writing skills are a great way to prepare for the Graduate Literacy Assessment (GLA)\, a new provincial exam for students in grades 10 and 12. \n  \nTopics will include: \n\nActive reading\nSynthesis essays\nArgumentative essays\nNarrative essays\n\nWhat do our students have to say?\n“I enjoyed that the instructors provided valuable feedback on my essays and they answered all the questions I had. I also enjoyed practicing writing specific types of essays.”
URL:https://www.optionssolutionsed.com/calendar/mastering-the-essay-bootcamp-gr-10-12/2021-03-22/
LOCATION:Virtual Format\, Online
CATEGORIES:english workshop,workshop
ORGANIZER;CN="Options%20Solutions":MAILTO:info@optionssolutionsed.com
END:VEVENT
END:VCALENDAR