BEGIN:VCALENDAR
VERSION:2.0
PRODID:-//Options Solutions Educational Consultants - ECPv6.0.12//NONSGML v1.0//EN
CALSCALE:GREGORIAN
METHOD:PUBLISH
X-WR-CALNAME:Options Solutions Educational Consultants
X-ORIGINAL-URL:https://www.optionssolutionsed.com
X-WR-CALDESC:Events for Options Solutions Educational Consultants
REFRESH-INTERVAL;VALUE=DURATION:PT1H
X-Robots-Tag:noindex
X-PUBLISHED-TTL:PT1H
BEGIN:VTIMEZONE
TZID:America/Vancouver
BEGIN:DAYLIGHT
TZOFFSETFROM:-0800
TZOFFSETTO:-0700
TZNAME:PDT
DTSTART:20200308T100000
END:DAYLIGHT
BEGIN:STANDARD
TZOFFSETFROM:-0700
TZOFFSETTO:-0800
TZNAME:PST
DTSTART:20201101T090000
END:STANDARD
END:VTIMEZONE
BEGIN:VEVENT
DTSTART;TZID=America/Vancouver:20201231T100000
DTEND;TZID=America/Vancouver:20201231T130000
DTSTAMP:20260422T051916
CREATED:20201106T222140Z
LAST-MODIFIED:20201106T222140Z
UID:7915-1609408800-1609419600@www.optionssolutionsed.com
SUMMARY:Mastering the Essay (10-12) Boot Camp
DESCRIPTION:Want to brush up on your reading and writing skills over winter break? Options Solutions wants to help! \nThis interactive\, fast-paced workshop is aimed at providing students with the theory and practice to succeed in their English studies at the grade 10 to 12 level. It will give students the skills and confidence they need to succeed\, making their future English courses easier and more enjoyable. Furthermore\, the active reading\, planning\, and essay writing skills are a great way to prepare for the Graduate Literacy Assessment (GLA)\, a new provincial exam for students in grade 10 and 12. \nTopics will include: \n\nActive reading\nSynthesis essays\nArgumentative essays\nNarrative essays
URL:https://www.optionssolutionsed.com/calendar/mastering-the-essay-10-12-boot-camp/2020-12-31/
LOCATION:Virtual Format\, Online
ORGANIZER;CN="Options%20Solutions":MAILTO:info@optionssolutionsed.com
END:VEVENT
BEGIN:VEVENT
DTSTART;TZID=America/Vancouver:20201230T100000
DTEND;TZID=America/Vancouver:20201230T130000
DTSTAMP:20260422T051916
CREATED:20201106T222140Z
LAST-MODIFIED:20201106T222140Z
UID:7914-1609322400-1609333200@www.optionssolutionsed.com
SUMMARY:Mastering the Essay (10-12) Boot Camp
DESCRIPTION:Want to brush up on your reading and writing skills over winter break? Options Solutions wants to help! \nThis interactive\, fast-paced workshop is aimed at providing students with the theory and practice to succeed in their English studies at the grade 10 to 12 level. It will give students the skills and confidence they need to succeed\, making their future English courses easier and more enjoyable. Furthermore\, the active reading\, planning\, and essay writing skills are a great way to prepare for the Graduate Literacy Assessment (GLA)\, a new provincial exam for students in grade 10 and 12. \nTopics will include: \n\nActive reading\nSynthesis essays\nArgumentative essays\nNarrative essays
URL:https://www.optionssolutionsed.com/calendar/mastering-the-essay-10-12-boot-camp/2020-12-30/
LOCATION:Virtual Format\, Online
ORGANIZER;CN="Options%20Solutions":MAILTO:info@optionssolutionsed.com
END:VEVENT
BEGIN:VEVENT
DTSTART;TZID=America/Vancouver:20201229T100000
DTEND;TZID=America/Vancouver:20201229T130000
DTSTAMP:20260422T051916
CREATED:20201106T222140Z
LAST-MODIFIED:20201106T222140Z
UID:7913-1609236000-1609246800@www.optionssolutionsed.com
SUMMARY:Mastering the Essay (10-12) Boot Camp
DESCRIPTION:Want to brush up on your reading and writing skills over winter break? Options Solutions wants to help! \nThis interactive\, fast-paced workshop is aimed at providing students with the theory and practice to succeed in their English studies at the grade 10 to 12 level. It will give students the skills and confidence they need to succeed\, making their future English courses easier and more enjoyable. Furthermore\, the active reading\, planning\, and essay writing skills are a great way to prepare for the Graduate Literacy Assessment (GLA)\, a new provincial exam for students in grade 10 and 12. \nTopics will include: \n\nActive reading\nSynthesis essays\nArgumentative essays\nNarrative essays
URL:https://www.optionssolutionsed.com/calendar/mastering-the-essay-10-12-boot-camp/2020-12-29/
LOCATION:Virtual Format\, Online
ORGANIZER;CN="Options%20Solutions":MAILTO:info@optionssolutionsed.com
END:VEVENT
BEGIN:VEVENT
DTSTART;TZID=America/Vancouver:20201228T100000
DTEND;TZID=America/Vancouver:20201228T130000
DTSTAMP:20260422T051916
CREATED:20201106T222140Z
LAST-MODIFIED:20201106T222140Z
UID:7911-1609149600-1609160400@www.optionssolutionsed.com
SUMMARY:Mastering the Essay (10-12) Boot Camp
DESCRIPTION:Want to brush up on your reading and writing skills over winter break? Options Solutions wants to help! \nThis interactive\, fast-paced workshop is aimed at providing students with the theory and practice to succeed in their English studies at the grade 10 to 12 level. It will give students the skills and confidence they need to succeed\, making their future English courses easier and more enjoyable. Furthermore\, the active reading\, planning\, and essay writing skills are a great way to prepare for the Graduate Literacy Assessment (GLA)\, a new provincial exam for students in grade 10 and 12. \nTopics will include: \n\nActive reading\nSynthesis essays\nArgumentative essays\nNarrative essays
URL:https://www.optionssolutionsed.com/calendar/mastering-the-essay-10-12-boot-camp/2020-12-28/
LOCATION:Virtual Format\, Online
ORGANIZER;CN="Options%20Solutions":MAILTO:info@optionssolutionsed.com
END:VEVENT
END:VCALENDAR