BEGIN:VCALENDAR
VERSION:2.0
PRODID:-//Options Solutions Educational Consultants - ECPv6.0.12//NONSGML v1.0//EN
CALSCALE:GREGORIAN
METHOD:PUBLISH
X-WR-CALNAME:Options Solutions Educational Consultants
X-ORIGINAL-URL:https://www.optionssolutionsed.com
X-WR-CALDESC:Events for Options Solutions Educational Consultants
REFRESH-INTERVAL;VALUE=DURATION:PT1H
X-Robots-Tag:noindex
X-PUBLISHED-TTL:PT1H
BEGIN:VTIMEZONE
TZID:America/Vancouver
BEGIN:DAYLIGHT
TZOFFSETFROM:-0800
TZOFFSETTO:-0700
TZNAME:PDT
DTSTART:20210314T100000
END:DAYLIGHT
BEGIN:STANDARD
TZOFFSETFROM:-0700
TZOFFSETTO:-0800
TZNAME:PST
DTSTART:20211107T090000
END:STANDARD
END:VTIMEZONE
BEGIN:VEVENT
DTSTART;TZID=America/Vancouver:20210826T100000
DTEND;TZID=America/Vancouver:20210826T120000
DTSTAMP:20260423T045726
CREATED:20210519T231941Z
LAST-MODIFIED:20210519T231941Z
UID:8901-1629972000-1629979200@www.optionssolutionsed.com
SUMMARY:Intro to University Level Writing
DESCRIPTION:Grade 12 students heading to post-secondary programs in the social sciences\, humanities\, arts\, sciences\, and business will be expected to have the skills necessary to write at the university level next year \nThis course prepares students bound for post-secondary for the challenges of writing for different disciplines at the university level. It discusses strategies for successful research\, critical thinking\, and writing while giving students a chance to practice these skills and receive individualized feedback. Materials will be provided.
URL:https://www.optionssolutionsed.com/calendar/intro-to-university-level-writing-4/2021-08-26/
LOCATION:Virtual Format\, Online
ORGANIZER;CN="Options%20Solutions":MAILTO:info@optionssolutionsed.com
END:VEVENT
BEGIN:VEVENT
DTSTART;TZID=America/Vancouver:20210825T100000
DTEND;TZID=America/Vancouver:20210825T120000
DTSTAMP:20260423T045726
CREATED:20210519T231941Z
LAST-MODIFIED:20210519T231941Z
UID:8900-1629885600-1629892800@www.optionssolutionsed.com
SUMMARY:Intro to University Level Writing
DESCRIPTION:Grade 12 students heading to post-secondary programs in the social sciences\, humanities\, arts\, sciences\, and business will be expected to have the skills necessary to write at the university level next year \nThis course prepares students bound for post-secondary for the challenges of writing for different disciplines at the university level. It discusses strategies for successful research\, critical thinking\, and writing while giving students a chance to practice these skills and receive individualized feedback. Materials will be provided.
URL:https://www.optionssolutionsed.com/calendar/intro-to-university-level-writing-4/2021-08-25/
LOCATION:Virtual Format\, Online
ORGANIZER;CN="Options%20Solutions":MAILTO:info@optionssolutionsed.com
END:VEVENT
BEGIN:VEVENT
DTSTART;TZID=America/Vancouver:20210824T100000
DTEND;TZID=America/Vancouver:20210824T120000
DTSTAMP:20260423T045726
CREATED:20210519T231941Z
LAST-MODIFIED:20210519T231941Z
UID:8899-1629799200-1629806400@www.optionssolutionsed.com
SUMMARY:Intro to University Level Writing
DESCRIPTION:Grade 12 students heading to post-secondary programs in the social sciences\, humanities\, arts\, sciences\, and business will be expected to have the skills necessary to write at the university level next year \nThis course prepares students bound for post-secondary for the challenges of writing for different disciplines at the university level. It discusses strategies for successful research\, critical thinking\, and writing while giving students a chance to practice these skills and receive individualized feedback. Materials will be provided.
URL:https://www.optionssolutionsed.com/calendar/intro-to-university-level-writing-4/2021-08-24/
LOCATION:Virtual Format\, Online
ORGANIZER;CN="Options%20Solutions":MAILTO:info@optionssolutionsed.com
END:VEVENT
BEGIN:VEVENT
DTSTART;TZID=America/Vancouver:20210823T100000
DTEND;TZID=America/Vancouver:20210823T120000
DTSTAMP:20260423T045726
CREATED:20210519T231941Z
LAST-MODIFIED:20210519T231941Z
UID:8897-1629712800-1629720000@www.optionssolutionsed.com
SUMMARY:Intro to University Level Writing
DESCRIPTION:Grade 12 students heading to post-secondary programs in the social sciences\, humanities\, arts\, sciences\, and business will be expected to have the skills necessary to write at the university level next year \nThis course prepares students bound for post-secondary for the challenges of writing for different disciplines at the university level. It discusses strategies for successful research\, critical thinking\, and writing while giving students a chance to practice these skills and receive individualized feedback. Materials will be provided.
URL:https://www.optionssolutionsed.com/calendar/intro-to-university-level-writing-4/2021-08-23/
LOCATION:Virtual Format\, Online
ORGANIZER;CN="Options%20Solutions":MAILTO:info@optionssolutionsed.com
END:VEVENT
END:VCALENDAR