BEGIN:VCALENDAR
VERSION:2.0
PRODID:-//Options Solutions Educational Consultants - ECPv6.0.12//NONSGML v1.0//EN
CALSCALE:GREGORIAN
METHOD:PUBLISH
X-ORIGINAL-URL:https://www.optionssolutionsed.com
X-WR-CALDESC:Events for Options Solutions Educational Consultants
REFRESH-INTERVAL;VALUE=DURATION:PT1H
X-Robots-Tag:noindex
X-PUBLISHED-TTL:PT1H
BEGIN:VTIMEZONE
TZID:America/Vancouver
BEGIN:DAYLIGHT
TZOFFSETFROM:-0800
TZOFFSETTO:-0700
TZNAME:PDT
DTSTART:20210314T100000
END:DAYLIGHT
BEGIN:STANDARD
TZOFFSETFROM:-0700
TZOFFSETTO:-0800
TZNAME:PST
DTSTART:20211107T090000
END:STANDARD
END:VTIMEZONE
BEGIN:VEVENT
DTSTART;TZID=America/Vancouver:20210728T090000
DTEND;TZID=America/Vancouver:20210728T110000
DTSTAMP:20260422T161435
CREATED:20210519T175500Z
LAST-MODIFIED:20210519T175500Z
UID:8716-1627462800-1627470000@www.optionssolutionsed.com
SUMMARY:Intro to University Level Writing
DESCRIPTION:Grade 12 students heading to post-secondary programs in the social sciences\, humanities\, arts\, sciences\, and business will be expected to have the skills necessary to write at the university level next year. \nThis course prepares students bound for post-secondary for the challenges of writing for different disciplines at the university level. It discusses strategies for successful research\, critical thinking\, and writing while giving students a chance to practice these skills and receive individualized feedback. Materials will be provided.
URL:https://www.optionssolutionsed.com/calendar/intro-to-university-level-writing-2/2021-07-28/
LOCATION:Virtual Format\, Online
ORGANIZER;CN="Options%20Solutions":MAILTO:info@optionssolutionsed.com
END:VEVENT
BEGIN:VEVENT
DTSTART;TZID=America/Vancouver:20210721T090000
DTEND;TZID=America/Vancouver:20210721T110000
DTSTAMP:20260422T161435
CREATED:20210519T175500Z
LAST-MODIFIED:20210519T175500Z
UID:8715-1626858000-1626865200@www.optionssolutionsed.com
SUMMARY:Intro to University Level Writing
DESCRIPTION:Grade 12 students heading to post-secondary programs in the social sciences\, humanities\, arts\, sciences\, and business will be expected to have the skills necessary to write at the university level next year. \nThis course prepares students bound for post-secondary for the challenges of writing for different disciplines at the university level. It discusses strategies for successful research\, critical thinking\, and writing while giving students a chance to practice these skills and receive individualized feedback. Materials will be provided.
URL:https://www.optionssolutionsed.com/calendar/intro-to-university-level-writing-2/2021-07-21/
LOCATION:Virtual Format\, Online
ORGANIZER;CN="Options%20Solutions":MAILTO:info@optionssolutionsed.com
END:VEVENT
BEGIN:VEVENT
DTSTART;TZID=America/Vancouver:20210714T090000
DTEND;TZID=America/Vancouver:20210714T110000
DTSTAMP:20260422T161435
CREATED:20210519T175500Z
LAST-MODIFIED:20210519T175500Z
UID:8714-1626253200-1626260400@www.optionssolutionsed.com
SUMMARY:Intro to University Level Writing
DESCRIPTION:Grade 12 students heading to post-secondary programs in the social sciences\, humanities\, arts\, sciences\, and business will be expected to have the skills necessary to write at the university level next year. \nThis course prepares students bound for post-secondary for the challenges of writing for different disciplines at the university level. It discusses strategies for successful research\, critical thinking\, and writing while giving students a chance to practice these skills and receive individualized feedback. Materials will be provided.
URL:https://www.optionssolutionsed.com/calendar/intro-to-university-level-writing-2/2021-07-14/
LOCATION:Virtual Format\, Online
ORGANIZER;CN="Options%20Solutions":MAILTO:info@optionssolutionsed.com
END:VEVENT
BEGIN:VEVENT
DTSTART;TZID=America/Vancouver:20210707T090000
DTEND;TZID=America/Vancouver:20210707T110000
DTSTAMP:20260422T161435
CREATED:20210519T175500Z
LAST-MODIFIED:20210519T175500Z
UID:8712-1625648400-1625655600@www.optionssolutionsed.com
SUMMARY:Intro to University Level Writing
DESCRIPTION:Grade 12 students heading to post-secondary programs in the social sciences\, humanities\, arts\, sciences\, and business will be expected to have the skills necessary to write at the university level next year. \nThis course prepares students bound for post-secondary for the challenges of writing for different disciplines at the university level. It discusses strategies for successful research\, critical thinking\, and writing while giving students a chance to practice these skills and receive individualized feedback. Materials will be provided.
URL:https://www.optionssolutionsed.com/calendar/intro-to-university-level-writing-2/2021-07-07/
LOCATION:Virtual Format\, Online
ORGANIZER;CN="Options%20Solutions":MAILTO:info@optionssolutionsed.com
END:VEVENT
END:VCALENDAR