BEGIN:VCALENDAR
VERSION:2.0
PRODID:-//Options Solutions Educational Consultants - ECPv6.0.12//NONSGML v1.0//EN
CALSCALE:GREGORIAN
METHOD:PUBLISH
X-WR-CALNAME:Options Solutions Educational Consultants
X-ORIGINAL-URL:https://www.optionssolutionsed.com
X-WR-CALDESC:Events for Options Solutions Educational Consultants
REFRESH-INTERVAL;VALUE=DURATION:PT1H
X-Robots-Tag:noindex
X-PUBLISHED-TTL:PT1H
BEGIN:VTIMEZONE
TZID:America/Vancouver
BEGIN:DAYLIGHT
TZOFFSETFROM:-0800
TZOFFSETTO:-0700
TZNAME:PDT
DTSTART:20200308T100000
END:DAYLIGHT
BEGIN:STANDARD
TZOFFSETFROM:-0700
TZOFFSETTO:-0800
TZNAME:PST
DTSTART:20201101T090000
END:STANDARD
BEGIN:DAYLIGHT
TZOFFSETFROM:-0800
TZOFFSETTO:-0700
TZNAME:PDT
DTSTART:20210314T100000
END:DAYLIGHT
BEGIN:STANDARD
TZOFFSETFROM:-0700
TZOFFSETTO:-0800
TZNAME:PST
DTSTART:20211107T090000
END:STANDARD
END:VTIMEZONE
BEGIN:VEVENT
DTSTART;TZID=America/Vancouver:20211002T090000
DTEND;TZID=America/Vancouver:20211002T120000
DTSTAMP:20260422T015808
CREATED:20200716T212033Z
LAST-MODIFIED:20210323T193355Z
UID:8432-1633165200-1633176000@www.optionssolutionsed.com
SUMMARY:Intro to Canadian Supplement Writing Workshop
DESCRIPTION:This three-hour session introduces students to writing components for Canadian applications. \nThe session will include a presentation that outlines the typical essay and supplemental writing prompts required by major Canadian universities and programs (e.g. UBC\, Queen’s\, Western). During this presentation\, session leaders will also provide writing and time management strategies and sample essays from previous years’ successful applications. Students will then be given time to brainstorm and engage in practice writing exercises. Options Solutions writing coaches will give students one-on-one feedback on their drafts. \nBeginning the application process early will give students the opportunity to make the most productive use of their summer and enter grade 12 with more clarity and direction. \n  \nWhat do students have to say?\n“I really liked the tips\, exercises and examples of past students’ responses and what was good about them and what could’ve been improved. This allowed me to take good notes and implement what I thought was good into my applications.”
URL:https://www.optionssolutionsed.com/calendar/intro-to-canadian-supplement-writing-workshop/2021-10-02/
LOCATION:Virtual Format\, Online
CATEGORIES:application support,supplement writing workshop,workshop
ORGANIZER;CN="Options%20Solutions":MAILTO:info@optionssolutionsed.com
END:VEVENT
BEGIN:VEVENT
DTSTART;TZID=America/Vancouver:20210918T090000
DTEND;TZID=America/Vancouver:20210918T120000
DTSTAMP:20260422T015808
CREATED:20200716T212033Z
LAST-MODIFIED:20210323T193355Z
UID:8431-1631955600-1631966400@www.optionssolutionsed.com
SUMMARY:Intro to Canadian Supplement Writing Workshop
DESCRIPTION:This three-hour session introduces students to writing components for Canadian applications. \nThe session will include a presentation that outlines the typical essay and supplemental writing prompts required by major Canadian universities and programs (e.g. UBC\, Queen’s\, Western). During this presentation\, session leaders will also provide writing and time management strategies and sample essays from previous years’ successful applications. Students will then be given time to brainstorm and engage in practice writing exercises. Options Solutions writing coaches will give students one-on-one feedback on their drafts. \nBeginning the application process early will give students the opportunity to make the most productive use of their summer and enter grade 12 with more clarity and direction. \n  \nWhat do students have to say?\n“I really liked the tips\, exercises and examples of past students’ responses and what was good about them and what could’ve been improved. This allowed me to take good notes and implement what I thought was good into my applications.”
URL:https://www.optionssolutionsed.com/calendar/intro-to-canadian-supplement-writing-workshop/2021-09-18/
LOCATION:Virtual Format\, Online
CATEGORIES:application support,supplement writing workshop,workshop
ORGANIZER;CN="Options%20Solutions":MAILTO:info@optionssolutionsed.com
END:VEVENT
BEGIN:VEVENT
DTSTART;TZID=America/Vancouver:20210830T100000
DTEND;TZID=America/Vancouver:20210830T130000
DTSTAMP:20260422T015808
CREATED:20200716T212033Z
LAST-MODIFIED:20210323T193355Z
UID:8430-1630317600-1630328400@www.optionssolutionsed.com
SUMMARY:Intro to Canadian Supplement Writing Workshop
DESCRIPTION:This three-hour session introduces students to writing components for Canadian applications. \nThe session will include a presentation that outlines the typical essay and supplemental writing prompts required by major Canadian universities and programs (e.g. UBC\, Queen’s\, Western). During this presentation\, session leaders will also provide writing and time management strategies and sample essays from previous years’ successful applications. Students will then be given time to brainstorm and engage in practice writing exercises. Options Solutions writing coaches will give students one-on-one feedback on their drafts. \nBeginning the application process early will give students the opportunity to make the most productive use of their summer and enter grade 12 with more clarity and direction. \n  \nWhat do students have to say?\n“I really liked the tips\, exercises and examples of past students’ responses and what was good about them and what could’ve been improved. This allowed me to take good notes and implement what I thought was good into my applications.”
URL:https://www.optionssolutionsed.com/calendar/intro-to-canadian-supplement-writing-workshop/2021-08-30/
LOCATION:Virtual Format\, Online
CATEGORIES:application support,supplement writing workshop,workshop
ORGANIZER;CN="Options%20Solutions":MAILTO:info@optionssolutionsed.com
END:VEVENT
BEGIN:VEVENT
DTSTART;TZID=America/Vancouver:20210816T140000
DTEND;TZID=America/Vancouver:20210816T170000
DTSTAMP:20260422T015808
CREATED:20200716T212033Z
LAST-MODIFIED:20210323T193354Z
UID:8429-1629122400-1629133200@www.optionssolutionsed.com
SUMMARY:Intro to Canadian Supplement Writing Workshop
DESCRIPTION:This three-hour session introduces students to writing components for Canadian applications. \nThe session will include a presentation that outlines the typical essay and supplemental writing prompts required by major Canadian universities and programs (e.g. UBC\, Queen’s\, Western). During this presentation\, session leaders will also provide writing and time management strategies and sample essays from previous years’ successful applications. Students will then be given time to brainstorm and engage in practice writing exercises. Options Solutions writing coaches will give students one-on-one feedback on their drafts. \nBeginning the application process early will give students the opportunity to make the most productive use of their summer and enter grade 12 with more clarity and direction. \n  \nWhat do students have to say?\n“I really liked the tips\, exercises and examples of past students’ responses and what was good about them and what could’ve been improved. This allowed me to take good notes and implement what I thought was good into my applications.”
URL:https://www.optionssolutionsed.com/calendar/intro-to-canadian-supplement-writing-workshop/2021-08-16/
LOCATION:Virtual Format\, Online
CATEGORIES:application support,supplement writing workshop,workshop
ORGANIZER;CN="Options%20Solutions":MAILTO:info@optionssolutionsed.com
END:VEVENT
BEGIN:VEVENT
DTSTART;TZID=America/Vancouver:20210719T100000
DTEND;TZID=America/Vancouver:20210719T130000
DTSTAMP:20260422T015808
CREATED:20200716T212033Z
LAST-MODIFIED:20210323T193354Z
UID:8428-1626688800-1626699600@www.optionssolutionsed.com
SUMMARY:Intro to Canadian Supplement Writing Workshop
DESCRIPTION:This three-hour session introduces students to writing components for Canadian applications. \nThe session will include a presentation that outlines the typical essay and supplemental writing prompts required by major Canadian universities and programs (e.g. UBC\, Queen’s\, Western). During this presentation\, session leaders will also provide writing and time management strategies and sample essays from previous years’ successful applications. Students will then be given time to brainstorm and engage in practice writing exercises. Options Solutions writing coaches will give students one-on-one feedback on their drafts. \nBeginning the application process early will give students the opportunity to make the most productive use of their summer and enter grade 12 with more clarity and direction. \n  \nWhat do students have to say?\n“I really liked the tips\, exercises and examples of past students’ responses and what was good about them and what could’ve been improved. This allowed me to take good notes and implement what I thought was good into my applications.”
URL:https://www.optionssolutionsed.com/calendar/intro-to-canadian-supplement-writing-workshop/2021-07-19/
LOCATION:Virtual Format\, Online
CATEGORIES:application support,supplement writing workshop,workshop
ORGANIZER;CN="Options%20Solutions":MAILTO:info@optionssolutionsed.com
END:VEVENT
BEGIN:VEVENT
DTSTART;TZID=America/Vancouver:20210515T090000
DTEND;TZID=America/Vancouver:20210515T120000
DTSTAMP:20260422T015808
CREATED:20200716T212033Z
LAST-MODIFIED:20210323T193354Z
UID:8200-1621069200-1621080000@www.optionssolutionsed.com
SUMMARY:Intro to Canadian Supplement Writing Workshop
DESCRIPTION:This three-hour session introduces students to writing components for Canadian applications. \nThe session will include a presentation that outlines the typical essay and supplemental writing prompts required by major Canadian universities and programs (e.g. UBC\, Queen’s\, Western). During this presentation\, session leaders will also provide writing and time management strategies and sample essays from previous years’ successful applications. Students will then be given time to brainstorm and engage in practice writing exercises. Options Solutions writing coaches will give students one-on-one feedback on their drafts. \nBeginning the application process early will give students the opportunity to make the most productive use of their summer and enter grade 12 with more clarity and direction. \n  \nWhat do students have to say?\n“I really liked the tips\, exercises and examples of past students’ responses and what was good about them and what could’ve been improved. This allowed me to take good notes and implement what I thought was good into my applications.”
URL:https://www.optionssolutionsed.com/calendar/intro-to-canadian-supplement-writing-workshop/2021-05-15/
LOCATION:Virtual Format\, Online
CATEGORIES:application support,supplement writing workshop,workshop
ORGANIZER;CN="Options%20Solutions":MAILTO:info@optionssolutionsed.com
END:VEVENT
BEGIN:VEVENT
DTSTART;TZID=America/Vancouver:20210501T090000
DTEND;TZID=America/Vancouver:20210501T120000
DTSTAMP:20260422T015808
CREATED:20200716T212033Z
LAST-MODIFIED:20210323T193354Z
UID:8199-1619859600-1619870400@www.optionssolutionsed.com
SUMMARY:Intro to Canadian Supplement Writing Workshop
DESCRIPTION:This three-hour session introduces students to writing components for Canadian applications. \nThe session will include a presentation that outlines the typical essay and supplemental writing prompts required by major Canadian universities and programs (e.g. UBC\, Queen’s\, Western). During this presentation\, session leaders will also provide writing and time management strategies and sample essays from previous years’ successful applications. Students will then be given time to brainstorm and engage in practice writing exercises. Options Solutions writing coaches will give students one-on-one feedback on their drafts. \nBeginning the application process early will give students the opportunity to make the most productive use of their summer and enter grade 12 with more clarity and direction. \n  \nWhat do students have to say?\n“I really liked the tips\, exercises and examples of past students’ responses and what was good about them and what could’ve been improved. This allowed me to take good notes and implement what I thought was good into my applications.”
URL:https://www.optionssolutionsed.com/calendar/intro-to-canadian-supplement-writing-workshop/2021-05-01/
LOCATION:Virtual Format\, Online
CATEGORIES:application support,supplement writing workshop,workshop
ORGANIZER;CN="Options%20Solutions":MAILTO:info@optionssolutionsed.com
END:VEVENT
BEGIN:VEVENT
DTSTART;TZID=America/Vancouver:20201028T173000
DTEND;TZID=America/Vancouver:20201028T203000
DTSTAMP:20260422T015808
CREATED:20200716T212033Z
LAST-MODIFIED:20210323T193353Z
UID:7571-1603906200-1603917000@www.optionssolutionsed.com
SUMMARY:Intro to Canadian Supplement Writing Workshop
DESCRIPTION:This three-hour session introduces students to writing components for Canadian applications. \nThe session will include a presentation that outlines the typical essay and supplemental writing prompts required by major Canadian universities and programs (e.g. UBC\, Queen’s\, Western). During this presentation\, session leaders will also provide writing and time management strategies and sample essays from previous years’ successful applications. Students will then be given time to brainstorm and engage in practice writing exercises. Options Solutions writing coaches will give students one-on-one feedback on their drafts. \nBeginning the application process early will give students the opportunity to make the most productive use of their summer and enter grade 12 with more clarity and direction. \n  \nWhat do students have to say?\n“I really liked the tips\, exercises and examples of past students’ responses and what was good about them and what could’ve been improved. This allowed me to take good notes and implement what I thought was good into my applications.”
URL:https://www.optionssolutionsed.com/calendar/intro-to-canadian-supplement-writing-workshop/2020-10-28/
LOCATION:Virtual Format\, Online
CATEGORIES:application support,supplement writing workshop,workshop
ORGANIZER;CN="Options%20Solutions":MAILTO:info@optionssolutionsed.com
END:VEVENT
BEGIN:VEVENT
DTSTART;TZID=America/Vancouver:20201003T090000
DTEND;TZID=America/Vancouver:20201003T120000
DTSTAMP:20260422T015808
CREATED:20200716T212033Z
LAST-MODIFIED:20210323T193353Z
UID:7156-1601715600-1601726400@www.optionssolutionsed.com
SUMMARY:Intro to Canadian Supplement Writing Workshop
DESCRIPTION:This three-hour session introduces students to writing components for Canadian applications. \nThe session will include a presentation that outlines the typical essay and supplemental writing prompts required by major Canadian universities and programs (e.g. UBC\, Queen’s\, Western). During this presentation\, session leaders will also provide writing and time management strategies and sample essays from previous years’ successful applications. Students will then be given time to brainstorm and engage in practice writing exercises. Options Solutions writing coaches will give students one-on-one feedback on their drafts. \nBeginning the application process early will give students the opportunity to make the most productive use of their summer and enter grade 12 with more clarity and direction. \n  \nWhat do students have to say?\n“I really liked the tips\, exercises and examples of past students’ responses and what was good about them and what could’ve been improved. This allowed me to take good notes and implement what I thought was good into my applications.”
URL:https://www.optionssolutionsed.com/calendar/intro-to-canadian-supplement-writing-workshop/2020-10-03/
LOCATION:Virtual Format\, Online
CATEGORIES:application support,supplement writing workshop,workshop
ORGANIZER;CN="Options%20Solutions":MAILTO:info@optionssolutionsed.com
END:VEVENT
BEGIN:VEVENT
DTSTART;TZID=America/Vancouver:20200926T090000
DTEND;TZID=America/Vancouver:20200926T120000
DTSTAMP:20260422T015808
CREATED:20200716T212033Z
LAST-MODIFIED:20210323T193353Z
UID:7151-1601110800-1601121600@www.optionssolutionsed.com
SUMMARY:Intro to Canadian Supplement Writing Workshop
DESCRIPTION:This three-hour session introduces students to writing components for Canadian applications. \nThe session will include a presentation that outlines the typical essay and supplemental writing prompts required by major Canadian universities and programs (e.g. UBC\, Queen’s\, Western). During this presentation\, session leaders will also provide writing and time management strategies and sample essays from previous years’ successful applications. Students will then be given time to brainstorm and engage in practice writing exercises. Options Solutions writing coaches will give students one-on-one feedback on their drafts. \nBeginning the application process early will give students the opportunity to make the most productive use of their summer and enter grade 12 with more clarity and direction. \n  \nWhat do students have to say?\n“I really liked the tips\, exercises and examples of past students’ responses and what was good about them and what could’ve been improved. This allowed me to take good notes and implement what I thought was good into my applications.”
URL:https://www.optionssolutionsed.com/calendar/intro-to-canadian-supplement-writing-workshop/2020-09-26/
LOCATION:Virtual Format\, Online
CATEGORIES:application support,supplement writing workshop,workshop
ORGANIZER;CN="Options%20Solutions":MAILTO:info@optionssolutionsed.com
END:VEVENT
BEGIN:VEVENT
DTSTART;TZID=America/Vancouver:20200919T090000
DTEND;TZID=America/Vancouver:20200919T120000
DTSTAMP:20260422T015808
CREATED:20200716T212033Z
LAST-MODIFIED:20210323T193353Z
UID:7149-1600506000-1600516800@www.optionssolutionsed.com
SUMMARY:Intro to Canadian Supplement Writing Workshop
DESCRIPTION:This three-hour session introduces students to writing components for Canadian applications. \nThe session will include a presentation that outlines the typical essay and supplemental writing prompts required by major Canadian universities and programs (e.g. UBC\, Queen’s\, Western). During this presentation\, session leaders will also provide writing and time management strategies and sample essays from previous years’ successful applications. Students will then be given time to brainstorm and engage in practice writing exercises. Options Solutions writing coaches will give students one-on-one feedback on their drafts. \nBeginning the application process early will give students the opportunity to make the most productive use of their summer and enter grade 12 with more clarity and direction. \n  \nWhat do students have to say?\n“I really liked the tips\, exercises and examples of past students’ responses and what was good about them and what could’ve been improved. This allowed me to take good notes and implement what I thought was good into my applications.”
URL:https://www.optionssolutionsed.com/calendar/intro-to-canadian-supplement-writing-workshop/2020-09-19/
LOCATION:Virtual Format\, Online
CATEGORIES:application support,supplement writing workshop,workshop
ORGANIZER;CN="Options%20Solutions":MAILTO:info@optionssolutionsed.com
END:VEVENT
END:VCALENDAR