BEGIN:VCALENDAR
VERSION:2.0
PRODID:-//Options Solutions Educational Consultants - ECPv6.0.12//NONSGML v1.0//EN
CALSCALE:GREGORIAN
METHOD:PUBLISH
X-WR-CALNAME:Options Solutions Educational Consultants
X-ORIGINAL-URL:https://www.optionssolutionsed.com
X-WR-CALDESC:Events for Options Solutions Educational Consultants
REFRESH-INTERVAL;VALUE=DURATION:PT1H
X-Robots-Tag:noindex
X-PUBLISHED-TTL:PT1H
BEGIN:VTIMEZONE
TZID:America/Vancouver
BEGIN:DAYLIGHT
TZOFFSETFROM:-0800
TZOFFSETTO:-0700
TZNAME:PDT
DTSTART:20220313T100000
END:DAYLIGHT
BEGIN:STANDARD
TZOFFSETFROM:-0700
TZOFFSETTO:-0800
TZNAME:PST
DTSTART:20221106T090000
END:STANDARD
END:VTIMEZONE
BEGIN:VEVENT
DTSTART;TZID=America/Vancouver:20220910T100000
DTEND;TZID=America/Vancouver:20220910T120000
DTSTAMP:20260424T020255
CREATED:20220310T232448Z
LAST-MODIFIED:20220610T224210Z
UID:10017-1662804000-1662811200@www.optionssolutionsed.com
SUMMARY:How to Rock Your First Semester
DESCRIPTION:These intensive study skills sessions are designed to help students be academically prepared for post-secondary. \nThe sessions are instructional as well as practical\, hands-on work sessions. We will explore organizational strategies and understand the resources available to post-secondary students. We will also address how to communicate with professors and teaching assistants\, how to make use of a course outline\, and how to set goals and practice effective time management. Students will leave the workshop armed with the knowledge\, skills\, and strategies required to prepare them for academic success.
URL:https://www.optionssolutionsed.com/calendar/how-to-rock-your-first-semester/2022-09-10/
CATEGORIES:workshop
ORGANIZER;CN="Options%20Solutions":MAILTO:info@optionssolutionsed.com
END:VEVENT
BEGIN:VEVENT
DTSTART;TZID=America/Vancouver:20220822T100000
DTEND;TZID=America/Vancouver:20220822T120000
DTSTAMP:20260424T020255
CREATED:20220310T232448Z
LAST-MODIFIED:20220610T224209Z
UID:10016-1661162400-1661169600@www.optionssolutionsed.com
SUMMARY:How to Rock Your First Semester
DESCRIPTION:These intensive study skills sessions are designed to help students be academically prepared for post-secondary. \nThe sessions are instructional as well as practical\, hands-on work sessions. We will explore organizational strategies and understand the resources available to post-secondary students. We will also address how to communicate with professors and teaching assistants\, how to make use of a course outline\, and how to set goals and practice effective time management. Students will leave the workshop armed with the knowledge\, skills\, and strategies required to prepare them for academic success.
URL:https://www.optionssolutionsed.com/calendar/how-to-rock-your-first-semester/2022-08-22/
CATEGORIES:workshop
ORGANIZER;CN="Options%20Solutions":MAILTO:info@optionssolutionsed.com
END:VEVENT
BEGIN:VEVENT
DTSTART;TZID=America/Vancouver:20220712T100000
DTEND;TZID=America/Vancouver:20220712T120000
DTSTAMP:20260424T020255
CREATED:20220310T232448Z
LAST-MODIFIED:20220610T224209Z
UID:9944-1657620000-1657627200@www.optionssolutionsed.com
SUMMARY:How to Rock Your First Semester
DESCRIPTION:These intensive study skills sessions are designed to help students be academically prepared for post-secondary. \nThe sessions are instructional as well as practical\, hands-on work sessions. We will explore organizational strategies and understand the resources available to post-secondary students. We will also address how to communicate with professors and teaching assistants\, how to make use of a course outline\, and how to set goals and practice effective time management. Students will leave the workshop armed with the knowledge\, skills\, and strategies required to prepare them for academic success.
URL:https://www.optionssolutionsed.com/calendar/how-to-rock-your-first-semester/2022-07-12/
CATEGORIES:workshop
ORGANIZER;CN="Options%20Solutions":MAILTO:info@optionssolutionsed.com
END:VEVENT
END:VCALENDAR