BEGIN:VCALENDAR
VERSION:2.0
PRODID:-//Options Solutions Educational Consultants - ECPv6.0.12//NONSGML v1.0//EN
CALSCALE:GREGORIAN
METHOD:PUBLISH
X-WR-CALNAME:Options Solutions Educational Consultants
X-ORIGINAL-URL:https://www.optionssolutionsed.com
X-WR-CALDESC:Events for Options Solutions Educational Consultants
REFRESH-INTERVAL;VALUE=DURATION:PT1H
X-Robots-Tag:noindex
X-PUBLISHED-TTL:PT1H
BEGIN:VTIMEZONE
TZID:America/Vancouver
BEGIN:DAYLIGHT
TZOFFSETFROM:-0800
TZOFFSETTO:-0700
TZNAME:PDT
DTSTART:20210314T100000
END:DAYLIGHT
BEGIN:STANDARD
TZOFFSETFROM:-0700
TZOFFSETTO:-0800
TZNAME:PST
DTSTART:20211107T090000
END:STANDARD
END:VTIMEZONE
BEGIN:VEVENT
DTSTART;TZID=America/Vancouver:20211229T100000
DTEND;TZID=America/Vancouver:20211229T130000
DTSTAMP:20260419T215413
CREATED:20211103T205510Z
LAST-MODIFIED:20211103T205510Z
UID:9524-1640772000-1640782800@www.optionssolutionsed.com
SUMMARY:Essay Essentials Boot Camp
DESCRIPTION:This three-day boot camp is designed to give current grade 8\, 9\, and 10 students a solid understanding of English grammar\, writing conventions\, and essay basics\, so they can approach essay writing with the knowledge and skills necessary for success. Students will learn the essentials to writing expert argumentative essays\, which is the most common essay genre they will write in high school. \nThis session will be a great way to hone students’ writing skills. Furthermore\, the practice of active reading\, planning\, and essay writing is a great way to prepare for the Graduate Literacy Assessment (GLA)\, a new provincial exam for students in grades 10 and 12. \nThe boot camp will cover: \n\nActive reading\nEssay planning\nThesis construction\nUsage of evidence\nMLA citations\nTargeted editing
URL:https://www.optionssolutionsed.com/calendar/essay-essentials-boot-camp/2021-12-29/
LOCATION:Virtual Format\, Online
ORGANIZER;CN="Options%20Solutions":MAILTO:info@optionssolutionsed.com
END:VEVENT
BEGIN:VEVENT
DTSTART;TZID=America/Vancouver:20211228T100000
DTEND;TZID=America/Vancouver:20211228T130000
DTSTAMP:20260419T215413
CREATED:20211103T205510Z
LAST-MODIFIED:20211103T205510Z
UID:9523-1640685600-1640696400@www.optionssolutionsed.com
SUMMARY:Essay Essentials Boot Camp
DESCRIPTION:This three-day boot camp is designed to give current grade 8\, 9\, and 10 students a solid understanding of English grammar\, writing conventions\, and essay basics\, so they can approach essay writing with the knowledge and skills necessary for success. Students will learn the essentials to writing expert argumentative essays\, which is the most common essay genre they will write in high school. \nThis session will be a great way to hone students’ writing skills. Furthermore\, the practice of active reading\, planning\, and essay writing is a great way to prepare for the Graduate Literacy Assessment (GLA)\, a new provincial exam for students in grades 10 and 12. \nThe boot camp will cover: \n\nActive reading\nEssay planning\nThesis construction\nUsage of evidence\nMLA citations\nTargeted editing
URL:https://www.optionssolutionsed.com/calendar/essay-essentials-boot-camp/2021-12-28/
LOCATION:Virtual Format\, Online
ORGANIZER;CN="Options%20Solutions":MAILTO:info@optionssolutionsed.com
END:VEVENT
BEGIN:VEVENT
DTSTART;TZID=America/Vancouver:20211227T100000
DTEND;TZID=America/Vancouver:20211227T130000
DTSTAMP:20260419T215413
CREATED:20211103T205510Z
LAST-MODIFIED:20211103T205510Z
UID:9521-1640599200-1640610000@www.optionssolutionsed.com
SUMMARY:Essay Essentials Boot Camp
DESCRIPTION:This three-day boot camp is designed to give current grade 8\, 9\, and 10 students a solid understanding of English grammar\, writing conventions\, and essay basics\, so they can approach essay writing with the knowledge and skills necessary for success. Students will learn the essentials to writing expert argumentative essays\, which is the most common essay genre they will write in high school. \nThis session will be a great way to hone students’ writing skills. Furthermore\, the practice of active reading\, planning\, and essay writing is a great way to prepare for the Graduate Literacy Assessment (GLA)\, a new provincial exam for students in grades 10 and 12. \nThe boot camp will cover: \n\nActive reading\nEssay planning\nThesis construction\nUsage of evidence\nMLA citations\nTargeted editing
URL:https://www.optionssolutionsed.com/calendar/essay-essentials-boot-camp/2021-12-27/
LOCATION:Virtual Format\, Online
ORGANIZER;CN="Options%20Solutions":MAILTO:info@optionssolutionsed.com
END:VEVENT
END:VCALENDAR