BEGIN:VCALENDAR
VERSION:2.0
PRODID:-//Options Solutions Educational Consultants - ECPv6.0.12//NONSGML v1.0//EN
CALSCALE:GREGORIAN
METHOD:PUBLISH
X-WR-CALNAME:Options Solutions Educational Consultants
X-ORIGINAL-URL:https://www.optionssolutionsed.com
X-WR-CALDESC:Events for Options Solutions Educational Consultants
REFRESH-INTERVAL;VALUE=DURATION:PT1H
X-Robots-Tag:noindex
X-PUBLISHED-TTL:PT1H
BEGIN:VTIMEZONE
TZID:America/Vancouver
BEGIN:DAYLIGHT
TZOFFSETFROM:-0800
TZOFFSETTO:-0700
TZNAME:PDT
DTSTART:20200308T100000
END:DAYLIGHT
BEGIN:STANDARD
TZOFFSETFROM:-0700
TZOFFSETTO:-0800
TZNAME:PST
DTSTART:20201101T090000
END:STANDARD
END:VTIMEZONE
BEGIN:VEVENT
DTSTART;TZID=America/Vancouver:20200724T100000
DTEND;TZID=America/Vancouver:20200724T130000
DTSTAMP:20260420T072951
CREATED:20200413T214631Z
LAST-MODIFIED:20200413T214933Z
UID:5951-1595584800-1595595600@www.optionssolutionsed.com
SUMMARY:Core Test Skills (ACT/SAT) Bootcamp
DESCRIPTION:These intensive sessions focus on helping students master the ACT or SAT exam. Topics will cover every portion of the test\, including test-taking strategies\, time management tips\, and crossover skills for the ACT/SAT exam. Materials will be provided. \nHow is test prep at Options different? \nTest prep at Options is unique because it combines test preparation with the teaching of fundamental academic skills. With many years of experience\, Options instructors ensure that students understand the higher-level reading\, writing and math skills that will prepare them for the ACT and SAT\, but will also help them succeed in high school and beyond. Options doesn’t just teach “test-taking tricks” like other test prep organizations. Instead\, students receive a strong grounding in how the test works and strategies for attaining a high score\, combined with an opportunity to increase their overall academic performance. \nDaily Schedule: \n\nMonday: Reading/Grammar\nTuesday: Math\nWednesday: Reading/Grammar\nThursday: Math\nFriday: Reading/Grammar
URL:https://www.optionssolutionsed.com/calendar/core-test-skills-act-sat-bootcamp/2020-07-24/
LOCATION:All Offices
CATEGORIES:ACT prep,workshop
ORGANIZER;CN="Options%20Solutions":MAILTO:info@optionssolutionsed.com
END:VEVENT
BEGIN:VEVENT
DTSTART;TZID=America/Vancouver:20200723T100000
DTEND;TZID=America/Vancouver:20200723T130000
DTSTAMP:20260420T072951
CREATED:20200413T214631Z
LAST-MODIFIED:20200413T214933Z
UID:5950-1595498400-1595509200@www.optionssolutionsed.com
SUMMARY:Core Test Skills (ACT/SAT) Bootcamp
DESCRIPTION:These intensive sessions focus on helping students master the ACT or SAT exam. Topics will cover every portion of the test\, including test-taking strategies\, time management tips\, and crossover skills for the ACT/SAT exam. Materials will be provided. \nHow is test prep at Options different? \nTest prep at Options is unique because it combines test preparation with the teaching of fundamental academic skills. With many years of experience\, Options instructors ensure that students understand the higher-level reading\, writing and math skills that will prepare them for the ACT and SAT\, but will also help them succeed in high school and beyond. Options doesn’t just teach “test-taking tricks” like other test prep organizations. Instead\, students receive a strong grounding in how the test works and strategies for attaining a high score\, combined with an opportunity to increase their overall academic performance. \nDaily Schedule: \n\nMonday: Reading/Grammar\nTuesday: Math\nWednesday: Reading/Grammar\nThursday: Math\nFriday: Reading/Grammar
URL:https://www.optionssolutionsed.com/calendar/core-test-skills-act-sat-bootcamp/2020-07-23/
LOCATION:All Offices
CATEGORIES:ACT prep,workshop
ORGANIZER;CN="Options%20Solutions":MAILTO:info@optionssolutionsed.com
END:VEVENT
BEGIN:VEVENT
DTSTART;TZID=America/Vancouver:20200722T100000
DTEND;TZID=America/Vancouver:20200722T130000
DTSTAMP:20260420T072951
CREATED:20200413T214631Z
LAST-MODIFIED:20200413T214932Z
UID:5949-1595412000-1595422800@www.optionssolutionsed.com
SUMMARY:Core Test Skills (ACT/SAT) Bootcamp
DESCRIPTION:These intensive sessions focus on helping students master the ACT or SAT exam. Topics will cover every portion of the test\, including test-taking strategies\, time management tips\, and crossover skills for the ACT/SAT exam. Materials will be provided. \nHow is test prep at Options different? \nTest prep at Options is unique because it combines test preparation with the teaching of fundamental academic skills. With many years of experience\, Options instructors ensure that students understand the higher-level reading\, writing and math skills that will prepare them for the ACT and SAT\, but will also help them succeed in high school and beyond. Options doesn’t just teach “test-taking tricks” like other test prep organizations. Instead\, students receive a strong grounding in how the test works and strategies for attaining a high score\, combined with an opportunity to increase their overall academic performance. \nDaily Schedule: \n\nMonday: Reading/Grammar\nTuesday: Math\nWednesday: Reading/Grammar\nThursday: Math\nFriday: Reading/Grammar
URL:https://www.optionssolutionsed.com/calendar/core-test-skills-act-sat-bootcamp/2020-07-22/
LOCATION:All Offices
CATEGORIES:ACT prep,workshop
ORGANIZER;CN="Options%20Solutions":MAILTO:info@optionssolutionsed.com
END:VEVENT
BEGIN:VEVENT
DTSTART;TZID=America/Vancouver:20200721T100000
DTEND;TZID=America/Vancouver:20200721T130000
DTSTAMP:20260420T072951
CREATED:20200413T214631Z
LAST-MODIFIED:20200413T214932Z
UID:5948-1595325600-1595336400@www.optionssolutionsed.com
SUMMARY:Core Test Skills (ACT/SAT) Bootcamp
DESCRIPTION:These intensive sessions focus on helping students master the ACT or SAT exam. Topics will cover every portion of the test\, including test-taking strategies\, time management tips\, and crossover skills for the ACT/SAT exam. Materials will be provided. \nHow is test prep at Options different? \nTest prep at Options is unique because it combines test preparation with the teaching of fundamental academic skills. With many years of experience\, Options instructors ensure that students understand the higher-level reading\, writing and math skills that will prepare them for the ACT and SAT\, but will also help them succeed in high school and beyond. Options doesn’t just teach “test-taking tricks” like other test prep organizations. Instead\, students receive a strong grounding in how the test works and strategies for attaining a high score\, combined with an opportunity to increase their overall academic performance. \nDaily Schedule: \n\nMonday: Reading/Grammar\nTuesday: Math\nWednesday: Reading/Grammar\nThursday: Math\nFriday: Reading/Grammar
URL:https://www.optionssolutionsed.com/calendar/core-test-skills-act-sat-bootcamp/2020-07-21/
LOCATION:All Offices
CATEGORIES:ACT prep,workshop
ORGANIZER;CN="Options%20Solutions":MAILTO:info@optionssolutionsed.com
END:VEVENT
BEGIN:VEVENT
DTSTART;TZID=America/Vancouver:20200720T100000
DTEND;TZID=America/Vancouver:20200720T130000
DTSTAMP:20260420T072951
CREATED:20200413T214631Z
LAST-MODIFIED:20200413T214932Z
UID:5946-1595239200-1595250000@www.optionssolutionsed.com
SUMMARY:Core Test Skills (ACT/SAT) Bootcamp
DESCRIPTION:These intensive sessions focus on helping students master the ACT or SAT exam. Topics will cover every portion of the test\, including test-taking strategies\, time management tips\, and crossover skills for the ACT/SAT exam. Materials will be provided. \nHow is test prep at Options different? \nTest prep at Options is unique because it combines test preparation with the teaching of fundamental academic skills. With many years of experience\, Options instructors ensure that students understand the higher-level reading\, writing and math skills that will prepare them for the ACT and SAT\, but will also help them succeed in high school and beyond. Options doesn’t just teach “test-taking tricks” like other test prep organizations. Instead\, students receive a strong grounding in how the test works and strategies for attaining a high score\, combined with an opportunity to increase their overall academic performance. \nDaily Schedule: \n\nMonday: Reading/Grammar\nTuesday: Math\nWednesday: Reading/Grammar\nThursday: Math\nFriday: Reading/Grammar
URL:https://www.optionssolutionsed.com/calendar/core-test-skills-act-sat-bootcamp/2020-07-20/
LOCATION:All Offices
CATEGORIES:ACT prep,workshop
ORGANIZER;CN="Options%20Solutions":MAILTO:info@optionssolutionsed.com
END:VEVENT
END:VCALENDAR