BEGIN:VCALENDAR
VERSION:2.0
PRODID:-//Options Solutions Educational Consultants - ECPv6.0.12//NONSGML v1.0//EN
CALSCALE:GREGORIAN
METHOD:PUBLISH
X-ORIGINAL-URL:https://www.optionssolutionsed.com
X-WR-CALDESC:Events for Options Solutions Educational Consultants
REFRESH-INTERVAL;VALUE=DURATION:PT1H
X-Robots-Tag:noindex
X-PUBLISHED-TTL:PT1H
BEGIN:VTIMEZONE
TZID:America/Vancouver
BEGIN:DAYLIGHT
TZOFFSETFROM:-0800
TZOFFSETTO:-0700
TZNAME:PDT
DTSTART:20210314T100000
END:DAYLIGHT
BEGIN:STANDARD
TZOFFSETFROM:-0700
TZOFFSETTO:-0800
TZNAME:PST
DTSTART:20211107T090000
END:STANDARD
END:VTIMEZONE
BEGIN:VEVENT
DTSTART;TZID=America/Vancouver:20211230T100000
DTEND;TZID=America/Vancouver:20211230T130000
DTSTAMP:20260419T215701
CREATED:20211016T220246Z
LAST-MODIFIED:20211016T220246Z
UID:9453-1640858400-1640869200@www.optionssolutionsed.com
SUMMARY:Core Test Skills
DESCRIPTION:These intensive sessions focus on helping students master the ACT or SAT exam. Topics will cover every portion of the test\, including test-taking strategies\, time management tips\, and crossover skills for the ACT/SAT exam. Materials will be provided. \nHow is test prep at Options different?  \nTest prep at Options is unique because it combines test preparation with the teaching of fundamental academic skills. With many years of experience\, Options instructors ensure that students understand the higher-level reading\, writing and math skills that will prepare them for the ACT and SAT but will also help them succeed in high school and beyond. Options doesn’t just teach “test-taking tricks” like other test prep organizations. Instead\, students receive a strong grounding in how the test works and strategies for attaining a high score\, combined with an opportunity to increase their overall academic performance. \nWhat do our students have to say? \n\n“I really liked that the instructor had everyone participate because it made it feel more like an actual class. I also liked they gave us lots of extra practice after the course was even finished.” \n\nCost: $450 for the week + applicable taxes; $150 per individual day + applicable taxes
URL:https://www.optionssolutionsed.com/calendar/core-test-skills-3/2021-12-30/
LOCATION:Virtual Format\, Online
ORGANIZER;CN="Options%20Solutions":MAILTO:info@optionssolutionsed.com
END:VEVENT
BEGIN:VEVENT
DTSTART;TZID=America/Vancouver:20211229T100000
DTEND;TZID=America/Vancouver:20211229T130000
DTSTAMP:20260419T215701
CREATED:20211016T220246Z
LAST-MODIFIED:20211016T220246Z
UID:9452-1640772000-1640782800@www.optionssolutionsed.com
SUMMARY:Core Test Skills
DESCRIPTION:These intensive sessions focus on helping students master the ACT or SAT exam. Topics will cover every portion of the test\, including test-taking strategies\, time management tips\, and crossover skills for the ACT/SAT exam. Materials will be provided. \nHow is test prep at Options different?  \nTest prep at Options is unique because it combines test preparation with the teaching of fundamental academic skills. With many years of experience\, Options instructors ensure that students understand the higher-level reading\, writing and math skills that will prepare them for the ACT and SAT but will also help them succeed in high school and beyond. Options doesn’t just teach “test-taking tricks” like other test prep organizations. Instead\, students receive a strong grounding in how the test works and strategies for attaining a high score\, combined with an opportunity to increase their overall academic performance. \nWhat do our students have to say? \n\n“I really liked that the instructor had everyone participate because it made it feel more like an actual class. I also liked they gave us lots of extra practice after the course was even finished.” \n\nCost: $450 for the week + applicable taxes; $150 per individual day + applicable taxes
URL:https://www.optionssolutionsed.com/calendar/core-test-skills-3/2021-12-29/
LOCATION:Virtual Format\, Online
ORGANIZER;CN="Options%20Solutions":MAILTO:info@optionssolutionsed.com
END:VEVENT
BEGIN:VEVENT
DTSTART;TZID=America/Vancouver:20211228T100000
DTEND;TZID=America/Vancouver:20211228T130000
DTSTAMP:20260419T215701
CREATED:20211016T220246Z
LAST-MODIFIED:20211016T220246Z
UID:9451-1640685600-1640696400@www.optionssolutionsed.com
SUMMARY:Core Test Skills
DESCRIPTION:These intensive sessions focus on helping students master the ACT or SAT exam. Topics will cover every portion of the test\, including test-taking strategies\, time management tips\, and crossover skills for the ACT/SAT exam. Materials will be provided. \nHow is test prep at Options different?  \nTest prep at Options is unique because it combines test preparation with the teaching of fundamental academic skills. With many years of experience\, Options instructors ensure that students understand the higher-level reading\, writing and math skills that will prepare them for the ACT and SAT but will also help them succeed in high school and beyond. Options doesn’t just teach “test-taking tricks” like other test prep organizations. Instead\, students receive a strong grounding in how the test works and strategies for attaining a high score\, combined with an opportunity to increase their overall academic performance. \nWhat do our students have to say? \n\n“I really liked that the instructor had everyone participate because it made it feel more like an actual class. I also liked they gave us lots of extra practice after the course was even finished.” \n\nCost: $450 for the week + applicable taxes; $150 per individual day + applicable taxes
URL:https://www.optionssolutionsed.com/calendar/core-test-skills-3/2021-12-28/
LOCATION:Virtual Format\, Online
ORGANIZER;CN="Options%20Solutions":MAILTO:info@optionssolutionsed.com
END:VEVENT
BEGIN:VEVENT
DTSTART;TZID=America/Vancouver:20211227T100000
DTEND;TZID=America/Vancouver:20211227T130000
DTSTAMP:20260419T215701
CREATED:20211016T220246Z
LAST-MODIFIED:20211016T220246Z
UID:9449-1640599200-1640610000@www.optionssolutionsed.com
SUMMARY:Core Test Skills
DESCRIPTION:These intensive sessions focus on helping students master the ACT or SAT exam. Topics will cover every portion of the test\, including test-taking strategies\, time management tips\, and crossover skills for the ACT/SAT exam. Materials will be provided. \nHow is test prep at Options different?  \nTest prep at Options is unique because it combines test preparation with the teaching of fundamental academic skills. With many years of experience\, Options instructors ensure that students understand the higher-level reading\, writing and math skills that will prepare them for the ACT and SAT but will also help them succeed in high school and beyond. Options doesn’t just teach “test-taking tricks” like other test prep organizations. Instead\, students receive a strong grounding in how the test works and strategies for attaining a high score\, combined with an opportunity to increase their overall academic performance. \nWhat do our students have to say? \n\n“I really liked that the instructor had everyone participate because it made it feel more like an actual class. I also liked they gave us lots of extra practice after the course was even finished.” \n\nCost: $450 for the week + applicable taxes; $150 per individual day + applicable taxes
URL:https://www.optionssolutionsed.com/calendar/core-test-skills-3/2021-12-27/
LOCATION:Virtual Format\, Online
ORGANIZER;CN="Options%20Solutions":MAILTO:info@optionssolutionsed.com
END:VEVENT
END:VCALENDAR