BEGIN:VCALENDAR
VERSION:2.0
PRODID:-//Options Solutions Educational Consultants - ECPv6.0.12//NONSGML v1.0//EN
CALSCALE:GREGORIAN
METHOD:PUBLISH
X-WR-CALNAME:Options Solutions Educational Consultants
X-ORIGINAL-URL:https://www.optionssolutionsed.com
X-WR-CALDESC:Events for Options Solutions Educational Consultants
REFRESH-INTERVAL;VALUE=DURATION:PT1H
X-Robots-Tag:noindex
X-PUBLISHED-TTL:PT1H
BEGIN:VTIMEZONE
TZID:America/Vancouver
BEGIN:DAYLIGHT
TZOFFSETFROM:-0800
TZOFFSETTO:-0700
TZNAME:PDT
DTSTART:20210314T100000
END:DAYLIGHT
BEGIN:STANDARD
TZOFFSETFROM:-0700
TZOFFSETTO:-0800
TZNAME:PST
DTSTART:20211107T090000
END:STANDARD
END:VTIMEZONE
BEGIN:VEVENT
DTSTART;TZID=America/Vancouver:20210911T100000
DTEND;TZID=America/Vancouver:20210911T120000
DTSTAMP:20260424T074801
CREATED:20200716T210146Z
LAST-MODIFIED:20210827T204703Z
UID:8317-1631354400-1631361600@www.optionssolutionsed.com
SUMMARY:Back to School Study Skills (High School Students) Workshop
DESCRIPTION:These intensive study skills sessions are designed to help students be academically prepared for both in-person and online educational models. \nThe sessions are instructional as well as practical\, hands-on work sessions. They are offered at the start of the school term to help students thrive in a unique classroom setting that integrates online and in-person learning. Students will leave the workshop armed with the knowledge\, skills\, strategies\, and reference material required to prepare them for academic success. They will also leave the workshop with a concrete understanding of their own executive functioning strengths and weaknesses and with an individualized plan to help them succeed in increasingly hybrid academic environments. \nTopics will Include: \n\nGoal setting\nOrganizational systems (both digital and physical)\nCreating a productive at-home workspace\nLearning how to learn\nEffective note-taking (both digital and physical)\nTime management\nStrategies for managing procrastination\nUniversal test/exam taking skills for various subjects\nActive reading techniques for better comprehension and retention\nHow to study efficiently\, save time\, and do well academically\n\n*Please have your school notebooks\, binders\, and agenda easily accessible for the session.
URL:https://www.optionssolutionsed.com/calendar/back-to-school-study-skills-online-learning-hybrid-high-school-students-workshop/2021-09-11/
LOCATION:Virtual Format\, Online
CATEGORIES:study skills workshop,workshop
ORGANIZER;CN="Options%20Solutions":MAILTO:info@optionssolutionsed.com
END:VEVENT
BEGIN:VEVENT
DTSTART;TZID=America/Vancouver:20210911T100000
DTEND;TZID=America/Vancouver:20210911T120000
DTSTAMP:20260424T074801
CREATED:20200716T211048Z
LAST-MODIFIED:20210827T204455Z
UID:8444-1631354400-1631361600@www.optionssolutionsed.com
SUMMARY:How to Rock Your First Semester Workshop
DESCRIPTION:These intensive study skills sessions are designed to help students be academically prepared for both in-person and online educational models. \nThe sessions are instructional as well as practical\, hands-on work sessions. We will explore organizational strategies and understand the resources available to post-secondary students. We will also address how to communicate with professors and teaching assistants\, how to make use of a course outline\, and how to set goals and practice effective time management. Students will leave the workshop armed with the knowledge\, skills\, and strategies required to prepare them for academic success. \nTopics Include: \n\nGoal setting\nOrganizational systems (both digital and physical)\nCreating a productive at-home workspace\nLearning how to learn\nEffective note-taking (both digital and physical)\nTime management\nStrategies for managing procrastination\nUniversal test/exam taking skills for various subjects\nActive reading techniques for better comprehension and retention\nHow to study efficiently\, save time\, and do well academically\n\n  \n*Please have your school notebooks\, binders\, and agenda easily accessible for the session. \n  \nWhat do our students have to say?\n“I liked the suggestions about active reading and note-taking strategies and the support I received in creating my own roadmap for important resources like the add/drop deadline and counselling resources.”
URL:https://www.optionssolutionsed.com/calendar/how-to-rock-your-first-semester-online-university-students-workshop/2021-09-11/
LOCATION:Virtual Format\, Online
CATEGORIES:study skills workshop,workshop
ORGANIZER;CN="Options%20Solutions":MAILTO:info@optionssolutionsed.com
END:VEVENT
END:VCALENDAR