BEGIN:VCALENDAR
VERSION:2.0
PRODID:-//Options Solutions Educational Consultants - ECPv6.0.12//NONSGML v1.0//EN
CALSCALE:GREGORIAN
METHOD:PUBLISH
X-WR-CALNAME:Options Solutions Educational Consultants
X-ORIGINAL-URL:https://www.optionssolutionsed.com
X-WR-CALDESC:Events for Options Solutions Educational Consultants
REFRESH-INTERVAL;VALUE=DURATION:PT1H
X-Robots-Tag:noindex
X-PUBLISHED-TTL:PT1H
BEGIN:VTIMEZONE
TZID:America/Vancouver
BEGIN:DAYLIGHT
TZOFFSETFROM:-0800
TZOFFSETTO:-0700
TZNAME:PDT
DTSTART:20210314T100000
END:DAYLIGHT
BEGIN:STANDARD
TZOFFSETFROM:-0700
TZOFFSETTO:-0800
TZNAME:PST
DTSTART:20211107T090000
END:STANDARD
BEGIN:DAYLIGHT
TZOFFSETFROM:-0800
TZOFFSETTO:-0700
TZNAME:PDT
DTSTART:20220313T100000
END:DAYLIGHT
BEGIN:STANDARD
TZOFFSETFROM:-0700
TZOFFSETTO:-0800
TZNAME:PST
DTSTART:20221106T090000
END:STANDARD
END:VTIMEZONE
BEGIN:VEVENT
DTSTART;TZID=America/Vancouver:20220507T090000
DTEND;TZID=America/Vancouver:20220507T100000
DTSTAMP:20260419T221501
CREATED:20220325T235500Z
LAST-MODIFIED:20220326T003342Z
UID:10072-1651914000-1651917600@www.optionssolutionsed.com
SUMMARY:Why UK? Presentation
DESCRIPTION:With the opportunity to gain a bachelor’s degree in just three years while gaining international experience valued by employers\, the UK is becoming an increasingly popular destination for students from Canada and around the world.  Join us to learn more at our Why UK? presentation featuring Sarah Jamieson\, Regional Officer for the University of Warwick. The presentation will aim to cover: \n\nKey features of UK university study\nCost of attendance and funding\nHow to apply\nAcademic requirements\nStand out personal statements\nHow to find the ‘best-fit’ UK university for you\n\nThis session will include a brief presentation with ample time for Q&A.  If you’re keen to learn more about UK university study\, navigating choices\, and submitting a stand-out application to a highly selective UK university\, this is the session for you!
URL:https://www.optionssolutionsed.com/calendar/why-uk-presentation/
LOCATION:Virtual Format\, Online
CATEGORIES:University Prep,University Prep
ORGANIZER;CN="Options%20Solutions":MAILTO:info@optionssolutionsed.com
END:VEVENT
BEGIN:VEVENT
DTSTART;TZID=America/Vancouver:20220314T100000
DTEND;TZID=America/Vancouver:20220316T120000
DTSTAMP:20260419T221501
CREATED:20211211T191400Z
LAST-MODIFIED:20211211T191400Z
UID:9686-1647252000-1647432000@www.optionssolutionsed.com
SUMMARY:Canadian Admissions Boot Camp
DESCRIPTION:This three-day intensive preparation will help students understand and tackle the Canadian admissions process. The goal of this boot camp is to relieve the stress students feel about the application process and to get a head start. \nTopics will include: \n\nComprehensive overview of the Canadian admissions process\nIntroduction to university or college – choosing a major\, minor\, or concentration\nFinding a field of study & matching a field of study to the best post-secondary options\nExploration of the curriculum covered in expected major\nFactors to consider when choosing a university (location\, size\, class size\, access to services\, etc.)\nIntroduction to essay writing and supplement applications\nExtra-curricular summary\nGenerating individualized timelines\nGrade 11 and 12 academic goal setting\n\n 
URL:https://www.optionssolutionsed.com/calendar/canadian-admissions-boot-camp-4/
LOCATION:Virtual Format\, Online
CATEGORIES:University Prep,University Prep
ORGANIZER;CN="Options%20Solutions":MAILTO:info@optionssolutionsed.com
END:VEVENT
BEGIN:VEVENT
DTSTART;TZID=America/Vancouver:20220108T090000
DTEND;TZID=America/Vancouver:20220108T120000
DTSTAMP:20260419T221501
CREATED:20210910T213714Z
LAST-MODIFIED:20211117T181250Z
UID:9237-1641632400-1641643200@www.optionssolutionsed.com
SUMMARY:Writing for Applications
DESCRIPTION:These sessions aim to help students complete the supplemental writing portions of their post-secondary and scholarship applications. \nWriting Workshop allows students to work on the written portions of their US\, UK\, and Canadian applications (and scholarship applications\,\ntoo!) in an oversighted and productive environment. Students are able to receive assistance in all parts of the writing process: brainstorming\, drafting\, editing and finalizing their work. We accommodate students working on a variety of projects all in the same session\, and our writing coaches work personally with students on their unique pieces. \n\nStudents should have handy their list of universities and programs they are applying to for this session.\nIf you are in person\, please bring a laptop. All students need a Google account to access Google Drive and Google Classroom.\nDue to COVID protocol\, please plan to wear a mask and bring your own water bottle\, snacks and writing utensils.\nWe strongly encourage all students to attend an Intro to Canadian Supplement Writing Workshop before attending a Supplement Writing Workshop.\n\n 
URL:https://www.optionssolutionsed.com/calendar/writing-for-applications/2022-01-08/
LOCATION:Virtual Format\, Online
CATEGORIES:University Prep
ORGANIZER;CN="Options%20Solutions":MAILTO:info@optionssolutionsed.com
END:VEVENT
BEGIN:VEVENT
DTSTART;TZID=America/Vancouver:20220104T173000
DTEND;TZID=America/Vancouver:20220104T203000
DTSTAMP:20260419T221501
CREATED:20210910T213714Z
LAST-MODIFIED:20211117T181250Z
UID:9580-1641317400-1641328200@www.optionssolutionsed.com
SUMMARY:Writing for Applications
DESCRIPTION:These sessions aim to help students complete the supplemental writing portions of their post-secondary and scholarship applications. \nWriting Workshop allows students to work on the written portions of their US\, UK\, and Canadian applications (and scholarship applications\,\ntoo!) in an oversighted and productive environment. Students are able to receive assistance in all parts of the writing process: brainstorming\, drafting\, editing and finalizing their work. We accommodate students working on a variety of projects all in the same session\, and our writing coaches work personally with students on their unique pieces. \n\nStudents should have handy their list of universities and programs they are applying to for this session.\nIf you are in person\, please bring a laptop. All students need a Google account to access Google Drive and Google Classroom.\nDue to COVID protocol\, please plan to wear a mask and bring your own water bottle\, snacks and writing utensils.\nWe strongly encourage all students to attend an Intro to Canadian Supplement Writing Workshop before attending a Supplement Writing Workshop.\n\n 
URL:https://www.optionssolutionsed.com/calendar/writing-for-applications/2022-01-04/
LOCATION:Virtual Format\, Online
CATEGORIES:University Prep
ORGANIZER;CN="Options%20Solutions":MAILTO:info@optionssolutionsed.com
END:VEVENT
BEGIN:VEVENT
DTSTART;TZID=America/Vancouver:20211228T090000
DTEND;TZID=America/Vancouver:20211228T120000
DTSTAMP:20260419T221501
CREATED:20210910T213714Z
LAST-MODIFIED:20211117T181250Z
UID:9236-1640682000-1640692800@www.optionssolutionsed.com
SUMMARY:Writing for Applications
DESCRIPTION:These sessions aim to help students complete the supplemental writing portions of their post-secondary and scholarship applications. \nWriting Workshop allows students to work on the written portions of their US\, UK\, and Canadian applications (and scholarship applications\,\ntoo!) in an oversighted and productive environment. Students are able to receive assistance in all parts of the writing process: brainstorming\, drafting\, editing and finalizing their work. We accommodate students working on a variety of projects all in the same session\, and our writing coaches work personally with students on their unique pieces. \n\nStudents should have handy their list of universities and programs they are applying to for this session.\nIf you are in person\, please bring a laptop. All students need a Google account to access Google Drive and Google Classroom.\nDue to COVID protocol\, please plan to wear a mask and bring your own water bottle\, snacks and writing utensils.\nWe strongly encourage all students to attend an Intro to Canadian Supplement Writing Workshop before attending a Supplement Writing Workshop.\n\n 
URL:https://www.optionssolutionsed.com/calendar/writing-for-applications/2021-12-28/
LOCATION:Virtual Format\, Online
CATEGORIES:University Prep
ORGANIZER;CN="Options%20Solutions":MAILTO:info@optionssolutionsed.com
END:VEVENT
BEGIN:VEVENT
DTSTART;TZID=America/Vancouver:20211221T090000
DTEND;TZID=America/Vancouver:20211221T120000
DTSTAMP:20260419T221501
CREATED:20210910T213714Z
LAST-MODIFIED:20211117T181249Z
UID:9235-1640077200-1640088000@www.optionssolutionsed.com
SUMMARY:Writing for Applications
DESCRIPTION:These sessions aim to help students complete the supplemental writing portions of their post-secondary and scholarship applications. \nWriting Workshop allows students to work on the written portions of their US\, UK\, and Canadian applications (and scholarship applications\,\ntoo!) in an oversighted and productive environment. Students are able to receive assistance in all parts of the writing process: brainstorming\, drafting\, editing and finalizing their work. We accommodate students working on a variety of projects all in the same session\, and our writing coaches work personally with students on their unique pieces. \n\nStudents should have handy their list of universities and programs they are applying to for this session.\nIf you are in person\, please bring a laptop. All students need a Google account to access Google Drive and Google Classroom.\nDue to COVID protocol\, please plan to wear a mask and bring your own water bottle\, snacks and writing utensils.\nWe strongly encourage all students to attend an Intro to Canadian Supplement Writing Workshop before attending a Supplement Writing Workshop.\n\n 
URL:https://www.optionssolutionsed.com/calendar/writing-for-applications/2021-12-21/
LOCATION:Virtual Format\, Online
CATEGORIES:University Prep
ORGANIZER;CN="Options%20Solutions":MAILTO:info@optionssolutionsed.com
END:VEVENT
BEGIN:VEVENT
DTSTART;TZID=America/Vancouver:20211127T090000
DTEND;TZID=America/Vancouver:20211127T120000
DTSTAMP:20260419T221501
CREATED:20210910T213714Z
LAST-MODIFIED:20211117T181249Z
UID:9234-1638003600-1638014400@www.optionssolutionsed.com
SUMMARY:Writing for Applications
DESCRIPTION:These sessions aim to help students complete the supplemental writing portions of their post-secondary and scholarship applications. \nWriting Workshop allows students to work on the written portions of their US\, UK\, and Canadian applications (and scholarship applications\,\ntoo!) in an oversighted and productive environment. Students are able to receive assistance in all parts of the writing process: brainstorming\, drafting\, editing and finalizing their work. We accommodate students working on a variety of projects all in the same session\, and our writing coaches work personally with students on their unique pieces. \n\nStudents should have handy their list of universities and programs they are applying to for this session.\nIf you are in person\, please bring a laptop. All students need a Google account to access Google Drive and Google Classroom.\nDue to COVID protocol\, please plan to wear a mask and bring your own water bottle\, snacks and writing utensils.\nWe strongly encourage all students to attend an Intro to Canadian Supplement Writing Workshop before attending a Supplement Writing Workshop.\n\n 
URL:https://www.optionssolutionsed.com/calendar/writing-for-applications/2021-11-27/
LOCATION:Virtual Format\, Online
CATEGORIES:University Prep
ORGANIZER;CN="Options%20Solutions":MAILTO:info@optionssolutionsed.com
END:VEVENT
BEGIN:VEVENT
DTSTART;TZID=America/Vancouver:20211120T130000
DTEND;TZID=America/Vancouver:20211120T160000
DTSTAMP:20260419T221501
CREATED:20210910T221731Z
LAST-MODIFIED:20210910T221731Z
UID:9266-1637413200-1637424000@www.optionssolutionsed.com
SUMMARY:Canadian Application Workshop
DESCRIPTION:The application process can be complicated and confusing.\nThese sessions are designed for students who want assistance completing their Canadian post-secondary applications in a constructive and supportive environment. Our educational consultants will lead students through completing the application process step-by-step and answer any questions that arise along the way. \nPlease bring to each session: \n\nA laptop computer\nYour finalized list of post-secondary schools and programs\nYour PEN (personal education number)\nYour SIN (social insurance number)\nCredit card information: number\, expiration date & security code (for submission fees)\nA list of your courses and grades (grades 11 & 12)
URL:https://www.optionssolutionsed.com/calendar/canadian-application-workshop-12/2021-11-20/
LOCATION:South Granville Office\, 3195 Granville Street\, Suite 203\, Vancouver\, BC\, V6H 3K2\, Canada
CATEGORIES:application support,University Prep
ORGANIZER;CN="Options%20Solutions%20-%20South%20Granville":MAILTO:van@optionssolutionsed.com
END:VEVENT
BEGIN:VEVENT
DTSTART;TZID=America/Vancouver:20211118T180000
DTEND;TZID=America/Vancouver:20211118T210000
DTSTAMP:20260419T221501
CREATED:20210910T213714Z
LAST-MODIFIED:20211117T181249Z
UID:9549-1637258400-1637269200@www.optionssolutionsed.com
SUMMARY:Writing for Applications
DESCRIPTION:These sessions aim to help students complete the supplemental writing portions of their post-secondary and scholarship applications. \nWriting Workshop allows students to work on the written portions of their US\, UK\, and Canadian applications (and scholarship applications\,\ntoo!) in an oversighted and productive environment. Students are able to receive assistance in all parts of the writing process: brainstorming\, drafting\, editing and finalizing their work. We accommodate students working on a variety of projects all in the same session\, and our writing coaches work personally with students on their unique pieces. \n\nStudents should have handy their list of universities and programs they are applying to for this session.\nIf you are in person\, please bring a laptop. All students need a Google account to access Google Drive and Google Classroom.\nDue to COVID protocol\, please plan to wear a mask and bring your own water bottle\, snacks and writing utensils.\nWe strongly encourage all students to attend an Intro to Canadian Supplement Writing Workshop before attending a Supplement Writing Workshop.\n\n 
URL:https://www.optionssolutionsed.com/calendar/writing-for-applications/2021-11-18/
LOCATION:Virtual Format\, Online
CATEGORIES:University Prep
ORGANIZER;CN="Options%20Solutions":MAILTO:info@optionssolutionsed.com
END:VEVENT
BEGIN:VEVENT
DTSTART;TZID=America/Vancouver:20211113T090000
DTEND;TZID=America/Vancouver:20211113T120000
DTSTAMP:20260419T221501
CREATED:20210910T213714Z
LAST-MODIFIED:20211117T181249Z
UID:9233-1636794000-1636804800@www.optionssolutionsed.com
SUMMARY:Writing for Applications
DESCRIPTION:These sessions aim to help students complete the supplemental writing portions of their post-secondary and scholarship applications. \nWriting Workshop allows students to work on the written portions of their US\, UK\, and Canadian applications (and scholarship applications\,\ntoo!) in an oversighted and productive environment. Students are able to receive assistance in all parts of the writing process: brainstorming\, drafting\, editing and finalizing their work. We accommodate students working on a variety of projects all in the same session\, and our writing coaches work personally with students on their unique pieces. \n\nStudents should have handy their list of universities and programs they are applying to for this session.\nIf you are in person\, please bring a laptop. All students need a Google account to access Google Drive and Google Classroom.\nDue to COVID protocol\, please plan to wear a mask and bring your own water bottle\, snacks and writing utensils.\nWe strongly encourage all students to attend an Intro to Canadian Supplement Writing Workshop before attending a Supplement Writing Workshop.\n\n 
URL:https://www.optionssolutionsed.com/calendar/writing-for-applications/2021-11-13/
LOCATION:Virtual Format\, Online
CATEGORIES:University Prep
ORGANIZER;CN="Options%20Solutions":MAILTO:info@optionssolutionsed.com
END:VEVENT
BEGIN:VEVENT
DTSTART;TZID=America/Vancouver:20211106T120000
DTEND;TZID=America/Vancouver:20211106T150000
DTSTAMP:20260419T221501
CREATED:20210910T221731Z
LAST-MODIFIED:20210910T221731Z
UID:9265-1636200000-1636210800@www.optionssolutionsed.com
SUMMARY:Canadian Application Workshop
DESCRIPTION:The application process can be complicated and confusing.\nThese sessions are designed for students who want assistance completing their Canadian post-secondary applications in a constructive and supportive environment. Our educational consultants will lead students through completing the application process step-by-step and answer any questions that arise along the way. \nPlease bring to each session: \n\nA laptop computer\nYour finalized list of post-secondary schools and programs\nYour PEN (personal education number)\nYour SIN (social insurance number)\nCredit card information: number\, expiration date & security code (for submission fees)\nA list of your courses and grades (grades 11 & 12)
URL:https://www.optionssolutionsed.com/calendar/canadian-application-workshop-12/2021-11-06/
LOCATION:South Granville Office\, 3195 Granville Street\, Suite 203\, Vancouver\, BC\, V6H 3K2\, Canada
CATEGORIES:application support,University Prep
ORGANIZER;CN="Options%20Solutions%20-%20South%20Granville":MAILTO:van@optionssolutionsed.com
END:VEVENT
BEGIN:VEVENT
DTSTART;TZID=America/Vancouver:20211030T090000
DTEND;TZID=America/Vancouver:20211030T120000
DTSTAMP:20260419T221501
CREATED:20210910T213714Z
LAST-MODIFIED:20211117T181249Z
UID:9228-1635584400-1635595200@www.optionssolutionsed.com
SUMMARY:Writing for Applications
DESCRIPTION:These sessions aim to help students complete the supplemental writing portions of their post-secondary and scholarship applications. \nWriting Workshop allows students to work on the written portions of their US\, UK\, and Canadian applications (and scholarship applications\,\ntoo!) in an oversighted and productive environment. Students are able to receive assistance in all parts of the writing process: brainstorming\, drafting\, editing and finalizing their work. We accommodate students working on a variety of projects all in the same session\, and our writing coaches work personally with students on their unique pieces. \n\nStudents should have handy their list of universities and programs they are applying to for this session.\nIf you are in person\, please bring a laptop. All students need a Google account to access Google Drive and Google Classroom.\nDue to COVID protocol\, please plan to wear a mask and bring your own water bottle\, snacks and writing utensils.\nWe strongly encourage all students to attend an Intro to Canadian Supplement Writing Workshop before attending a Supplement Writing Workshop.\n\n 
URL:https://www.optionssolutionsed.com/calendar/writing-for-applications/2021-10-30/
LOCATION:Virtual Format\, Online
CATEGORIES:University Prep
ORGANIZER;CN="Options%20Solutions":MAILTO:info@optionssolutionsed.com
END:VEVENT
BEGIN:VEVENT
DTSTART;TZID=America/Vancouver:20211022T090000
DTEND;TZID=America/Vancouver:20211022T120000
DTSTAMP:20260419T221501
CREATED:20210910T221731Z
LAST-MODIFIED:20210910T221731Z
UID:9264-1634893200-1634904000@www.optionssolutionsed.com
SUMMARY:Canadian Application Workshop
DESCRIPTION:The application process can be complicated and confusing.\nThese sessions are designed for students who want assistance completing their Canadian post-secondary applications in a constructive and supportive environment. Our educational consultants will lead students through completing the application process step-by-step and answer any questions that arise along the way. \nPlease bring to each session: \n\nA laptop computer\nYour finalized list of post-secondary schools and programs\nYour PEN (personal education number)\nYour SIN (social insurance number)\nCredit card information: number\, expiration date & security code (for submission fees)\nA list of your courses and grades (grades 11 & 12)
URL:https://www.optionssolutionsed.com/calendar/canadian-application-workshop-12/2021-10-22/
LOCATION:South Granville Office\, 3195 Granville Street\, Suite 203\, Vancouver\, BC\, V6H 3K2\, Canada
CATEGORIES:application support,University Prep
ORGANIZER;CN="Options%20Solutions%20-%20South%20Granville":MAILTO:van@optionssolutionsed.com
END:VEVENT
BEGIN:VEVENT
DTSTART;TZID=America/Vancouver:20211022T090000
DTEND;TZID=America/Vancouver:20211022T120000
DTSTAMP:20260419T221501
CREATED:20210910T213714Z
LAST-MODIFIED:20211117T181248Z
UID:9227-1634893200-1634904000@www.optionssolutionsed.com
SUMMARY:Writing for Applications
DESCRIPTION:These sessions aim to help students complete the supplemental writing portions of their post-secondary and scholarship applications. \nWriting Workshop allows students to work on the written portions of their US\, UK\, and Canadian applications (and scholarship applications\,\ntoo!) in an oversighted and productive environment. Students are able to receive assistance in all parts of the writing process: brainstorming\, drafting\, editing and finalizing their work. We accommodate students working on a variety of projects all in the same session\, and our writing coaches work personally with students on their unique pieces. \n\nStudents should have handy their list of universities and programs they are applying to for this session.\nIf you are in person\, please bring a laptop. All students need a Google account to access Google Drive and Google Classroom.\nDue to COVID protocol\, please plan to wear a mask and bring your own water bottle\, snacks and writing utensils.\nWe strongly encourage all students to attend an Intro to Canadian Supplement Writing Workshop before attending a Supplement Writing Workshop.\n\n 
URL:https://www.optionssolutionsed.com/calendar/writing-for-applications/2021-10-22/
LOCATION:Virtual Format\, Online
CATEGORIES:University Prep
ORGANIZER;CN="Options%20Solutions":MAILTO:info@optionssolutionsed.com
END:VEVENT
BEGIN:VEVENT
DTSTART;TZID=America/Vancouver:20211016T090000
DTEND;TZID=America/Vancouver:20211016T120000
DTSTAMP:20260419T221501
CREATED:20210910T221731Z
LAST-MODIFIED:20210910T221731Z
UID:9262-1634374800-1634385600@www.optionssolutionsed.com
SUMMARY:Canadian Application Workshop
DESCRIPTION:The application process can be complicated and confusing.\nThese sessions are designed for students who want assistance completing their Canadian post-secondary applications in a constructive and supportive environment. Our educational consultants will lead students through completing the application process step-by-step and answer any questions that arise along the way. \nPlease bring to each session: \n\nA laptop computer\nYour finalized list of post-secondary schools and programs\nYour PEN (personal education number)\nYour SIN (social insurance number)\nCredit card information: number\, expiration date & security code (for submission fees)\nA list of your courses and grades (grades 11 & 12)
URL:https://www.optionssolutionsed.com/calendar/canadian-application-workshop-12/2021-10-16/
LOCATION:South Granville Office\, 3195 Granville Street\, Suite 203\, Vancouver\, BC\, V6H 3K2\, Canada
CATEGORIES:application support,University Prep
ORGANIZER;CN="Options%20Solutions%20-%20South%20Granville":MAILTO:van@optionssolutionsed.com
END:VEVENT
BEGIN:VEVENT
DTSTART;TZID=America/Vancouver:20210925T090000
DTEND;TZID=America/Vancouver:20210925T120000
DTSTAMP:20260419T221501
CREATED:20210910T213714Z
LAST-MODIFIED:20211117T181248Z
UID:9225-1632560400-1632571200@www.optionssolutionsed.com
SUMMARY:Writing for Applications
DESCRIPTION:These sessions aim to help students complete the supplemental writing portions of their post-secondary and scholarship applications. \nWriting Workshop allows students to work on the written portions of their US\, UK\, and Canadian applications (and scholarship applications\,\ntoo!) in an oversighted and productive environment. Students are able to receive assistance in all parts of the writing process: brainstorming\, drafting\, editing and finalizing their work. We accommodate students working on a variety of projects all in the same session\, and our writing coaches work personally with students on their unique pieces. \n\nStudents should have handy their list of universities and programs they are applying to for this session.\nIf you are in person\, please bring a laptop. All students need a Google account to access Google Drive and Google Classroom.\nDue to COVID protocol\, please plan to wear a mask and bring your own water bottle\, snacks and writing utensils.\nWe strongly encourage all students to attend an Intro to Canadian Supplement Writing Workshop before attending a Supplement Writing Workshop.\n\n 
URL:https://www.optionssolutionsed.com/calendar/writing-for-applications/2021-09-25/
LOCATION:Virtual Format\, Online
CATEGORIES:University Prep
ORGANIZER;CN="Options%20Solutions":MAILTO:info@optionssolutionsed.com
END:VEVENT
END:VCALENDAR