BEGIN:VCALENDAR
VERSION:2.0
PRODID:-//Options Solutions Educational Consultants - ECPv6.0.12//NONSGML v1.0//EN
CALSCALE:GREGORIAN
METHOD:PUBLISH
X-WR-CALNAME:Options Solutions Educational Consultants
X-ORIGINAL-URL:https://www.optionssolutionsed.com
X-WR-CALDESC:Events for Options Solutions Educational Consultants
REFRESH-INTERVAL;VALUE=DURATION:PT1H
X-Robots-Tag:noindex
X-PUBLISHED-TTL:PT1H
BEGIN:VTIMEZONE
TZID:America/Vancouver
BEGIN:DAYLIGHT
TZOFFSETFROM:-0800
TZOFFSETTO:-0700
TZNAME:PDT
DTSTART:20210314T100000
END:DAYLIGHT
BEGIN:STANDARD
TZOFFSETFROM:-0700
TZOFFSETTO:-0800
TZNAME:PST
DTSTART:20211107T090000
END:STANDARD
BEGIN:DAYLIGHT
TZOFFSETFROM:-0800
TZOFFSETTO:-0700
TZNAME:PDT
DTSTART:20220313T100000
END:DAYLIGHT
BEGIN:STANDARD
TZOFFSETFROM:-0700
TZOFFSETTO:-0800
TZNAME:PST
DTSTART:20221106T090000
END:STANDARD
END:VTIMEZONE
BEGIN:VEVENT
DTSTART;TZID=America/Vancouver:20211030T130000
DTEND;TZID=America/Vancouver:20211030T160000
DTSTAMP:20260419T220452
CREATED:20210910T222012Z
LAST-MODIFIED:20211028T183142Z
UID:9267-1635598800-1635609600@www.optionssolutionsed.com
SUMMARY:Canadian Application Workshop
DESCRIPTION:The application process can be complicated and confusing.\nThese sessions are designed for students who want assistance completing their Canadian post-secondary applications in a constructive and supportive environment. Our educational consultants will lead students through completing the application process step-by-step and answer any questions that arise along the way. \nPlease bring to each session: \n\nA laptop computer\nYour finalized list of post-secondary schools and programs\nYour PEN (personal education number)\nYour SIN (social insurance number)\nCredit card information: number\, expiration date & security code (for submission fees)\nA list of your courses and grades (grades 11 & 12)
URL:https://www.optionssolutionsed.com/calendar/canadian-application-workshop-13/2021-10-30/
LOCATION:West Vancouver Office\, 1549 Marine Drive\, Suite 303\, West Vancouver\, BC\, V7V 1H9\, Canada
CATEGORIES:application support,University Prep
ORGANIZER;CN="Options%20Solutions%20-%20West%20Vancouver":MAILTO:westvan@optionssolutionsed.com
END:VEVENT
BEGIN:VEVENT
DTSTART;TZID=America/Vancouver:20211103T173000
DTEND;TZID=America/Vancouver:20211103T203000
DTSTAMP:20260419T220452
CREATED:20210910T222012Z
LAST-MODIFIED:20210910T222012Z
UID:9470-1635960600-1635971400@www.optionssolutionsed.com
SUMMARY:Canadian Application Workshop
DESCRIPTION:The application process can be complicated and confusing.\nThese sessions are designed for students who want assistance completing their Canadian post-secondary applications in a constructive and supportive environment. Our educational consultants will lead students through completing the application process step-by-step and answer any questions that arise along the way. \nPlease bring to each session: \n\nA laptop computer\nYour finalized list of post-secondary schools and programs\nYour PEN (personal education number)\nYour SIN (social insurance number)\nCredit card information: number\, expiration date & security code (for submission fees)\nA list of your courses and grades (grades 11 & 12)
URL:https://www.optionssolutionsed.com/calendar/canadian-application-workshop-13/2021-11-03/
LOCATION:West Vancouver Office\, 1549 Marine Drive\, Suite 303\, West Vancouver\, BC\, V7V 1H9\, Canada
CATEGORIES:application support,University Prep
ORGANIZER;CN="Options%20Solutions%20-%20West%20Vancouver":MAILTO:westvan@optionssolutionsed.com
END:VEVENT
BEGIN:VEVENT
DTSTART;TZID=America/Vancouver:20211204T090000
DTEND;TZID=America/Vancouver:20211204T120000
DTSTAMP:20260419T220453
CREATED:20210910T222012Z
LAST-MODIFIED:20211028T183142Z
UID:9269-1638608400-1638619200@www.optionssolutionsed.com
SUMMARY:Canadian Application Workshop
DESCRIPTION:The application process can be complicated and confusing.\nThese sessions are designed for students who want assistance completing their Canadian post-secondary applications in a constructive and supportive environment. Our educational consultants will lead students through completing the application process step-by-step and answer any questions that arise along the way. \nPlease bring to each session: \n\nA laptop computer\nYour finalized list of post-secondary schools and programs\nYour PEN (personal education number)\nYour SIN (social insurance number)\nCredit card information: number\, expiration date & security code (for submission fees)\nA list of your courses and grades (grades 11 & 12)
URL:https://www.optionssolutionsed.com/calendar/canadian-application-workshop-13/2021-12-04/
LOCATION:West Vancouver Office\, 1549 Marine Drive\, Suite 303\, West Vancouver\, BC\, V7V 1H9\, Canada
CATEGORIES:application support,University Prep
ORGANIZER;CN="Options%20Solutions%20-%20West%20Vancouver":MAILTO:westvan@optionssolutionsed.com
END:VEVENT
BEGIN:VEVENT
DTSTART;TZID=America/Vancouver:20220202T180000
DTEND;TZID=America/Vancouver:20220202T200000
DTSTAMP:20260419T220453
CREATED:20211211T183652Z
LAST-MODIFIED:20211211T183652Z
UID:9658-1643824800-1643832000@www.optionssolutionsed.com
SUMMARY:Course Planning 101
DESCRIPTION:This two-hour workshop is designed to help grade 10 and 11 students and their parents prepare for 2022-2023 course planning. Options Solutions president Melinda Giampietro will walk students through the process of course selection. \nThe workshop will cover… \n\nAn overview of the trends in post-secondary education.\nBC Ministry requirements for graduation.\nThe requirements for various academic majors (Engineering\, Science\,\nKinesiology\, Business\, Arts\, etc).\nUsable admission courses versus non-usable admission courses.\nHow requirements vary by province.\nHow to keep as many doors open as possible and what to do if you don’t know what you want to study.\nThe myths of course planning (ex. Do I need French 12 or Calculus 12?).\nSetting up a foundation for academic success at university\, not just “getting in”.\nHow is course selection different if I am interested in attending an institution in the US or the UK?\nShould I take AP\, IB\, or honours courses? Should I do French Immersion?\n\nThe session will be interactive and dynamic. There will be a course simulation as well as a thorough question and answer\nperiod. Students will leave with a clearer understanding of university requirements and what courses they need for post-secondary school admission. \n 
URL:https://www.optionssolutionsed.com/calendar/course-planning-101-2/
LOCATION:Virtual Format\, Online
CATEGORIES:event,University Prep
ORGANIZER;CN="Options%20Solutions":MAILTO:info@optionssolutionsed.com
END:VEVENT
BEGIN:VEVENT
DTSTART;TZID=America/Vancouver:20220314T100000
DTEND;TZID=America/Vancouver:20220316T120000
DTSTAMP:20260419T220453
CREATED:20211211T191400Z
LAST-MODIFIED:20211211T191400Z
UID:9686-1647252000-1647432000@www.optionssolutionsed.com
SUMMARY:Canadian Admissions Boot Camp
DESCRIPTION:This three-day intensive preparation will help students understand and tackle the Canadian admissions process. The goal of this boot camp is to relieve the stress students feel about the application process and to get a head start. \nTopics will include: \n\nComprehensive overview of the Canadian admissions process\nIntroduction to university or college – choosing a major\, minor\, or concentration\nFinding a field of study & matching a field of study to the best post-secondary options\nExploration of the curriculum covered in expected major\nFactors to consider when choosing a university (location\, size\, class size\, access to services\, etc.)\nIntroduction to essay writing and supplement applications\nExtra-curricular summary\nGenerating individualized timelines\nGrade 11 and 12 academic goal setting\n\n 
URL:https://www.optionssolutionsed.com/calendar/canadian-admissions-boot-camp-4/
LOCATION:Virtual Format\, Online
CATEGORIES:University Prep,University Prep
ORGANIZER;CN="Options%20Solutions":MAILTO:info@optionssolutionsed.com
END:VEVENT
BEGIN:VEVENT
DTSTART;TZID=America/Vancouver:20220507T090000
DTEND;TZID=America/Vancouver:20220507T100000
DTSTAMP:20260419T220453
CREATED:20220325T235500Z
LAST-MODIFIED:20220326T003342Z
UID:10072-1651914000-1651917600@www.optionssolutionsed.com
SUMMARY:Why UK? Presentation
DESCRIPTION:With the opportunity to gain a bachelor’s degree in just three years while gaining international experience valued by employers\, the UK is becoming an increasingly popular destination for students from Canada and around the world.  Join us to learn more at our Why UK? presentation featuring Sarah Jamieson\, Regional Officer for the University of Warwick. The presentation will aim to cover: \n\nKey features of UK university study\nCost of attendance and funding\nHow to apply\nAcademic requirements\nStand out personal statements\nHow to find the ‘best-fit’ UK university for you\n\nThis session will include a brief presentation with ample time for Q&A.  If you’re keen to learn more about UK university study\, navigating choices\, and submitting a stand-out application to a highly selective UK university\, this is the session for you!
URL:https://www.optionssolutionsed.com/calendar/why-uk-presentation/
LOCATION:Virtual Format\, Online
CATEGORIES:University Prep,University Prep
ORGANIZER;CN="Options%20Solutions":MAILTO:info@optionssolutionsed.com
END:VEVENT
END:VCALENDAR