BEGIN:VCALENDAR
VERSION:2.0
PRODID:-//Options Solutions Educational Consultants - ECPv6.0.12//NONSGML v1.0//EN
CALSCALE:GREGORIAN
METHOD:PUBLISH
X-WR-CALNAME:Options Solutions Educational Consultants
X-ORIGINAL-URL:https://www.optionssolutionsed.com
X-WR-CALDESC:Events for Options Solutions Educational Consultants
REFRESH-INTERVAL;VALUE=DURATION:PT1H
X-Robots-Tag:noindex
X-PUBLISHED-TTL:PT1H
BEGIN:VTIMEZONE
TZID:America/Vancouver
BEGIN:DAYLIGHT
TZOFFSETFROM:-0800
TZOFFSETTO:-0700
TZNAME:PDT
DTSTART:20210314T100000
END:DAYLIGHT
BEGIN:STANDARD
TZOFFSETFROM:-0700
TZOFFSETTO:-0800
TZNAME:PST
DTSTART:20211107T090000
END:STANDARD
END:VTIMEZONE
BEGIN:VEVENT
DTSTART;TZID=America/Vancouver:20210609T180000
DTEND;TZID=America/Vancouver:20210609T200000
DTSTAMP:20260422T082230
CREATED:20210114T212643Z
LAST-MODIFIED:20210114T212643Z
UID:8057-1623261600-1623268800@www.optionssolutionsed.com
SUMMARY:ACT/SAT Weekly Prep Sessions
DESCRIPTION:On-going classes prepare students for the ACT and/or SAT by teaching test structure and test-taking strategy. At the same time\, students learn skills that translate into success at school in reading and writing. Students can attend each session or pick and choose the sessions they need. Content is unique for each session and is never repeated. \n  \nHow is test prep at Options different?\nTest prep at Options is unique because it combines test preparation with the teaching of fundamental academic skills. With many years of experience\, Options instructors ensure that students understand the higher-level reading\, writing and math skills that will prepare them for the ACT and SAT\, but will also help them succeed in high school and beyond. Options doesn’t just teach “test-taking tricks” like other test prep organizations. Instead\, students receive a strong grounding in how the test works and strategies for attaining a high score\, combined with an opportunity to increase their overall academic performance. \n  \n*All workshops will be held virtually online via GoToMeeting on Wednesday evenings from 6 pm to 8 pm
URL:https://www.optionssolutionsed.com/calendar/act-sat-weekly-prep-sessions/2021-06-09/
LOCATION:Virtual Format\, Online
CATEGORIES:ACT prep,standardized exam prep,workshop
ORGANIZER;CN="Options%20Solutions":MAILTO:info@optionssolutionsed.com
END:VEVENT
BEGIN:VEVENT
DTSTART;TZID=America/Vancouver:20210602T180000
DTEND;TZID=America/Vancouver:20210602T200000
DTSTAMP:20260422T082230
CREATED:20210114T212643Z
LAST-MODIFIED:20210114T212643Z
UID:8056-1622656800-1622664000@www.optionssolutionsed.com
SUMMARY:ACT/SAT Weekly Prep Sessions
DESCRIPTION:On-going classes prepare students for the ACT and/or SAT by teaching test structure and test-taking strategy. At the same time\, students learn skills that translate into success at school in reading and writing. Students can attend each session or pick and choose the sessions they need. Content is unique for each session and is never repeated. \n  \nHow is test prep at Options different?\nTest prep at Options is unique because it combines test preparation with the teaching of fundamental academic skills. With many years of experience\, Options instructors ensure that students understand the higher-level reading\, writing and math skills that will prepare them for the ACT and SAT\, but will also help them succeed in high school and beyond. Options doesn’t just teach “test-taking tricks” like other test prep organizations. Instead\, students receive a strong grounding in how the test works and strategies for attaining a high score\, combined with an opportunity to increase their overall academic performance. \n  \n*All workshops will be held virtually online via GoToMeeting on Wednesday evenings from 6 pm to 8 pm
URL:https://www.optionssolutionsed.com/calendar/act-sat-weekly-prep-sessions/2021-06-02/
LOCATION:Virtual Format\, Online
CATEGORIES:ACT prep,standardized exam prep,workshop
ORGANIZER;CN="Options%20Solutions":MAILTO:info@optionssolutionsed.com
END:VEVENT
BEGIN:VEVENT
DTSTART;TZID=America/Vancouver:20210526T180000
DTEND;TZID=America/Vancouver:20210526T200000
DTSTAMP:20260422T082230
CREATED:20210114T212643Z
LAST-MODIFIED:20210114T212643Z
UID:8055-1622052000-1622059200@www.optionssolutionsed.com
SUMMARY:ACT/SAT Weekly Prep Sessions
DESCRIPTION:On-going classes prepare students for the ACT and/or SAT by teaching test structure and test-taking strategy. At the same time\, students learn skills that translate into success at school in reading and writing. Students can attend each session or pick and choose the sessions they need. Content is unique for each session and is never repeated. \n  \nHow is test prep at Options different?\nTest prep at Options is unique because it combines test preparation with the teaching of fundamental academic skills. With many years of experience\, Options instructors ensure that students understand the higher-level reading\, writing and math skills that will prepare them for the ACT and SAT\, but will also help them succeed in high school and beyond. Options doesn’t just teach “test-taking tricks” like other test prep organizations. Instead\, students receive a strong grounding in how the test works and strategies for attaining a high score\, combined with an opportunity to increase their overall academic performance. \n  \n*All workshops will be held virtually online via GoToMeeting on Wednesday evenings from 6 pm to 8 pm
URL:https://www.optionssolutionsed.com/calendar/act-sat-weekly-prep-sessions/2021-05-26/
LOCATION:Virtual Format\, Online
CATEGORIES:ACT prep,standardized exam prep,workshop
ORGANIZER;CN="Options%20Solutions":MAILTO:info@optionssolutionsed.com
END:VEVENT
BEGIN:VEVENT
DTSTART;TZID=America/Vancouver:20210519T180000
DTEND;TZID=America/Vancouver:20210519T200000
DTSTAMP:20260422T082230
CREATED:20210114T212643Z
LAST-MODIFIED:20210114T212643Z
UID:8054-1621447200-1621454400@www.optionssolutionsed.com
SUMMARY:ACT/SAT Weekly Prep Sessions
DESCRIPTION:On-going classes prepare students for the ACT and/or SAT by teaching test structure and test-taking strategy. At the same time\, students learn skills that translate into success at school in reading and writing. Students can attend each session or pick and choose the sessions they need. Content is unique for each session and is never repeated. \n  \nHow is test prep at Options different?\nTest prep at Options is unique because it combines test preparation with the teaching of fundamental academic skills. With many years of experience\, Options instructors ensure that students understand the higher-level reading\, writing and math skills that will prepare them for the ACT and SAT\, but will also help them succeed in high school and beyond. Options doesn’t just teach “test-taking tricks” like other test prep organizations. Instead\, students receive a strong grounding in how the test works and strategies for attaining a high score\, combined with an opportunity to increase their overall academic performance. \n  \n*All workshops will be held virtually online via GoToMeeting on Wednesday evenings from 6 pm to 8 pm
URL:https://www.optionssolutionsed.com/calendar/act-sat-weekly-prep-sessions/2021-05-19/
LOCATION:Virtual Format\, Online
CATEGORIES:ACT prep,standardized exam prep,workshop
ORGANIZER;CN="Options%20Solutions":MAILTO:info@optionssolutionsed.com
END:VEVENT
BEGIN:VEVENT
DTSTART;TZID=America/Vancouver:20210512T180000
DTEND;TZID=America/Vancouver:20210512T200000
DTSTAMP:20260422T082230
CREATED:20210114T212643Z
LAST-MODIFIED:20210114T212643Z
UID:8053-1620842400-1620849600@www.optionssolutionsed.com
SUMMARY:ACT/SAT Weekly Prep Sessions
DESCRIPTION:On-going classes prepare students for the ACT and/or SAT by teaching test structure and test-taking strategy. At the same time\, students learn skills that translate into success at school in reading and writing. Students can attend each session or pick and choose the sessions they need. Content is unique for each session and is never repeated. \n  \nHow is test prep at Options different?\nTest prep at Options is unique because it combines test preparation with the teaching of fundamental academic skills. With many years of experience\, Options instructors ensure that students understand the higher-level reading\, writing and math skills that will prepare them for the ACT and SAT\, but will also help them succeed in high school and beyond. Options doesn’t just teach “test-taking tricks” like other test prep organizations. Instead\, students receive a strong grounding in how the test works and strategies for attaining a high score\, combined with an opportunity to increase their overall academic performance. \n  \n*All workshops will be held virtually online via GoToMeeting on Wednesday evenings from 6 pm to 8 pm
URL:https://www.optionssolutionsed.com/calendar/act-sat-weekly-prep-sessions/2021-05-12/
LOCATION:Virtual Format\, Online
CATEGORIES:ACT prep,standardized exam prep,workshop
ORGANIZER;CN="Options%20Solutions":MAILTO:info@optionssolutionsed.com
END:VEVENT
BEGIN:VEVENT
DTSTART;TZID=America/Vancouver:20210505T180000
DTEND;TZID=America/Vancouver:20210505T200000
DTSTAMP:20260422T082230
CREATED:20210114T212643Z
LAST-MODIFIED:20210114T212643Z
UID:8052-1620237600-1620244800@www.optionssolutionsed.com
SUMMARY:ACT/SAT Weekly Prep Sessions
DESCRIPTION:On-going classes prepare students for the ACT and/or SAT by teaching test structure and test-taking strategy. At the same time\, students learn skills that translate into success at school in reading and writing. Students can attend each session or pick and choose the sessions they need. Content is unique for each session and is never repeated. \n  \nHow is test prep at Options different?\nTest prep at Options is unique because it combines test preparation with the teaching of fundamental academic skills. With many years of experience\, Options instructors ensure that students understand the higher-level reading\, writing and math skills that will prepare them for the ACT and SAT\, but will also help them succeed in high school and beyond. Options doesn’t just teach “test-taking tricks” like other test prep organizations. Instead\, students receive a strong grounding in how the test works and strategies for attaining a high score\, combined with an opportunity to increase their overall academic performance. \n  \n*All workshops will be held virtually online via GoToMeeting on Wednesday evenings from 6 pm to 8 pm
URL:https://www.optionssolutionsed.com/calendar/act-sat-weekly-prep-sessions/2021-05-05/
LOCATION:Virtual Format\, Online
CATEGORIES:ACT prep,standardized exam prep,workshop
ORGANIZER;CN="Options%20Solutions":MAILTO:info@optionssolutionsed.com
END:VEVENT
BEGIN:VEVENT
DTSTART;TZID=America/Vancouver:20210428T180000
DTEND;TZID=America/Vancouver:20210428T200000
DTSTAMP:20260422T082230
CREATED:20210114T212643Z
LAST-MODIFIED:20210114T212643Z
UID:8051-1619632800-1619640000@www.optionssolutionsed.com
SUMMARY:ACT/SAT Weekly Prep Sessions
DESCRIPTION:On-going classes prepare students for the ACT and/or SAT by teaching test structure and test-taking strategy. At the same time\, students learn skills that translate into success at school in reading and writing. Students can attend each session or pick and choose the sessions they need. Content is unique for each session and is never repeated. \n  \nHow is test prep at Options different?\nTest prep at Options is unique because it combines test preparation with the teaching of fundamental academic skills. With many years of experience\, Options instructors ensure that students understand the higher-level reading\, writing and math skills that will prepare them for the ACT and SAT\, but will also help them succeed in high school and beyond. Options doesn’t just teach “test-taking tricks” like other test prep organizations. Instead\, students receive a strong grounding in how the test works and strategies for attaining a high score\, combined with an opportunity to increase their overall academic performance. \n  \n*All workshops will be held virtually online via GoToMeeting on Wednesday evenings from 6 pm to 8 pm
URL:https://www.optionssolutionsed.com/calendar/act-sat-weekly-prep-sessions/2021-04-28/
LOCATION:Virtual Format\, Online
CATEGORIES:ACT prep,standardized exam prep,workshop
ORGANIZER;CN="Options%20Solutions":MAILTO:info@optionssolutionsed.com
END:VEVENT
BEGIN:VEVENT
DTSTART;TZID=America/Vancouver:20210421T180000
DTEND;TZID=America/Vancouver:20210421T200000
DTSTAMP:20260422T082230
CREATED:20210114T212643Z
LAST-MODIFIED:20210114T212643Z
UID:8050-1619028000-1619035200@www.optionssolutionsed.com
SUMMARY:ACT/SAT Weekly Prep Sessions
DESCRIPTION:On-going classes prepare students for the ACT and/or SAT by teaching test structure and test-taking strategy. At the same time\, students learn skills that translate into success at school in reading and writing. Students can attend each session or pick and choose the sessions they need. Content is unique for each session and is never repeated. \n  \nHow is test prep at Options different?\nTest prep at Options is unique because it combines test preparation with the teaching of fundamental academic skills. With many years of experience\, Options instructors ensure that students understand the higher-level reading\, writing and math skills that will prepare them for the ACT and SAT\, but will also help them succeed in high school and beyond. Options doesn’t just teach “test-taking tricks” like other test prep organizations. Instead\, students receive a strong grounding in how the test works and strategies for attaining a high score\, combined with an opportunity to increase their overall academic performance. \n  \n*All workshops will be held virtually online via GoToMeeting on Wednesday evenings from 6 pm to 8 pm
URL:https://www.optionssolutionsed.com/calendar/act-sat-weekly-prep-sessions/2021-04-21/
LOCATION:Virtual Format\, Online
CATEGORIES:ACT prep,standardized exam prep,workshop
ORGANIZER;CN="Options%20Solutions":MAILTO:info@optionssolutionsed.com
END:VEVENT
BEGIN:VEVENT
DTSTART;TZID=America/Vancouver:20210414T180000
DTEND;TZID=America/Vancouver:20210414T200000
DTSTAMP:20260422T082230
CREATED:20210114T212643Z
LAST-MODIFIED:20210114T212643Z
UID:8049-1618423200-1618430400@www.optionssolutionsed.com
SUMMARY:ACT/SAT Weekly Prep Sessions
DESCRIPTION:On-going classes prepare students for the ACT and/or SAT by teaching test structure and test-taking strategy. At the same time\, students learn skills that translate into success at school in reading and writing. Students can attend each session or pick and choose the sessions they need. Content is unique for each session and is never repeated. \n  \nHow is test prep at Options different?\nTest prep at Options is unique because it combines test preparation with the teaching of fundamental academic skills. With many years of experience\, Options instructors ensure that students understand the higher-level reading\, writing and math skills that will prepare them for the ACT and SAT\, but will also help them succeed in high school and beyond. Options doesn’t just teach “test-taking tricks” like other test prep organizations. Instead\, students receive a strong grounding in how the test works and strategies for attaining a high score\, combined with an opportunity to increase their overall academic performance. \n  \n*All workshops will be held virtually online via GoToMeeting on Wednesday evenings from 6 pm to 8 pm
URL:https://www.optionssolutionsed.com/calendar/act-sat-weekly-prep-sessions/2021-04-14/
LOCATION:Virtual Format\, Online
CATEGORIES:ACT prep,standardized exam prep,workshop
ORGANIZER;CN="Options%20Solutions":MAILTO:info@optionssolutionsed.com
END:VEVENT
BEGIN:VEVENT
DTSTART;TZID=America/Vancouver:20210407T180000
DTEND;TZID=America/Vancouver:20210407T200000
DTSTAMP:20260422T082230
CREATED:20210114T212643Z
LAST-MODIFIED:20210114T212643Z
UID:8048-1617818400-1617825600@www.optionssolutionsed.com
SUMMARY:ACT/SAT Weekly Prep Sessions
DESCRIPTION:On-going classes prepare students for the ACT and/or SAT by teaching test structure and test-taking strategy. At the same time\, students learn skills that translate into success at school in reading and writing. Students can attend each session or pick and choose the sessions they need. Content is unique for each session and is never repeated. \n  \nHow is test prep at Options different?\nTest prep at Options is unique because it combines test preparation with the teaching of fundamental academic skills. With many years of experience\, Options instructors ensure that students understand the higher-level reading\, writing and math skills that will prepare them for the ACT and SAT\, but will also help them succeed in high school and beyond. Options doesn’t just teach “test-taking tricks” like other test prep organizations. Instead\, students receive a strong grounding in how the test works and strategies for attaining a high score\, combined with an opportunity to increase their overall academic performance. \n  \n*All workshops will be held virtually online via GoToMeeting on Wednesday evenings from 6 pm to 8 pm
URL:https://www.optionssolutionsed.com/calendar/act-sat-weekly-prep-sessions/2021-04-07/
LOCATION:Virtual Format\, Online
CATEGORIES:ACT prep,standardized exam prep,workshop
ORGANIZER;CN="Options%20Solutions":MAILTO:info@optionssolutionsed.com
END:VEVENT
BEGIN:VEVENT
DTSTART;TZID=America/Vancouver:20210331T180000
DTEND;TZID=America/Vancouver:20210331T200000
DTSTAMP:20260422T082230
CREATED:20210114T212643Z
LAST-MODIFIED:20210114T212643Z
UID:8047-1617213600-1617220800@www.optionssolutionsed.com
SUMMARY:ACT/SAT Weekly Prep Sessions
DESCRIPTION:On-going classes prepare students for the ACT and/or SAT by teaching test structure and test-taking strategy. At the same time\, students learn skills that translate into success at school in reading and writing. Students can attend each session or pick and choose the sessions they need. Content is unique for each session and is never repeated. \n  \nHow is test prep at Options different?\nTest prep at Options is unique because it combines test preparation with the teaching of fundamental academic skills. With many years of experience\, Options instructors ensure that students understand the higher-level reading\, writing and math skills that will prepare them for the ACT and SAT\, but will also help them succeed in high school and beyond. Options doesn’t just teach “test-taking tricks” like other test prep organizations. Instead\, students receive a strong grounding in how the test works and strategies for attaining a high score\, combined with an opportunity to increase their overall academic performance. \n  \n*All workshops will be held virtually online via GoToMeeting on Wednesday evenings from 6 pm to 8 pm
URL:https://www.optionssolutionsed.com/calendar/act-sat-weekly-prep-sessions/2021-03-31/
LOCATION:Virtual Format\, Online
CATEGORIES:ACT prep,standardized exam prep,workshop
ORGANIZER;CN="Options%20Solutions":MAILTO:info@optionssolutionsed.com
END:VEVENT
BEGIN:VEVENT
DTSTART;TZID=America/Vancouver:20210310T180000
DTEND;TZID=America/Vancouver:20210310T200000
DTSTAMP:20260422T082230
CREATED:20210114T212643Z
LAST-MODIFIED:20210114T212643Z
UID:8046-1615399200-1615406400@www.optionssolutionsed.com
SUMMARY:ACT/SAT Weekly Prep Sessions
DESCRIPTION:On-going classes prepare students for the ACT and/or SAT by teaching test structure and test-taking strategy. At the same time\, students learn skills that translate into success at school in reading and writing. Students can attend each session or pick and choose the sessions they need. Content is unique for each session and is never repeated. \n  \nHow is test prep at Options different?\nTest prep at Options is unique because it combines test preparation with the teaching of fundamental academic skills. With many years of experience\, Options instructors ensure that students understand the higher-level reading\, writing and math skills that will prepare them for the ACT and SAT\, but will also help them succeed in high school and beyond. Options doesn’t just teach “test-taking tricks” like other test prep organizations. Instead\, students receive a strong grounding in how the test works and strategies for attaining a high score\, combined with an opportunity to increase their overall academic performance. \n  \n*All workshops will be held virtually online via GoToMeeting on Wednesday evenings from 6 pm to 8 pm
URL:https://www.optionssolutionsed.com/calendar/act-sat-weekly-prep-sessions/2021-03-10/
LOCATION:Virtual Format\, Online
CATEGORIES:ACT prep,standardized exam prep,workshop
ORGANIZER;CN="Options%20Solutions":MAILTO:info@optionssolutionsed.com
END:VEVENT
BEGIN:VEVENT
DTSTART;TZID=America/Vancouver:20210303T180000
DTEND;TZID=America/Vancouver:20210303T200000
DTSTAMP:20260422T082230
CREATED:20210114T212643Z
LAST-MODIFIED:20210114T212643Z
UID:8045-1614794400-1614801600@www.optionssolutionsed.com
SUMMARY:ACT/SAT Weekly Prep Sessions
DESCRIPTION:On-going classes prepare students for the ACT and/or SAT by teaching test structure and test-taking strategy. At the same time\, students learn skills that translate into success at school in reading and writing. Students can attend each session or pick and choose the sessions they need. Content is unique for each session and is never repeated. \n  \nHow is test prep at Options different?\nTest prep at Options is unique because it combines test preparation with the teaching of fundamental academic skills. With many years of experience\, Options instructors ensure that students understand the higher-level reading\, writing and math skills that will prepare them for the ACT and SAT\, but will also help them succeed in high school and beyond. Options doesn’t just teach “test-taking tricks” like other test prep organizations. Instead\, students receive a strong grounding in how the test works and strategies for attaining a high score\, combined with an opportunity to increase their overall academic performance. \n  \n*All workshops will be held virtually online via GoToMeeting on Wednesday evenings from 6 pm to 8 pm
URL:https://www.optionssolutionsed.com/calendar/act-sat-weekly-prep-sessions/2021-03-03/
LOCATION:Virtual Format\, Online
CATEGORIES:ACT prep,standardized exam prep,workshop
ORGANIZER;CN="Options%20Solutions":MAILTO:info@optionssolutionsed.com
END:VEVENT
BEGIN:VEVENT
DTSTART;TZID=America/Vancouver:20210224T180000
DTEND;TZID=America/Vancouver:20210224T200000
DTSTAMP:20260422T082230
CREATED:20210114T212643Z
LAST-MODIFIED:20210114T212643Z
UID:8044-1614189600-1614196800@www.optionssolutionsed.com
SUMMARY:ACT/SAT Weekly Prep Sessions
DESCRIPTION:On-going classes prepare students for the ACT and/or SAT by teaching test structure and test-taking strategy. At the same time\, students learn skills that translate into success at school in reading and writing. Students can attend each session or pick and choose the sessions they need. Content is unique for each session and is never repeated. \n  \nHow is test prep at Options different?\nTest prep at Options is unique because it combines test preparation with the teaching of fundamental academic skills. With many years of experience\, Options instructors ensure that students understand the higher-level reading\, writing and math skills that will prepare them for the ACT and SAT\, but will also help them succeed in high school and beyond. Options doesn’t just teach “test-taking tricks” like other test prep organizations. Instead\, students receive a strong grounding in how the test works and strategies for attaining a high score\, combined with an opportunity to increase their overall academic performance. \n  \n*All workshops will be held virtually online via GoToMeeting on Wednesday evenings from 6 pm to 8 pm
URL:https://www.optionssolutionsed.com/calendar/act-sat-weekly-prep-sessions/2021-02-24/
LOCATION:Virtual Format\, Online
CATEGORIES:ACT prep,standardized exam prep,workshop
ORGANIZER;CN="Options%20Solutions":MAILTO:info@optionssolutionsed.com
END:VEVENT
BEGIN:VEVENT
DTSTART;TZID=America/Vancouver:20210217T180000
DTEND;TZID=America/Vancouver:20210217T200000
DTSTAMP:20260422T082230
CREATED:20210114T212643Z
LAST-MODIFIED:20210114T212643Z
UID:8043-1613584800-1613592000@www.optionssolutionsed.com
SUMMARY:ACT/SAT Weekly Prep Sessions
DESCRIPTION:On-going classes prepare students for the ACT and/or SAT by teaching test structure and test-taking strategy. At the same time\, students learn skills that translate into success at school in reading and writing. Students can attend each session or pick and choose the sessions they need. Content is unique for each session and is never repeated. \n  \nHow is test prep at Options different?\nTest prep at Options is unique because it combines test preparation with the teaching of fundamental academic skills. With many years of experience\, Options instructors ensure that students understand the higher-level reading\, writing and math skills that will prepare them for the ACT and SAT\, but will also help them succeed in high school and beyond. Options doesn’t just teach “test-taking tricks” like other test prep organizations. Instead\, students receive a strong grounding in how the test works and strategies for attaining a high score\, combined with an opportunity to increase their overall academic performance. \n  \n*All workshops will be held virtually online via GoToMeeting on Wednesday evenings from 6 pm to 8 pm
URL:https://www.optionssolutionsed.com/calendar/act-sat-weekly-prep-sessions/2021-02-17/
LOCATION:Virtual Format\, Online
CATEGORIES:ACT prep,standardized exam prep,workshop
ORGANIZER;CN="Options%20Solutions":MAILTO:info@optionssolutionsed.com
END:VEVENT
BEGIN:VEVENT
DTSTART;TZID=America/Vancouver:20210210T180000
DTEND;TZID=America/Vancouver:20210210T200000
DTSTAMP:20260422T082230
CREATED:20210114T212643Z
LAST-MODIFIED:20210114T212643Z
UID:8042-1612980000-1612987200@www.optionssolutionsed.com
SUMMARY:ACT/SAT Weekly Prep Sessions
DESCRIPTION:On-going classes prepare students for the ACT and/or SAT by teaching test structure and test-taking strategy. At the same time\, students learn skills that translate into success at school in reading and writing. Students can attend each session or pick and choose the sessions they need. Content is unique for each session and is never repeated. \n  \nHow is test prep at Options different?\nTest prep at Options is unique because it combines test preparation with the teaching of fundamental academic skills. With many years of experience\, Options instructors ensure that students understand the higher-level reading\, writing and math skills that will prepare them for the ACT and SAT\, but will also help them succeed in high school and beyond. Options doesn’t just teach “test-taking tricks” like other test prep organizations. Instead\, students receive a strong grounding in how the test works and strategies for attaining a high score\, combined with an opportunity to increase their overall academic performance. \n  \n*All workshops will be held virtually online via GoToMeeting on Wednesday evenings from 6 pm to 8 pm
URL:https://www.optionssolutionsed.com/calendar/act-sat-weekly-prep-sessions/2021-02-10/
LOCATION:Virtual Format\, Online
CATEGORIES:ACT prep,standardized exam prep,workshop
ORGANIZER;CN="Options%20Solutions":MAILTO:info@optionssolutionsed.com
END:VEVENT
BEGIN:VEVENT
DTSTART;TZID=America/Vancouver:20210203T180000
DTEND;TZID=America/Vancouver:20210203T200000
DTSTAMP:20260422T082230
CREATED:20210114T212643Z
LAST-MODIFIED:20210114T212643Z
UID:8038-1612375200-1612382400@www.optionssolutionsed.com
SUMMARY:ACT/SAT Weekly Prep Sessions
DESCRIPTION:On-going classes prepare students for the ACT and/or SAT by teaching test structure and test-taking strategy. At the same time\, students learn skills that translate into success at school in reading and writing. Students can attend each session or pick and choose the sessions they need. Content is unique for each session and is never repeated. \n  \nHow is test prep at Options different?\nTest prep at Options is unique because it combines test preparation with the teaching of fundamental academic skills. With many years of experience\, Options instructors ensure that students understand the higher-level reading\, writing and math skills that will prepare them for the ACT and SAT\, but will also help them succeed in high school and beyond. Options doesn’t just teach “test-taking tricks” like other test prep organizations. Instead\, students receive a strong grounding in how the test works and strategies for attaining a high score\, combined with an opportunity to increase their overall academic performance. \n  \n*All workshops will be held virtually online via GoToMeeting on Wednesday evenings from 6 pm to 8 pm
URL:https://www.optionssolutionsed.com/calendar/act-sat-weekly-prep-sessions/2021-02-03/
LOCATION:Virtual Format\, Online
CATEGORIES:ACT prep,standardized exam prep,workshop
ORGANIZER;CN="Options%20Solutions":MAILTO:info@optionssolutionsed.com
END:VEVENT
END:VCALENDAR