BEGIN:VCALENDAR
VERSION:2.0
PRODID:-//Options Solutions Educational Consultants - ECPv6.0.12//NONSGML v1.0//EN
CALSCALE:GREGORIAN
METHOD:PUBLISH
X-ORIGINAL-URL:https://www.optionssolutionsed.com
X-WR-CALDESC:Events for Options Solutions Educational Consultants
REFRESH-INTERVAL;VALUE=DURATION:PT1H
X-Robots-Tag:noindex
X-PUBLISHED-TTL:PT1H
BEGIN:VTIMEZONE
TZID:America/Vancouver
BEGIN:DAYLIGHT
TZOFFSETFROM:-0800
TZOFFSETTO:-0700
TZNAME:PDT
DTSTART:20200308T100000
END:DAYLIGHT
BEGIN:STANDARD
TZOFFSETFROM:-0700
TZOFFSETTO:-0800
TZNAME:PST
DTSTART:20201101T090000
END:STANDARD
END:VTIMEZONE
BEGIN:VEVENT
DTSTART;TZID=America/Vancouver:20200524T100000
DTEND;TZID=America/Vancouver:20200524T140000
DTSTAMP:20260421T083211
CREATED:20190828T222820Z
LAST-MODIFIED:20200121T193245Z
UID:4539-1590314400-1590328800@www.optionssolutionsed.com
SUMMARY:ACT/SAT Prep Programs - Mock Exam Sittings
DESCRIPTION:Test prep at Options is unique because it combines test preparation with teaching fundamental academic skills. With many years of experience\, Options instructors ensure that students understand the higher-level reading\, writing and math skills that will prepare them for the ACT and SAT\, but will also help them succeed in high school and beyond. Options doesn’t just teach “test-taking tricks” like other test prep organizations. Instead\, students receive a strong grounding in how the test works and strategies for attaining a high score\, combined with an opportunity to increase their overall academic performance. \nThis option includes a 4-hour exam\, exam marking (including customized essay marking)\, and a 3-hour debrief. Each student is given a cover sheet to help them understand their successes and their areas needing\nimprovement. In order to get an accurate estimate of a student’s abilities\, we use only officially released ACT and SAT exams. This is the best “bang for your buck” prep wise\, and the most crucial element of prep. If the exam\ndates do not work for you\, please contact the office to pick up a copy of the exam. \nDebrief (ACT only) – May 28th\, 5-8 pm
URL:https://www.optionssolutionsed.com/calendar/act-sat-prep-programs-mock-exam-sittings-2/
LOCATION:West Vancouver Office\, 1549 Marine Drive\, Suite 303\, West Vancouver\, BC\, V7V 1H9\, Canada
CATEGORIES:ACT prep,workshop
ORGANIZER;CN="Options%20Solutions%20-%20West%20Vancouver":MAILTO:westvan@optionssolutionsed.com
END:VEVENT
END:VCALENDAR