BEGIN:VCALENDAR
VERSION:2.0
PRODID:-//Options Solutions Educational Consultants - ECPv6.0.12//NONSGML v1.0//EN
CALSCALE:GREGORIAN
METHOD:PUBLISH
X-WR-CALNAME:Options Solutions Educational Consultants
X-ORIGINAL-URL:https://www.optionssolutionsed.com
X-WR-CALDESC:Events for Options Solutions Educational Consultants
REFRESH-INTERVAL;VALUE=DURATION:PT1H
X-Robots-Tag:noindex
X-PUBLISHED-TTL:PT1H
BEGIN:VTIMEZONE
TZID:America/Vancouver
BEGIN:DAYLIGHT
TZOFFSETFROM:-0800
TZOFFSETTO:-0700
TZNAME:PDT
DTSTART:20200308T100000
END:DAYLIGHT
BEGIN:STANDARD
TZOFFSETFROM:-0700
TZOFFSETTO:-0800
TZNAME:PST
DTSTART:20201101T090000
END:STANDARD
END:VTIMEZONE
BEGIN:VEVENT
DTSTART;TZID=America/Vancouver:20200505T120000
DTEND;TZID=America/Vancouver:20200505T140000
DTSTAMP:20260421T082947
CREATED:20200427T194933Z
LAST-MODIFIED:20210225T212002Z
UID:6237-1588680000-1588687200@www.optionssolutionsed.com
SUMMARY:Intro to University Level Writing
DESCRIPTION:Grade 12 students heading to post-secondary programs in the social sciences\, humanities\, arts\, sciences\, and business will be expected to have the skills necessary to write at the university level next year. However\, the quarter-system and other alternative school schedules have made it difficult for students to develop and hone these skills. \nThis course prepares students bound for post-secondary for the challenges of writing for different disciplines at the university level. It discusses strategies for successful research\, critical thinking\, and writing while giving students a chance to practice these skills and receive individualized feedback. Materials will be provided. \nWhat do students have to say?\n“I liked that the instructor provided good examples for us to fully understand what was expected of us and that there was the perfect balance of freedom to pick a topic but enough structure to help actually get started.” \n**The session will be interactive and dynamic. Students are encouraged to attendall sessions as each day will build on the next.
URL:https://www.optionssolutionsed.com/calendar/intro-to-university-level-writing/2020-05-05/
LOCATION:Virtual Format\, Online
CATEGORIES:english workshop,workshop
ORGANIZER;CN="Options%20Solutions":MAILTO:info@optionssolutionsed.com
END:VEVENT
END:VCALENDAR